BEGIN:VCALENDAR
VERSION:2.0
PRODID:-//Trinity Presbyterian - ECPv6.15.20//NONSGML v1.0//EN
CALSCALE:GREGORIAN
METHOD:PUBLISH
X-ORIGINAL-URL:https://trinityboardmills.org
X-WR-CALDESC:Events for Trinity Presbyterian
REFRESH-INTERVAL;VALUE=DURATION:PT1H
X-Robots-Tag:noindex
X-PUBLISHED-TTL:PT1H
BEGIN:VTIMEZONE
TZID:UTC
BEGIN:STANDARD
TZOFFSETFROM:+0000
TZOFFSETTO:+0000
TZNAME:UTC
DTSTART:20230101T000000
END:STANDARD
END:VTIMEZONE
BEGIN:VEVENT
DTSTART;TZID=UTC:20240324T113000
DTEND;TZID=UTC:20240324T123000
DTSTAMP:20260420T172226
CREATED:20221031T111539Z
LAST-MODIFIED:20241217T123050Z
UID:10002969-1711279800-1711283400@trinityboardmills.org
SUMMARY:Morning Worship
DESCRIPTION:
URL:https://trinityboardmills.org/event/morning-service/2024-03-24/
LOCATION:Church Building\, BT27 6UP\, United Kingdom
CATEGORIES:Sunday
ATTACH;FMTTYPE=image/jpeg:https://trinityboardmills.org/wp-content/uploads/2022/11/SundayEV.jpg
GEO:54.466933365694;-5.9199475846608
END:VEVENT
BEGIN:VEVENT
DTSTART;TZID=UTC:20240324T114500
DTEND;TZID=UTC:20240324T123000
DTSTAMP:20260420T172226
CREATED:20221031T111350Z
LAST-MODIFIED:20241217T123139Z
UID:10007386-1711280700-1711283400@trinityboardmills.org
SUMMARY:Sunday CE & Creche
DESCRIPTION:
URL:https://trinityboardmills.org/event/sundayce/2024-03-24/
LOCATION:Kerr Room
CATEGORIES:Children
ATTACH;FMTTYPE=image/jpeg:https://trinityboardmills.org/wp-content/uploads/2022/11/SundayCEEV.jpg
END:VEVENT
BEGIN:VEVENT
DTSTART;TZID=UTC:20240324T183000
DTEND;TZID=UTC:20240324T200000
DTSTAMP:20260420T172226
CREATED:20240319T110755Z
LAST-MODIFIED:20240319T110755Z
UID:10010593-1711305000-1711310400@trinityboardmills.org
SUMMARY:BB 70th Anniversary Praise Service
DESCRIPTION:1st Boardmills BB 70th Anniversary Praise Service and Supper \nTo help us offer praise and thankfulness we will be led by our own Ellis Hanna and the BB Centenary Male Voice Choir. \nSupper following the service in McKee Hall. \n 
URL:https://trinityboardmills.org/event/bb-praise-service/
LOCATION:McKee Hall\, BT27 6UP\, United Kingdom
CATEGORIES:BB Featured,Youth & Children
ATTACH;FMTTYPE=image/jpeg:https://trinityboardmills.org/wp-content/uploads/2022/11/BBLogoEV.jpg
GEO:54.466933365694;-5.9199475846608
END:VEVENT
END:VCALENDAR