BEGIN:VCALENDAR
VERSION:2.0
PRODID:-//Trinity Presbyterian - ECPv6.15.20//NONSGML v1.0//EN
CALSCALE:GREGORIAN
METHOD:PUBLISH
X-WR-CALNAME:Trinity Presbyterian
X-ORIGINAL-URL:https://trinityboardmills.org
X-WR-CALDESC:Events for Trinity Presbyterian
REFRESH-INTERVAL;VALUE=DURATION:PT1H
X-Robots-Tag:noindex
X-PUBLISHED-TTL:PT1H
BEGIN:VTIMEZONE
TZID:UTC
BEGIN:STANDARD
TZOFFSETFROM:+0000
TZOFFSETTO:+0000
TZNAME:UTC
DTSTART:20240101T000000
END:STANDARD
END:VTIMEZONE
BEGIN:VEVENT
DTSTART;TZID=UTC:20250410T193000
DTEND;TZID=UTC:20250410T210000
DTSTAMP:20260421T090336
CREATED:20240202T143614Z
LAST-MODIFIED:20250407T072538Z
UID:10010083-1744313400-1744318800@trinityboardmills.org
SUMMARY:Trinity Women - Mission Partners
DESCRIPTION:On Thursday 10th at 7.30pm Trinity Women will meet in Killaney Hall (please note change of venue). We will be hearing from the women involved in mission that we support from this congregation. All women are very welcome.
URL:https://trinityboardmills.org/event/trinity-women-mission-partner/
LOCATION:Killaney Hall
CATEGORIES:Adults,Ladies
ATTACH;FMTTYPE=image/jpeg:https://trinityboardmills.org/wp-content/uploads/2022/10/TrinityWomen.jpg
GEO:54.4662977;-5.9128505
END:VEVENT
END:VCALENDAR