BEGIN:VCALENDAR
VERSION:2.0
PRODID:-//Trinity Presbyterian - ECPv6.15.20//NONSGML v1.0//EN
CALSCALE:GREGORIAN
METHOD:PUBLISH
X-WR-CALNAME:Trinity Presbyterian
X-ORIGINAL-URL:https://trinityboardmills.org
X-WR-CALDESC:Events for Trinity Presbyterian
REFRESH-INTERVAL;VALUE=DURATION:PT1H
X-Robots-Tag:noindex
X-PUBLISHED-TTL:PT1H
BEGIN:VTIMEZONE
TZID:UTC
BEGIN:STANDARD
TZOFFSETFROM:+0000
TZOFFSETTO:+0000
TZNAME:UTC
DTSTART:20240101T000000
END:STANDARD
END:VTIMEZONE
BEGIN:VEVENT
DTSTART;TZID=UTC:20250619T183000
DTEND;TZID=UTC:20250619T203000
DTSTAMP:20260420T202034
CREATED:20250513T075255Z
LAST-MODIFIED:20250513T075336Z
UID:10015088-1750357800-1750365000@trinityboardmills.org
SUMMARY:Holiday Bible Club
DESCRIPTION:Holiday Bible Club is back! \nFrom 6.30pm – 8.30 pm  Monday 16th to Thursday 19th June and all primary age children P1-P7 are so welcome to join us in the McKee Hall at Trinity Pres. Boardmills. \nThe theme this year is Amazing Treasures and there will be Games\, Quizzes\, Memory Verses\, Songs and Bible Lessons.\nCome along and join in the fun – and you can bring a friend too! \nRegistration will be on the night.
URL:https://trinityboardmills.org/event/hbc-2/2025-06-19/
LOCATION:McKee Hall\, BT27 6UP\, United Kingdom
CATEGORIES:Children,Featured
ATTACH;FMTTYPE=image/png:https://trinityboardmills.org/wp-content/uploads/2023/06/HBC2025_Image.png
GEO:54.466933365694;-5.9199475846608
END:VEVENT
END:VCALENDAR