BEGIN:VCALENDAR
VERSION:2.0
PRODID:-//Trinity Presbyterian - ECPv6.15.20//NONSGML v1.0//EN
CALSCALE:GREGORIAN
METHOD:PUBLISH
X-WR-CALNAME:Trinity Presbyterian
X-ORIGINAL-URL:https://trinityboardmills.org
X-WR-CALDESC:Events for Trinity Presbyterian
REFRESH-INTERVAL;VALUE=DURATION:PT1H
X-Robots-Tag:noindex
X-PUBLISHED-TTL:PT1H
BEGIN:VTIMEZONE
TZID:UTC
BEGIN:STANDARD
TZOFFSETFROM:+0000
TZOFFSETTO:+0000
TZNAME:UTC
DTSTART:20240101T000000
END:STANDARD
END:VTIMEZONE
BEGIN:VEVENT
DTSTART;TZID=UTC:20250804T100000
DTEND;TZID=UTC:20250804T111500
DTSTAMP:20260420T081931
CREATED:20241211T083050Z
LAST-MODIFIED:20250820T094703Z
UID:10017061-1754301600-1754306100@trinityboardmills.org
SUMMARY:Trinity Tots
DESCRIPTION:
URL:https://trinityboardmills.org/event/trinity-tots-2-2-2/2025-08-04/
LOCATION:Killaney Hall
CATEGORIES:Trinity Tots Featured
ATTACH;FMTTYPE=image/jpeg:https://trinityboardmills.org/wp-content/uploads/2022/11/CrecheEV.jpg
GEO:54.4662977;-5.9128505
END:VEVENT
BEGIN:VEVENT
DTSTART;TZID=UTC:20250804T133000
DTEND;TZID=UTC:20250804T160000
DTSTAMP:20260420T081931
CREATED:20250617T081809Z
LAST-MODIFIED:20250617T081951Z
UID:10010895-1754314200-1754323200@trinityboardmills.org
SUMMARY:Trinity Summer Camp
DESCRIPTION:We are excited for a full week of fun\, games and stories at Trinity Summer Camp! This year during the day we are running our primary school aged programme\, all children must have completed P1. There will be football\, games\, craft and bible stories. \nhttps://trinityboardmills.org/tsc/
URL:https://trinityboardmills.org/event/tsc-primary/2025-08-04/
LOCATION:Killaney Hall
CATEGORIES:Children,Featured,Youth & Children
ATTACH;FMTTYPE=image/jpeg:https://trinityboardmills.org/wp-content/uploads/2023/08/TSC-Wed-23-24.jpg
GEO:54.4662977;-5.9128505
END:VEVENT
BEGIN:VEVENT
DTSTART;TZID=UTC:20250804T190000
DTEND;TZID=UTC:20250804T200000
DTSTAMP:20260420T081931
CREATED:20250518T081603Z
LAST-MODIFIED:20250820T084234Z
UID:10015099-1754334000-1754337600@trinityboardmills.org
SUMMARY:Summer Walking Group
DESCRIPTION:This is open to all and it will be happening on every Monday evening commencing 19th May and should take around an hour. Set your own pace of course – and do as much or as little as you wish. Come along\, enjoy the walk and the chat!
URL:https://trinityboardmills.org/event/summer-walking-group-2/2025-08-04/
LOCATION:McKee Hall\, BT27 6UP\, United Kingdom
ATTACH;FMTTYPE=image/png:https://trinityboardmills.org/wp-content/uploads/2022/10/boxAsset-3.png
GEO:54.466933365694;-5.9199475846608
END:VEVENT
BEGIN:VEVENT
DTSTART;TZID=UTC:20250804T190000
DTEND;TZID=UTC:20250804T210000
DTSTAMP:20260420T081931
CREATED:20250617T082224Z
LAST-MODIFIED:20250620T080638Z
UID:10010905-1754334000-1754341200@trinityboardmills.org
SUMMARY:Trinity Summer Camp - Teens
DESCRIPTION:This year we are BACK with a full programme for teens (including those going into Year 8) in the evening of our summer camp. Join us for 5 evenings of fun\, games and craic!! This event is open for all teens so grab a friend and come on down! \nhttps://trinityboardmills.org/tsc/
URL:https://trinityboardmills.org/event/tsc-teens/2025-08-04/
LOCATION:Killaney Hall
CATEGORIES:Featured,Youth & Children
ATTACH;FMTTYPE=image/jpeg:https://trinityboardmills.org/wp-content/uploads/2023/08/TSC-Wed-23-55.jpg
GEO:54.4662977;-5.9128505
END:VEVENT
END:VCALENDAR