BEGIN:VCALENDAR
VERSION:2.0
PRODID:-//Trinity Presbyterian - ECPv6.15.20//NONSGML v1.0//EN
CALSCALE:GREGORIAN
METHOD:PUBLISH
X-WR-CALNAME:Trinity Presbyterian
X-ORIGINAL-URL:https://trinityboardmills.org
X-WR-CALDESC:Events for Trinity Presbyterian
REFRESH-INTERVAL;VALUE=DURATION:PT1H
X-Robots-Tag:noindex
X-PUBLISHED-TTL:PT1H
BEGIN:VTIMEZONE
TZID:UTC
BEGIN:STANDARD
TZOFFSETFROM:+0000
TZOFFSETTO:+0000
TZNAME:UTC
DTSTART:20240101T000000
END:STANDARD
END:VTIMEZONE
BEGIN:VEVENT
DTSTART;TZID=UTC:20251024T180000
DTEND;TZID=UTC:20251024T193000
DTSTAMP:20260420T035046
CREATED:20231009T100403Z
LAST-MODIFIED:20251009T111938Z
UID:10009730-1761328800-1761334200@trinityboardmills.org
SUMMARY:Light Party
DESCRIPTION:Our annual Light Party is back this year!! We would love for you and your family to join us on Friday 24th October from 6pm – 7.30pm at Killaney Hall and Football Pitch. This is sure to be a great night for all the family with indoor crafts and games for little ones as well as fireworks\, entertainment and food for all ages. \nFor catering purposes we ask that you complete the registration form below: \nCLICK HERE Light Party 2025 Registration Form \nWe would love to see you and your family at this special event and hope you can join us. \nIf you have any queries\, please feel free to get in touch.
URL:https://trinityboardmills.org/event/light-party/
LOCATION:Killaney Hall
CATEGORIES:Featured
ATTACH;FMTTYPE=image/jpeg:https://trinityboardmills.org/wp-content/uploads/2022/11/LightshowBanner.jpg
GEO:54.4662977;-5.9128505
END:VEVENT
END:VCALENDAR