BEGIN:VCALENDAR
VERSION:2.0
PRODID:-//Trinity Presbyterian - ECPv6.15.20//NONSGML v1.0//EN
CALSCALE:GREGORIAN
METHOD:PUBLISH
X-WR-CALNAME:Trinity Presbyterian
X-ORIGINAL-URL:https://trinityboardmills.org
X-WR-CALDESC:Events for Trinity Presbyterian
REFRESH-INTERVAL;VALUE=DURATION:PT1H
X-Robots-Tag:noindex
X-PUBLISHED-TTL:PT1H
BEGIN:VTIMEZONE
TZID:UTC
BEGIN:STANDARD
TZOFFSETFROM:+0000
TZOFFSETTO:+0000
TZNAME:UTC
DTSTART:20240101T000000
END:STANDARD
END:VTIMEZONE
BEGIN:VEVENT
DTSTART;TZID=UTC:20251130T113000
DTEND;TZID=UTC:20251130T123000
DTSTAMP:20260420T035039
CREATED:20221031T111539Z
LAST-MODIFIED:20241217T123050Z
UID:10003057-1764502200-1764505800@trinityboardmills.org
SUMMARY:Morning Worship
DESCRIPTION:
URL:https://trinityboardmills.org/event/morning-service/2025-11-30/
LOCATION:Church Building\, BT27 6UP\, United Kingdom
CATEGORIES:Sunday
ATTACH;FMTTYPE=image/jpeg:https://trinityboardmills.org/wp-content/uploads/2022/11/SundayEV.jpg
GEO:54.466933365694;-5.9199475846608
END:VEVENT
BEGIN:VEVENT
DTSTART;TZID=UTC:20251130T114500
DTEND;TZID=UTC:20251130T123000
DTSTAMP:20260420T035039
CREATED:20221031T111350Z
LAST-MODIFIED:20241217T123139Z
UID:10007474-1764503100-1764505800@trinityboardmills.org
SUMMARY:Sunday CE & Creche
DESCRIPTION:
URL:https://trinityboardmills.org/event/sundayce/2025-11-30/
LOCATION:Kerr Room
CATEGORIES:Children
ATTACH;FMTTYPE=image/jpeg:https://trinityboardmills.org/wp-content/uploads/2022/11/SundayCEEV.jpg
END:VEVENT
BEGIN:VEVENT
DTSTART;TZID=UTC:20251130T183000
DTEND;TZID=UTC:20251130T191500
DTSTAMP:20260420T035039
CREATED:20240903T080905Z
LAST-MODIFIED:20260405T092003Z
UID:10010969-1764527400-1764530100@trinityboardmills.org
SUMMARY:Evening Service
DESCRIPTION:
URL:https://trinityboardmills.org/event/evening-service-2/2025-11-30/
LOCATION:Church Building\, BT27 6UP\, United Kingdom
CATEGORIES:Sunday
ATTACH;FMTTYPE=image/jpeg:https://trinityboardmills.org/wp-content/uploads/2022/11/EveningServiceEV.jpg
GEO:54.466933365694;-5.9199475846608
END:VEVENT
BEGIN:VEVENT
DTSTART;TZID=UTC:20251130T183000
DTEND;TZID=UTC:20251130T193000
DTSTAMP:20260420T035039
CREATED:20241117T093752Z
LAST-MODIFIED:20251123T094015Z
UID:10013997-1764527400-1764531000@trinityboardmills.org
SUMMARY:Winter Worship
DESCRIPTION:Worship led by our Trinity Praise Band with guest speaker Jonny Rogers \nYF afterwards in McKee Hall at 7:30
URL:https://trinityboardmills.org/event/winter-worship/
LOCATION:Church Building\, BT27 6UP\, United Kingdom
CATEGORIES:Adults,Featured,Sunday,YF Featured,Youth & Children
ATTACH;FMTTYPE=image/png:https://trinityboardmills.org/wp-content/uploads/2024/11/WINTER-WORSHIP-2025.png
GEO:54.466933365694;-5.9199475846608
END:VEVENT
BEGIN:VEVENT
DTSTART;TZID=UTC:20251130T193000
DTEND;TZID=UTC:20251130T210000
DTSTAMP:20260420T035039
CREATED:20250820T091244Z
LAST-MODIFIED:20250820T091307Z
UID:10016259-1764531000-1764536400@trinityboardmills.org
SUMMARY:Youth Fellowship
DESCRIPTION:
URL:https://trinityboardmills.org/event/youth-fellowship-5-2-3/2025-11-30/
LOCATION:McKee Hall\, BT27 6UP\, United Kingdom
CATEGORIES:YF Featured
ATTACH;FMTTYPE=image/jpeg:https://trinityboardmills.org/wp-content/uploads/2022/11/BreakfastITBEV.jpg
GEO:54.466933365694;-5.9199475846608
END:VEVENT
END:VCALENDAR