BEGIN:VCALENDAR
VERSION:2.0
PRODID:-//Trinity Presbyterian - ECPv6.15.20//NONSGML v1.0//EN
CALSCALE:GREGORIAN
METHOD:PUBLISH
X-ORIGINAL-URL:https://trinityboardmills.org
X-WR-CALDESC:Events for Trinity Presbyterian
REFRESH-INTERVAL;VALUE=DURATION:PT1H
X-Robots-Tag:noindex
X-PUBLISHED-TTL:PT1H
BEGIN:VTIMEZONE
TZID:UTC
BEGIN:STANDARD
TZOFFSETFROM:+0000
TZOFFSETTO:+0000
TZNAME:UTC
DTSTART:20240101T000000
END:STANDARD
END:VTIMEZONE
BEGIN:VEVENT
DTSTART;TZID=UTC:20251208T100000
DTEND;TZID=UTC:20251208T111500
DTSTAMP:20260419T214638
CREATED:20250820T095000Z
LAST-MODIFIED:20251201T113833Z
UID:10014666-1765188000-1765192500@trinityboardmills.org
SUMMARY:Trinity Tots
DESCRIPTION:
URL:https://trinityboardmills.org/event/trinity-tots-2-2-2-2/2025-12-08/
LOCATION:Killaney Hall
CATEGORIES:Trinity Tots Featured
ATTACH;FMTTYPE=image/jpeg:https://trinityboardmills.org/wp-content/uploads/2022/11/CrecheEV.jpg
GEO:54.4662977;-5.9128505
END:VEVENT
BEGIN:VEVENT
DTSTART;TZID=UTC:20251208T180000
DTEND;TZID=UTC:20251208T191500
DTSTAMP:20260419T214638
CREATED:20250820T083650Z
LAST-MODIFIED:20260316T184356Z
UID:10015425-1765216800-1765221300@trinityboardmills.org
SUMMARY:BB Anchor Boys
DESCRIPTION:
URL:https://trinityboardmills.org/event/bb-anchor-boys-2-2-2/2025-12-08/
LOCATION:Killaney Hall
CATEGORIES:BB Featured,Youth & Children
ATTACH;FMTTYPE=image/jpeg:https://trinityboardmills.org/wp-content/uploads/2022/11/BBExpEV.jpg
GEO:54.4662977;-5.9128505
END:VEVENT
BEGIN:VEVENT
DTSTART;TZID=UTC:20251208T180000
DTEND;TZID=UTC:20251208T191500
DTSTAMP:20260419T214638
CREATED:20250820T091546Z
LAST-MODIFIED:20260316T184207Z
UID:10016272-1765216800-1765221300@trinityboardmills.org
SUMMARY:GB Explorers
DESCRIPTION:
URL:https://trinityboardmills.org/event/gb-explorers-2-2-2/2025-12-08/
LOCATION:McKee Hall\, BT27 6UP\, United Kingdom
CATEGORIES:GB Featured,Youth & Children
ATTACH;FMTTYPE=image/jpeg:https://trinityboardmills.org/wp-content/uploads/2022/11/GBJuniorEV.jpg
GEO:54.466933365694;-5.9199475846608
END:VEVENT
BEGIN:VEVENT
DTSTART;TZID=UTC:20251208T190000
DTEND;TZID=UTC:20251208T203000
DTSTAMP:20260419T214638
CREATED:20250820T083746Z
LAST-MODIFIED:20260316T184325Z
UID:10015939-1765220400-1765225800@trinityboardmills.org
SUMMARY:BB Junior Section
DESCRIPTION:
URL:https://trinityboardmills.org/event/bb-junior-section-2-2-2/2025-12-08/
LOCATION:Killaney Hall
CATEGORIES:BB Featured,Youth & Children
ATTACH;FMTTYPE=image/jpeg:https://trinityboardmills.org/wp-content/uploads/2022/11/BBSQEV.jpg
GEO:54.4662977;-5.9128505
END:VEVENT
BEGIN:VEVENT
DTSTART;TZID=UTC:20251208T191500
DTEND;TZID=UTC:20251208T203000
DTSTAMP:20260419T214638
CREATED:20250820T092414Z
LAST-MODIFIED:20260316T184139Z
UID:10016529-1765221300-1765225800@trinityboardmills.org
SUMMARY:GB Junior Section
DESCRIPTION:
URL:https://trinityboardmills.org/event/gb-junior-section-2/2025-12-08/
LOCATION:McKee Hall\, BT27 6UP\, United Kingdom
CATEGORIES:GB Featured,Youth & Children
ATTACH;FMTTYPE=image/jpeg:https://trinityboardmills.org/wp-content/uploads/2022/11/GBCompEV.jpg
GEO:54.466933365694;-5.9199475846608
END:VEVENT
BEGIN:VEVENT
DTSTART;TZID=UTC:20251208T191500
DTEND;TZID=UTC:20251208T204500
DTSTAMP:20260419T214638
CREATED:20250820T092749Z
LAST-MODIFIED:20260316T184050Z
UID:10016786-1765221300-1765226700@trinityboardmills.org
SUMMARY:GB Company Section
DESCRIPTION:
URL:https://trinityboardmills.org/event/gb-company-section-2-2-2/2025-12-08/
LOCATION:McKee Hall\, BT27 6UP\, United Kingdom
CATEGORIES:GB Featured,Youth & Children
ATTACH;FMTTYPE=image/jpeg:https://trinityboardmills.org/wp-content/uploads/2022/11/GBCompEV.jpg
GEO:54.466933365694;-5.9199475846608
END:VEVENT
BEGIN:VEVENT
DTSTART;TZID=UTC:20251208T191500
DTEND;TZID=UTC:20251208T210000
DTSTAMP:20260419T214638
CREATED:20250820T083950Z
LAST-MODIFIED:20260316T184255Z
UID:10015682-1765221300-1765227600@trinityboardmills.org
SUMMARY:BB Company Section
DESCRIPTION:
URL:https://trinityboardmills.org/event/bb-company-section-2-2-2/2025-12-08/
LOCATION:Killaney Hall
CATEGORIES:BB Featured,Youth & Children
ATTACH;FMTTYPE=image/jpeg:https://trinityboardmills.org/wp-content/uploads/2022/10/BBCompanyEV.jpg
GEO:54.4662977;-5.9128505
END:VEVENT
END:VCALENDAR