BEGIN:VCALENDAR
VERSION:2.0
PRODID:-//Trinity Presbyterian - ECPv6.15.20//NONSGML v1.0//EN
CALSCALE:GREGORIAN
METHOD:PUBLISH
X-ORIGINAL-URL:https://trinityboardmills.org
X-WR-CALDESC:Events for Trinity Presbyterian
REFRESH-INTERVAL;VALUE=DURATION:PT1H
X-Robots-Tag:noindex
X-PUBLISHED-TTL:PT1H
BEGIN:VTIMEZONE
TZID:UTC
BEGIN:STANDARD
TZOFFSETFROM:+0000
TZOFFSETTO:+0000
TZNAME:UTC
DTSTART:20250101T000000
END:STANDARD
END:VTIMEZONE
BEGIN:VEVENT
DTSTART;TZID=UTC:20260320T193000
DTEND;TZID=UTC:20260320T210000
DTSTAMP:20260419T140446
CREATED:20230320T185054Z
LAST-MODIFIED:20260316T193437Z
UID:10006594-1774035000-1774040400@trinityboardmills.org
SUMMARY:GB Display
DESCRIPTION:GB Display \nFriday 20th March\n7:30-9:00 pm\nMcKee Hall \nTea and Coffee after \nPlease come and support the girls and officers \nAny donations welcome on the night.
URL:https://trinityboardmills.org/event/gb-display/
LOCATION:McKee Hall\, BT27 6UP\, United Kingdom
CATEGORIES:Featured,GB Featured,Youth & Children
ATTACH;FMTTYPE=image/jpeg:https://trinityboardmills.org/wp-content/uploads/2022/11/GBLogoEV.jpg
GEO:54.466933365694;-5.9199475846608
END:VEVENT
END:VCALENDAR