BEGIN:VCALENDAR
VERSION:2.0
PRODID:-//Trinity Presbyterian - ECPv6.15.20//NONSGML v1.0//EN
CALSCALE:GREGORIAN
METHOD:PUBLISH
X-WR-CALNAME:Trinity Presbyterian
X-ORIGINAL-URL:https://trinityboardmills.org
X-WR-CALDESC:Events for Trinity Presbyterian
REFRESH-INTERVAL;VALUE=DURATION:PT1H
X-Robots-Tag:noindex
X-PUBLISHED-TTL:PT1H
BEGIN:VTIMEZONE
TZID:UTC
BEGIN:STANDARD
TZOFFSETFROM:+0000
TZOFFSETTO:+0000
TZNAME:UTC
DTSTART:20250101T000000
END:STANDARD
END:VTIMEZONE
BEGIN:VEVENT
DTSTART;TZID=UTC:20260323T100000
DTEND;TZID=UTC:20260323T111500
DTSTAMP:20260419T124237
CREATED:20260104T141313Z
LAST-MODIFIED:20260326T092521Z
UID:10014681-1774260000-1774264500@trinityboardmills.org
SUMMARY:Trinity Tots
DESCRIPTION:
URL:https://trinityboardmills.org/event/trinity-tots-2-2-2-2-2/2026-03-23/
LOCATION:Killaney Hall
CATEGORIES:Trinity Tots Featured
ATTACH;FMTTYPE=image/jpeg:https://trinityboardmills.org/wp-content/uploads/2022/11/CrecheEV.jpg
GEO:54.4662977;-5.9128505
END:VEVENT
BEGIN:VEVENT
DTSTART;TZID=UTC:20260323T190000
DTEND;TZID=UTC:20260323T200000
DTSTAMP:20260419T124238
CREATED:20230313T211957Z
LAST-MODIFIED:20260316T183222Z
UID:10006469-1774292400-1774296000@trinityboardmills.org
SUMMARY:BB Display / Parents Night
DESCRIPTION:BB Display / Parents Evening \nMonday 23rd March\n7:00-8:00 pm\nKillaney Hall\nTea and Coffee from 6:30pm and afterwards as well \nPlease come and support the boys and officers \nAny donations welcome on the night.
URL:https://trinityboardmills.org/event/bbdisplay/
LOCATION:Killaney Hall
CATEGORIES:BB Featured,Featured,Youth & Children
ATTACH;FMTTYPE=image/jpeg:https://trinityboardmills.org/wp-content/uploads/2022/11/BBLogoEV.jpg
GEO:54.4662977;-5.9128505
END:VEVENT
END:VCALENDAR