BEGIN:VCALENDAR
VERSION:2.0
PRODID:-//Trinity Presbyterian - ECPv6.15.20//NONSGML v1.0//EN
CALSCALE:GREGORIAN
METHOD:PUBLISH
X-ORIGINAL-URL:https://trinityboardmills.org
X-WR-CALDESC:Events for Trinity Presbyterian
REFRESH-INTERVAL;VALUE=DURATION:PT1H
X-Robots-Tag:noindex
X-PUBLISHED-TTL:PT1H
BEGIN:VTIMEZONE
TZID:UTC
BEGIN:STANDARD
TZOFFSETFROM:+0000
TZOFFSETTO:+0000
TZNAME:UTC
DTSTART:20240101T000000
END:STANDARD
END:VTIMEZONE
BEGIN:VEVENT
DTSTART;TZID=UTC:20251005T114500
DTEND;TZID=UTC:20251005T123000
DTSTAMP:20260423T160745
CREATED:20221031T111350Z
LAST-MODIFIED:20241217T123139Z
UID:10007466-1759664700-1759667400@trinityboardmills.org
SUMMARY:Sunday CE & Creche
DESCRIPTION:
URL:https://trinityboardmills.org/event/sundayce/2025-10-05/
LOCATION:Kerr Room
CATEGORIES:Children
ATTACH;FMTTYPE=image/jpeg:https://trinityboardmills.org/wp-content/uploads/2022/11/SundayCEEV.jpg
END:VEVENT
BEGIN:VEVENT
DTSTART;TZID=UTC:20251012T114500
DTEND;TZID=UTC:20251012T123000
DTSTAMP:20260423T160745
CREATED:20221031T111350Z
LAST-MODIFIED:20241217T123139Z
UID:10007467-1760269500-1760272200@trinityboardmills.org
SUMMARY:Sunday CE & Creche
DESCRIPTION:
URL:https://trinityboardmills.org/event/sundayce/2025-10-12/
LOCATION:Kerr Room
CATEGORIES:Children
ATTACH;FMTTYPE=image/jpeg:https://trinityboardmills.org/wp-content/uploads/2022/11/SundayCEEV.jpg
END:VEVENT
BEGIN:VEVENT
DTSTART;TZID=UTC:20251019T114500
DTEND;TZID=UTC:20251019T123000
DTSTAMP:20260423T160745
CREATED:20221031T111350Z
LAST-MODIFIED:20241217T123139Z
UID:10007468-1760874300-1760877000@trinityboardmills.org
SUMMARY:Sunday CE & Creche
DESCRIPTION:
URL:https://trinityboardmills.org/event/sundayce/2025-10-19/
LOCATION:Kerr Room
CATEGORIES:Children
ATTACH;FMTTYPE=image/jpeg:https://trinityboardmills.org/wp-content/uploads/2022/11/SundayCEEV.jpg
END:VEVENT
BEGIN:VEVENT
DTSTART;TZID=UTC:20251026T114500
DTEND;TZID=UTC:20251026T123000
DTSTAMP:20260423T160745
CREATED:20221031T111350Z
LAST-MODIFIED:20241217T123139Z
UID:10007469-1761479100-1761481800@trinityboardmills.org
SUMMARY:Sunday CE & Creche
DESCRIPTION:
URL:https://trinityboardmills.org/event/sundayce/2025-10-26/
LOCATION:Kerr Room
CATEGORIES:Children
ATTACH;FMTTYPE=image/jpeg:https://trinityboardmills.org/wp-content/uploads/2022/11/SundayCEEV.jpg
END:VEVENT
END:VCALENDAR