BEGIN:VCALENDAR
VERSION:2.0
PRODID:-//Trinity Presbyterian - ECPv6.15.20//NONSGML v1.0//EN
CALSCALE:GREGORIAN
METHOD:PUBLISH
X-ORIGINAL-URL:https://trinityboardmills.org
X-WR-CALDESC:Events for Trinity Presbyterian
REFRESH-INTERVAL;VALUE=DURATION:PT1H
X-Robots-Tag:noindex
X-PUBLISHED-TTL:PT1H
BEGIN:VTIMEZONE
TZID:UTC
BEGIN:STANDARD
TZOFFSETFROM:+0000
TZOFFSETTO:+0000
TZNAME:UTC
DTSTART:20240101T000000
END:STANDARD
END:VTIMEZONE
BEGIN:VEVENT
DTSTART;TZID=UTC:20251130T114500
DTEND;TZID=UTC:20251130T123000
DTSTAMP:20260422T225529
CREATED:20221031T111350Z
LAST-MODIFIED:20241217T123139Z
UID:10007474-1764503100-1764505800@trinityboardmills.org
SUMMARY:Sunday CE & Creche
DESCRIPTION:
URL:https://trinityboardmills.org/event/sundayce/2025-11-30/
LOCATION:Kerr Room
CATEGORIES:Children
ATTACH;FMTTYPE=image/jpeg:https://trinityboardmills.org/wp-content/uploads/2022/11/SundayCEEV.jpg
END:VEVENT
BEGIN:VEVENT
DTSTART;TZID=UTC:20251207T114500
DTEND;TZID=UTC:20251207T123000
DTSTAMP:20260422T225529
CREATED:20221031T111350Z
LAST-MODIFIED:20241217T123139Z
UID:10007475-1765107900-1765110600@trinityboardmills.org
SUMMARY:Sunday CE & Creche
DESCRIPTION:
URL:https://trinityboardmills.org/event/sundayce/2025-12-07/
LOCATION:Kerr Room
CATEGORIES:Children
ATTACH;FMTTYPE=image/jpeg:https://trinityboardmills.org/wp-content/uploads/2022/11/SundayCEEV.jpg
END:VEVENT
BEGIN:VEVENT
DTSTART;TZID=UTC:20251214T114500
DTEND;TZID=UTC:20251214T123000
DTSTAMP:20260422T225529
CREATED:20221031T111350Z
LAST-MODIFIED:20241217T123139Z
UID:10007476-1765712700-1765715400@trinityboardmills.org
SUMMARY:Sunday CE & Creche
DESCRIPTION:
URL:https://trinityboardmills.org/event/sundayce/2025-12-14/
LOCATION:Kerr Room
CATEGORIES:Children
ATTACH;FMTTYPE=image/jpeg:https://trinityboardmills.org/wp-content/uploads/2022/11/SundayCEEV.jpg
END:VEVENT
BEGIN:VEVENT
DTSTART;TZID=UTC:20251221T114500
DTEND;TZID=UTC:20251221T123000
DTSTAMP:20260422T225529
CREATED:20221031T111350Z
LAST-MODIFIED:20241217T123139Z
UID:10007477-1766317500-1766320200@trinityboardmills.org
SUMMARY:Sunday CE & Creche
DESCRIPTION:
URL:https://trinityboardmills.org/event/sundayce/2025-12-21/
LOCATION:Kerr Room
CATEGORIES:Children
ATTACH;FMTTYPE=image/jpeg:https://trinityboardmills.org/wp-content/uploads/2022/11/SundayCEEV.jpg
END:VEVENT
BEGIN:VEVENT
DTSTART;TZID=UTC:20251228T114500
DTEND;TZID=UTC:20251228T123000
DTSTAMP:20260422T225529
CREATED:20221031T111350Z
LAST-MODIFIED:20241217T123139Z
UID:10007478-1766922300-1766925000@trinityboardmills.org
SUMMARY:Sunday CE & Creche
DESCRIPTION:
URL:https://trinityboardmills.org/event/sundayce/2025-12-28/
LOCATION:Kerr Room
CATEGORIES:Children
ATTACH;FMTTYPE=image/jpeg:https://trinityboardmills.org/wp-content/uploads/2022/11/SundayCEEV.jpg
END:VEVENT
BEGIN:VEVENT
DTSTART;TZID=UTC:20260104T114500
DTEND;TZID=UTC:20260104T123000
DTSTAMP:20260422T225529
CREATED:20221031T111350Z
LAST-MODIFIED:20241217T123139Z
UID:10007479-1767527100-1767529800@trinityboardmills.org
SUMMARY:Sunday CE & Creche
DESCRIPTION:
URL:https://trinityboardmills.org/event/sundayce/2026-01-04/
LOCATION:Kerr Room
CATEGORIES:Children
ATTACH;FMTTYPE=image/jpeg:https://trinityboardmills.org/wp-content/uploads/2022/11/SundayCEEV.jpg
END:VEVENT
BEGIN:VEVENT
DTSTART;TZID=UTC:20260111T114500
DTEND;TZID=UTC:20260111T123000
DTSTAMP:20260422T225530
CREATED:20221031T111350Z
LAST-MODIFIED:20241217T123139Z
UID:10007480-1768131900-1768134600@trinityboardmills.org
SUMMARY:Sunday CE & Creche
DESCRIPTION:
URL:https://trinityboardmills.org/event/sundayce/2026-01-11/
LOCATION:Kerr Room
CATEGORIES:Children
ATTACH;FMTTYPE=image/jpeg:https://trinityboardmills.org/wp-content/uploads/2022/11/SundayCEEV.jpg
END:VEVENT
BEGIN:VEVENT
DTSTART;TZID=UTC:20260118T114500
DTEND;TZID=UTC:20260118T123000
DTSTAMP:20260422T225530
CREATED:20221031T111350Z
LAST-MODIFIED:20241217T123139Z
UID:10007481-1768736700-1768739400@trinityboardmills.org
SUMMARY:Sunday CE & Creche
DESCRIPTION:
URL:https://trinityboardmills.org/event/sundayce/2026-01-18/
LOCATION:Kerr Room
CATEGORIES:Children
ATTACH;FMTTYPE=image/jpeg:https://trinityboardmills.org/wp-content/uploads/2022/11/SundayCEEV.jpg
END:VEVENT
BEGIN:VEVENT
DTSTART;TZID=UTC:20260125T114500
DTEND;TZID=UTC:20260125T123000
DTSTAMP:20260422T225530
CREATED:20221031T111350Z
LAST-MODIFIED:20241217T123139Z
UID:10007482-1769341500-1769344200@trinityboardmills.org
SUMMARY:Sunday CE & Creche
DESCRIPTION:
URL:https://trinityboardmills.org/event/sundayce/2026-01-25/
LOCATION:Kerr Room
CATEGORIES:Children
ATTACH;FMTTYPE=image/jpeg:https://trinityboardmills.org/wp-content/uploads/2022/11/SundayCEEV.jpg
END:VEVENT
BEGIN:VEVENT
DTSTART;TZID=UTC:20260201T114500
DTEND;TZID=UTC:20260201T123000
DTSTAMP:20260422T225530
CREATED:20221031T111350Z
LAST-MODIFIED:20241217T123139Z
UID:10007483-1769946300-1769949000@trinityboardmills.org
SUMMARY:Sunday CE & Creche
DESCRIPTION:
URL:https://trinityboardmills.org/event/sundayce/2026-02-01/
LOCATION:Kerr Room
CATEGORIES:Children
ATTACH;FMTTYPE=image/jpeg:https://trinityboardmills.org/wp-content/uploads/2022/11/SundayCEEV.jpg
END:VEVENT
BEGIN:VEVENT
DTSTART;TZID=UTC:20260208T114500
DTEND;TZID=UTC:20260208T123000
DTSTAMP:20260422T225530
CREATED:20221031T111350Z
LAST-MODIFIED:20241217T123139Z
UID:10007484-1770551100-1770553800@trinityboardmills.org
SUMMARY:Sunday CE & Creche
DESCRIPTION:
URL:https://trinityboardmills.org/event/sundayce/2026-02-08/
LOCATION:Kerr Room
CATEGORIES:Children
ATTACH;FMTTYPE=image/jpeg:https://trinityboardmills.org/wp-content/uploads/2022/11/SundayCEEV.jpg
END:VEVENT
BEGIN:VEVENT
DTSTART;TZID=UTC:20260215T114500
DTEND;TZID=UTC:20260215T123000
DTSTAMP:20260422T225530
CREATED:20221031T111350Z
LAST-MODIFIED:20241217T123139Z
UID:10007485-1771155900-1771158600@trinityboardmills.org
SUMMARY:Sunday CE & Creche
DESCRIPTION:
URL:https://trinityboardmills.org/event/sundayce/2026-02-15/
LOCATION:Kerr Room
CATEGORIES:Children
ATTACH;FMTTYPE=image/jpeg:https://trinityboardmills.org/wp-content/uploads/2022/11/SundayCEEV.jpg
END:VEVENT
BEGIN:VEVENT
DTSTART;TZID=UTC:20260222T114500
DTEND;TZID=UTC:20260222T123000
DTSTAMP:20260422T225530
CREATED:20221031T111350Z
LAST-MODIFIED:20241217T123139Z
UID:10007486-1771760700-1771763400@trinityboardmills.org
SUMMARY:Sunday CE & Creche
DESCRIPTION:
URL:https://trinityboardmills.org/event/sundayce/2026-02-22/
LOCATION:Kerr Room
CATEGORIES:Children
ATTACH;FMTTYPE=image/jpeg:https://trinityboardmills.org/wp-content/uploads/2022/11/SundayCEEV.jpg
END:VEVENT
BEGIN:VEVENT
DTSTART;TZID=UTC:20260301T114500
DTEND;TZID=UTC:20260301T123000
DTSTAMP:20260422T225530
CREATED:20221031T111350Z
LAST-MODIFIED:20241217T123139Z
UID:10007487-1772365500-1772368200@trinityboardmills.org
SUMMARY:Sunday CE & Creche
DESCRIPTION:
URL:https://trinityboardmills.org/event/sundayce/2026-03-01/
LOCATION:Kerr Room
CATEGORIES:Children
ATTACH;FMTTYPE=image/jpeg:https://trinityboardmills.org/wp-content/uploads/2022/11/SundayCEEV.jpg
END:VEVENT
BEGIN:VEVENT
DTSTART;TZID=UTC:20260308T114500
DTEND;TZID=UTC:20260308T123000
DTSTAMP:20260422T225530
CREATED:20221031T111350Z
LAST-MODIFIED:20241217T123139Z
UID:10007488-1772970300-1772973000@trinityboardmills.org
SUMMARY:Sunday CE & Creche
DESCRIPTION:
URL:https://trinityboardmills.org/event/sundayce/2026-03-08/
LOCATION:Kerr Room
CATEGORIES:Children
ATTACH;FMTTYPE=image/jpeg:https://trinityboardmills.org/wp-content/uploads/2022/11/SundayCEEV.jpg
END:VEVENT
BEGIN:VEVENT
DTSTART;TZID=UTC:20260315T114500
DTEND;TZID=UTC:20260315T123000
DTSTAMP:20260422T225530
CREATED:20221031T111350Z
LAST-MODIFIED:20241217T123139Z
UID:10007489-1773575100-1773577800@trinityboardmills.org
SUMMARY:Sunday CE & Creche
DESCRIPTION:
URL:https://trinityboardmills.org/event/sundayce/2026-03-15/
LOCATION:Kerr Room
CATEGORIES:Children
ATTACH;FMTTYPE=image/jpeg:https://trinityboardmills.org/wp-content/uploads/2022/11/SundayCEEV.jpg
END:VEVENT
BEGIN:VEVENT
DTSTART;TZID=UTC:20260322T114500
DTEND;TZID=UTC:20260322T123000
DTSTAMP:20260422T225530
CREATED:20221031T111350Z
LAST-MODIFIED:20241217T123139Z
UID:10007490-1774179900-1774182600@trinityboardmills.org
SUMMARY:Sunday CE & Creche
DESCRIPTION:
URL:https://trinityboardmills.org/event/sundayce/2026-03-22/
LOCATION:Kerr Room
CATEGORIES:Children
ATTACH;FMTTYPE=image/jpeg:https://trinityboardmills.org/wp-content/uploads/2022/11/SundayCEEV.jpg
END:VEVENT
BEGIN:VEVENT
DTSTART;TZID=UTC:20260329T114500
DTEND;TZID=UTC:20260329T123000
DTSTAMP:20260422T225530
CREATED:20221031T111350Z
LAST-MODIFIED:20241217T123139Z
UID:10007491-1774784700-1774787400@trinityboardmills.org
SUMMARY:Sunday CE & Creche
DESCRIPTION:
URL:https://trinityboardmills.org/event/sundayce/2026-03-29/
LOCATION:Kerr Room
CATEGORIES:Children
ATTACH;FMTTYPE=image/jpeg:https://trinityboardmills.org/wp-content/uploads/2022/11/SundayCEEV.jpg
END:VEVENT
BEGIN:VEVENT
DTSTART;TZID=UTC:20260405T114500
DTEND;TZID=UTC:20260405T123000
DTSTAMP:20260422T225530
CREATED:20221031T111350Z
LAST-MODIFIED:20241217T123139Z
UID:10007492-1775389500-1775392200@trinityboardmills.org
SUMMARY:Sunday CE & Creche
DESCRIPTION:
URL:https://trinityboardmills.org/event/sundayce/2026-04-05/
LOCATION:Kerr Room
CATEGORIES:Children
ATTACH;FMTTYPE=image/jpeg:https://trinityboardmills.org/wp-content/uploads/2022/11/SundayCEEV.jpg
END:VEVENT
BEGIN:VEVENT
DTSTART;TZID=UTC:20260412T114500
DTEND;TZID=UTC:20260412T123000
DTSTAMP:20260422T225530
CREATED:20221031T111350Z
LAST-MODIFIED:20241217T123139Z
UID:10007493-1775994300-1775997000@trinityboardmills.org
SUMMARY:Sunday CE & Creche
DESCRIPTION:
URL:https://trinityboardmills.org/event/sundayce/2026-04-12/
LOCATION:Kerr Room
CATEGORIES:Children
ATTACH;FMTTYPE=image/jpeg:https://trinityboardmills.org/wp-content/uploads/2022/11/SundayCEEV.jpg
END:VEVENT
BEGIN:VEVENT
DTSTART;TZID=UTC:20260419T114500
DTEND;TZID=UTC:20260419T123000
DTSTAMP:20260422T225530
CREATED:20221031T111350Z
LAST-MODIFIED:20241217T123139Z
UID:10007494-1776599100-1776601800@trinityboardmills.org
SUMMARY:Sunday CE & Creche
DESCRIPTION:
URL:https://trinityboardmills.org/event/sundayce/2026-04-19/
LOCATION:Kerr Room
CATEGORIES:Children
ATTACH;FMTTYPE=image/jpeg:https://trinityboardmills.org/wp-content/uploads/2022/11/SundayCEEV.jpg
END:VEVENT
BEGIN:VEVENT
DTSTART;TZID=UTC:20260426T114500
DTEND;TZID=UTC:20260426T123000
DTSTAMP:20260422T225530
CREATED:20221031T111350Z
LAST-MODIFIED:20241217T123139Z
UID:10007495-1777203900-1777206600@trinityboardmills.org
SUMMARY:Sunday CE & Creche
DESCRIPTION:
URL:https://trinityboardmills.org/event/sundayce/2026-04-26/
LOCATION:Kerr Room
CATEGORIES:Children
ATTACH;FMTTYPE=image/jpeg:https://trinityboardmills.org/wp-content/uploads/2022/11/SundayCEEV.jpg
END:VEVENT
BEGIN:VEVENT
DTSTART;TZID=UTC:20260503T114500
DTEND;TZID=UTC:20260503T123000
DTSTAMP:20260422T225530
CREATED:20221031T111350Z
LAST-MODIFIED:20241217T123139Z
UID:10007496-1777808700-1777811400@trinityboardmills.org
SUMMARY:Sunday CE & Creche
DESCRIPTION:
URL:https://trinityboardmills.org/event/sundayce/2026-05-03/
LOCATION:Kerr Room
CATEGORIES:Children
ATTACH;FMTTYPE=image/jpeg:https://trinityboardmills.org/wp-content/uploads/2022/11/SundayCEEV.jpg
END:VEVENT
BEGIN:VEVENT
DTSTART;TZID=UTC:20260510T114500
DTEND;TZID=UTC:20260510T123000
DTSTAMP:20260422T225530
CREATED:20221031T111350Z
LAST-MODIFIED:20241217T123139Z
UID:10007497-1778413500-1778416200@trinityboardmills.org
SUMMARY:Sunday CE & Creche
DESCRIPTION:
URL:https://trinityboardmills.org/event/sundayce/2026-05-10/
LOCATION:Kerr Room
CATEGORIES:Children
ATTACH;FMTTYPE=image/jpeg:https://trinityboardmills.org/wp-content/uploads/2022/11/SundayCEEV.jpg
END:VEVENT
BEGIN:VEVENT
DTSTART;TZID=UTC:20260517T114500
DTEND;TZID=UTC:20260517T123000
DTSTAMP:20260422T225530
CREATED:20221031T111350Z
LAST-MODIFIED:20241217T123139Z
UID:10007498-1779018300-1779021000@trinityboardmills.org
SUMMARY:Sunday CE & Creche
DESCRIPTION:
URL:https://trinityboardmills.org/event/sundayce/2026-05-17/
LOCATION:Kerr Room
CATEGORIES:Children
ATTACH;FMTTYPE=image/jpeg:https://trinityboardmills.org/wp-content/uploads/2022/11/SundayCEEV.jpg
END:VEVENT
BEGIN:VEVENT
DTSTART;TZID=UTC:20260524T114500
DTEND;TZID=UTC:20260524T123000
DTSTAMP:20260422T225530
CREATED:20221031T111350Z
LAST-MODIFIED:20241217T123139Z
UID:10007499-1779623100-1779625800@trinityboardmills.org
SUMMARY:Sunday CE & Creche
DESCRIPTION:
URL:https://trinityboardmills.org/event/sundayce/2026-05-24/
LOCATION:Kerr Room
CATEGORIES:Children
ATTACH;FMTTYPE=image/jpeg:https://trinityboardmills.org/wp-content/uploads/2022/11/SundayCEEV.jpg
END:VEVENT
BEGIN:VEVENT
DTSTART;TZID=UTC:20260531T114500
DTEND;TZID=UTC:20260531T123000
DTSTAMP:20260422T225530
CREATED:20221031T111350Z
LAST-MODIFIED:20241217T123139Z
UID:10007500-1780227900-1780230600@trinityboardmills.org
SUMMARY:Sunday CE & Creche
DESCRIPTION:
URL:https://trinityboardmills.org/event/sundayce/2026-05-31/
LOCATION:Kerr Room
CATEGORIES:Children
ATTACH;FMTTYPE=image/jpeg:https://trinityboardmills.org/wp-content/uploads/2022/11/SundayCEEV.jpg
END:VEVENT
BEGIN:VEVENT
DTSTART;TZID=UTC:20260607T114500
DTEND;TZID=UTC:20260607T123000
DTSTAMP:20260422T225530
CREATED:20221031T111350Z
LAST-MODIFIED:20241217T123139Z
UID:10007501-1780832700-1780835400@trinityboardmills.org
SUMMARY:Sunday CE & Creche
DESCRIPTION:
URL:https://trinityboardmills.org/event/sundayce/2026-06-07/
LOCATION:Kerr Room
CATEGORIES:Children
ATTACH;FMTTYPE=image/jpeg:https://trinityboardmills.org/wp-content/uploads/2022/11/SundayCEEV.jpg
END:VEVENT
BEGIN:VEVENT
DTSTART;TZID=UTC:20260614T114500
DTEND;TZID=UTC:20260614T123000
DTSTAMP:20260422T225530
CREATED:20221031T111350Z
LAST-MODIFIED:20241217T123139Z
UID:10007502-1781437500-1781440200@trinityboardmills.org
SUMMARY:Sunday CE & Creche
DESCRIPTION:
URL:https://trinityboardmills.org/event/sundayce/2026-06-14/
LOCATION:Kerr Room
CATEGORIES:Children
ATTACH;FMTTYPE=image/jpeg:https://trinityboardmills.org/wp-content/uploads/2022/11/SundayCEEV.jpg
END:VEVENT
BEGIN:VEVENT
DTSTART;TZID=UTC:20260621T114500
DTEND;TZID=UTC:20260621T123000
DTSTAMP:20260422T225530
CREATED:20221031T111350Z
LAST-MODIFIED:20241217T123139Z
UID:10007503-1782042300-1782045000@trinityboardmills.org
SUMMARY:Sunday CE & Creche
DESCRIPTION:
URL:https://trinityboardmills.org/event/sundayce/2026-06-21/
LOCATION:Kerr Room
CATEGORIES:Children
ATTACH;FMTTYPE=image/jpeg:https://trinityboardmills.org/wp-content/uploads/2022/11/SundayCEEV.jpg
END:VEVENT
END:VCALENDAR