BEGIN:VCALENDAR
VERSION:2.0
PRODID:-//Trinity Presbyterian - ECPv6.15.20//NONSGML v1.0//EN
CALSCALE:GREGORIAN
METHOD:PUBLISH
X-WR-CALNAME:Trinity Presbyterian
X-ORIGINAL-URL:https://trinityboardmills.org
X-WR-CALDESC:Events for Trinity Presbyterian
REFRESH-INTERVAL;VALUE=DURATION:PT1H
X-Robots-Tag:noindex
X-PUBLISHED-TTL:PT1H
BEGIN:VTIMEZONE
TZID:UTC
BEGIN:STANDARD
TZOFFSETFROM:+0000
TZOFFSETTO:+0000
TZNAME:UTC
DTSTART:20270101T000000
END:STANDARD
END:VTIMEZONE
BEGIN:VEVENT
DTSTART;TZID=UTC:20280813T114500
DTEND;TZID=UTC:20280813T123000
DTSTAMP:20260422T223539
CREATED:20221031T111350Z
LAST-MODIFIED:20241217T123139Z
UID:10007615-1849779900-1849782600@trinityboardmills.org
SUMMARY:Sunday CE & Creche
DESCRIPTION:
URL:https://trinityboardmills.org/event/sundayce/2028-08-13/
LOCATION:Kerr Room
CATEGORIES:Children
ATTACH;FMTTYPE=image/jpeg:https://trinityboardmills.org/wp-content/uploads/2022/11/SundayCEEV.jpg
END:VEVENT
BEGIN:VEVENT
DTSTART;TZID=UTC:20280820T114500
DTEND;TZID=UTC:20280820T123000
DTSTAMP:20260422T223539
CREATED:20221031T111350Z
LAST-MODIFIED:20241217T123139Z
UID:10007616-1850384700-1850387400@trinityboardmills.org
SUMMARY:Sunday CE & Creche
DESCRIPTION:
URL:https://trinityboardmills.org/event/sundayce/2028-08-20/
LOCATION:Kerr Room
CATEGORIES:Children
ATTACH;FMTTYPE=image/jpeg:https://trinityboardmills.org/wp-content/uploads/2022/11/SundayCEEV.jpg
END:VEVENT
BEGIN:VEVENT
DTSTART;TZID=UTC:20280827T114500
DTEND;TZID=UTC:20280827T123000
DTSTAMP:20260422T223539
CREATED:20221031T111350Z
LAST-MODIFIED:20241217T123139Z
UID:10007617-1850989500-1850992200@trinityboardmills.org
SUMMARY:Sunday CE & Creche
DESCRIPTION:
URL:https://trinityboardmills.org/event/sundayce/2028-08-27/
LOCATION:Kerr Room
CATEGORIES:Children
ATTACH;FMTTYPE=image/jpeg:https://trinityboardmills.org/wp-content/uploads/2022/11/SundayCEEV.jpg
END:VEVENT
BEGIN:VEVENT
DTSTART;TZID=UTC:20280903T114500
DTEND;TZID=UTC:20280903T123000
DTSTAMP:20260422T223539
CREATED:20221031T111350Z
LAST-MODIFIED:20241217T123139Z
UID:10007618-1851594300-1851597000@trinityboardmills.org
SUMMARY:Sunday CE & Creche
DESCRIPTION:
URL:https://trinityboardmills.org/event/sundayce/2028-09-03/
LOCATION:Kerr Room
CATEGORIES:Children
ATTACH;FMTTYPE=image/jpeg:https://trinityboardmills.org/wp-content/uploads/2022/11/SundayCEEV.jpg
END:VEVENT
BEGIN:VEVENT
DTSTART;TZID=UTC:20280910T114500
DTEND;TZID=UTC:20280910T123000
DTSTAMP:20260422T223539
CREATED:20221031T111350Z
LAST-MODIFIED:20241217T123139Z
UID:10009738-1852199100-1852201800@trinityboardmills.org
SUMMARY:Sunday CE & Creche
DESCRIPTION:
URL:https://trinityboardmills.org/event/sundayce/2028-09-10/
LOCATION:Kerr Room
CATEGORIES:Children
ATTACH;FMTTYPE=image/jpeg:https://trinityboardmills.org/wp-content/uploads/2022/11/SundayCEEV.jpg
END:VEVENT
BEGIN:VEVENT
DTSTART;TZID=UTC:20280917T114500
DTEND;TZID=UTC:20280917T123000
DTSTAMP:20260422T223539
CREATED:20221031T111350Z
LAST-MODIFIED:20241217T123139Z
UID:10009739-1852803900-1852806600@trinityboardmills.org
SUMMARY:Sunday CE & Creche
DESCRIPTION:
URL:https://trinityboardmills.org/event/sundayce/2028-09-17/
LOCATION:Kerr Room
CATEGORIES:Children
ATTACH;FMTTYPE=image/jpeg:https://trinityboardmills.org/wp-content/uploads/2022/11/SundayCEEV.jpg
END:VEVENT
BEGIN:VEVENT
DTSTART;TZID=UTC:20280924T114500
DTEND;TZID=UTC:20280924T123000
DTSTAMP:20260422T223539
CREATED:20221031T111350Z
LAST-MODIFIED:20241217T123139Z
UID:10009740-1853408700-1853411400@trinityboardmills.org
SUMMARY:Sunday CE & Creche
DESCRIPTION:
URL:https://trinityboardmills.org/event/sundayce/2028-09-24/
LOCATION:Kerr Room
CATEGORIES:Children
ATTACH;FMTTYPE=image/jpeg:https://trinityboardmills.org/wp-content/uploads/2022/11/SundayCEEV.jpg
END:VEVENT
BEGIN:VEVENT
DTSTART;TZID=UTC:20281001T114500
DTEND;TZID=UTC:20281001T123000
DTSTAMP:20260422T223539
CREATED:20221031T111350Z
LAST-MODIFIED:20241217T123139Z
UID:10009741-1854013500-1854016200@trinityboardmills.org
SUMMARY:Sunday CE & Creche
DESCRIPTION:
URL:https://trinityboardmills.org/event/sundayce/2028-10-01/
LOCATION:Kerr Room
CATEGORIES:Children
ATTACH;FMTTYPE=image/jpeg:https://trinityboardmills.org/wp-content/uploads/2022/11/SundayCEEV.jpg
END:VEVENT
BEGIN:VEVENT
DTSTART;TZID=UTC:20281008T114500
DTEND;TZID=UTC:20281008T123000
DTSTAMP:20260422T223539
CREATED:20221031T111350Z
LAST-MODIFIED:20241217T123139Z
UID:10009742-1854618300-1854621000@trinityboardmills.org
SUMMARY:Sunday CE & Creche
DESCRIPTION:
URL:https://trinityboardmills.org/event/sundayce/2028-10-08/
LOCATION:Kerr Room
CATEGORIES:Children
ATTACH;FMTTYPE=image/jpeg:https://trinityboardmills.org/wp-content/uploads/2022/11/SundayCEEV.jpg
END:VEVENT
BEGIN:VEVENT
DTSTART;TZID=UTC:20281015T114500
DTEND;TZID=UTC:20281015T123000
DTSTAMP:20260422T223539
CREATED:20221031T111350Z
LAST-MODIFIED:20241217T123139Z
UID:10009743-1855223100-1855225800@trinityboardmills.org
SUMMARY:Sunday CE & Creche
DESCRIPTION:
URL:https://trinityboardmills.org/event/sundayce/2028-10-15/
LOCATION:Kerr Room
CATEGORIES:Children
ATTACH;FMTTYPE=image/jpeg:https://trinityboardmills.org/wp-content/uploads/2022/11/SundayCEEV.jpg
END:VEVENT
BEGIN:VEVENT
DTSTART;TZID=UTC:20281022T114500
DTEND;TZID=UTC:20281022T123000
DTSTAMP:20260422T223539
CREATED:20221031T111350Z
LAST-MODIFIED:20241217T123139Z
UID:10009744-1855827900-1855830600@trinityboardmills.org
SUMMARY:Sunday CE & Creche
DESCRIPTION:
URL:https://trinityboardmills.org/event/sundayce/2028-10-22/
LOCATION:Kerr Room
CATEGORIES:Children
ATTACH;FMTTYPE=image/jpeg:https://trinityboardmills.org/wp-content/uploads/2022/11/SundayCEEV.jpg
END:VEVENT
BEGIN:VEVENT
DTSTART;TZID=UTC:20281029T114500
DTEND;TZID=UTC:20281029T123000
DTSTAMP:20260422T223539
CREATED:20221031T111350Z
LAST-MODIFIED:20241217T123139Z
UID:10009745-1856432700-1856435400@trinityboardmills.org
SUMMARY:Sunday CE & Creche
DESCRIPTION:
URL:https://trinityboardmills.org/event/sundayce/2028-10-29/
LOCATION:Kerr Room
CATEGORIES:Children
ATTACH;FMTTYPE=image/jpeg:https://trinityboardmills.org/wp-content/uploads/2022/11/SundayCEEV.jpg
END:VEVENT
BEGIN:VEVENT
DTSTART;TZID=UTC:20281105T114500
DTEND;TZID=UTC:20281105T123000
DTSTAMP:20260422T223539
CREATED:20221031T111350Z
LAST-MODIFIED:20241217T123139Z
UID:10013950-1857037500-1857040200@trinityboardmills.org
SUMMARY:Sunday CE & Creche
DESCRIPTION:
URL:https://trinityboardmills.org/event/sundayce/2028-11-05/
LOCATION:Kerr Room
CATEGORIES:Children
ATTACH;FMTTYPE=image/jpeg:https://trinityboardmills.org/wp-content/uploads/2022/11/SundayCEEV.jpg
END:VEVENT
BEGIN:VEVENT
DTSTART;TZID=UTC:20281112T114500
DTEND;TZID=UTC:20281112T123000
DTSTAMP:20260422T223539
CREATED:20221031T111350Z
LAST-MODIFIED:20241217T123139Z
UID:10013951-1857642300-1857645000@trinityboardmills.org
SUMMARY:Sunday CE & Creche
DESCRIPTION:
URL:https://trinityboardmills.org/event/sundayce/2028-11-12/
LOCATION:Kerr Room
CATEGORIES:Children
ATTACH;FMTTYPE=image/jpeg:https://trinityboardmills.org/wp-content/uploads/2022/11/SundayCEEV.jpg
END:VEVENT
BEGIN:VEVENT
DTSTART;TZID=UTC:20281119T114500
DTEND;TZID=UTC:20281119T123000
DTSTAMP:20260422T223539
CREATED:20221031T111350Z
LAST-MODIFIED:20241217T123139Z
UID:10013952-1858247100-1858249800@trinityboardmills.org
SUMMARY:Sunday CE & Creche
DESCRIPTION:
URL:https://trinityboardmills.org/event/sundayce/2028-11-19/
LOCATION:Kerr Room
CATEGORIES:Children
ATTACH;FMTTYPE=image/jpeg:https://trinityboardmills.org/wp-content/uploads/2022/11/SundayCEEV.jpg
END:VEVENT
BEGIN:VEVENT
DTSTART;TZID=UTC:20281126T114500
DTEND;TZID=UTC:20281126T123000
DTSTAMP:20260422T223539
CREATED:20221031T111350Z
LAST-MODIFIED:20241217T123139Z
UID:10013953-1858851900-1858854600@trinityboardmills.org
SUMMARY:Sunday CE & Creche
DESCRIPTION:
URL:https://trinityboardmills.org/event/sundayce/2028-11-26/
LOCATION:Kerr Room
CATEGORIES:Children
ATTACH;FMTTYPE=image/jpeg:https://trinityboardmills.org/wp-content/uploads/2022/11/SundayCEEV.jpg
END:VEVENT
BEGIN:VEVENT
DTSTART;TZID=UTC:20281203T114500
DTEND;TZID=UTC:20281203T123000
DTSTAMP:20260422T223539
CREATED:20221031T111350Z
LAST-MODIFIED:20241217T123139Z
UID:10013954-1859456700-1859459400@trinityboardmills.org
SUMMARY:Sunday CE & Creche
DESCRIPTION:
URL:https://trinityboardmills.org/event/sundayce/2028-12-03/
LOCATION:Kerr Room
CATEGORIES:Children
ATTACH;FMTTYPE=image/jpeg:https://trinityboardmills.org/wp-content/uploads/2022/11/SundayCEEV.jpg
END:VEVENT
BEGIN:VEVENT
DTSTART;TZID=UTC:20281210T114500
DTEND;TZID=UTC:20281210T123000
DTSTAMP:20260422T223539
CREATED:20221031T111350Z
LAST-MODIFIED:20241217T123139Z
UID:10013955-1860061500-1860064200@trinityboardmills.org
SUMMARY:Sunday CE & Creche
DESCRIPTION:
URL:https://trinityboardmills.org/event/sundayce/2028-12-10/
LOCATION:Kerr Room
CATEGORIES:Children
ATTACH;FMTTYPE=image/jpeg:https://trinityboardmills.org/wp-content/uploads/2022/11/SundayCEEV.jpg
END:VEVENT
BEGIN:VEVENT
DTSTART;TZID=UTC:20281217T114500
DTEND;TZID=UTC:20281217T123000
DTSTAMP:20260422T223539
CREATED:20221031T111350Z
LAST-MODIFIED:20241217T123139Z
UID:10013956-1860666300-1860669000@trinityboardmills.org
SUMMARY:Sunday CE & Creche
DESCRIPTION:
URL:https://trinityboardmills.org/event/sundayce/2028-12-17/
LOCATION:Kerr Room
CATEGORIES:Children
ATTACH;FMTTYPE=image/jpeg:https://trinityboardmills.org/wp-content/uploads/2022/11/SundayCEEV.jpg
END:VEVENT
BEGIN:VEVENT
DTSTART;TZID=UTC:20281224T114500
DTEND;TZID=UTC:20281224T123000
DTSTAMP:20260422T223539
CREATED:20221031T111350Z
LAST-MODIFIED:20241217T123139Z
UID:10013957-1861271100-1861273800@trinityboardmills.org
SUMMARY:Sunday CE & Creche
DESCRIPTION:
URL:https://trinityboardmills.org/event/sundayce/2028-12-24/
LOCATION:Kerr Room
CATEGORIES:Children
ATTACH;FMTTYPE=image/jpeg:https://trinityboardmills.org/wp-content/uploads/2022/11/SundayCEEV.jpg
END:VEVENT
BEGIN:VEVENT
DTSTART;TZID=UTC:20281231T114500
DTEND;TZID=UTC:20281231T123000
DTSTAMP:20260422T223539
CREATED:20221031T111350Z
LAST-MODIFIED:20241217T123139Z
UID:10013958-1861875900-1861878600@trinityboardmills.org
SUMMARY:Sunday CE & Creche
DESCRIPTION:
URL:https://trinityboardmills.org/event/sundayce/2028-12-31/
LOCATION:Kerr Room
CATEGORIES:Children
ATTACH;FMTTYPE=image/jpeg:https://trinityboardmills.org/wp-content/uploads/2022/11/SundayCEEV.jpg
END:VEVENT
BEGIN:VEVENT
DTSTART;TZID=UTC:20290107T114500
DTEND;TZID=UTC:20290107T123000
DTSTAMP:20260422T223539
CREATED:20221031T111350Z
LAST-MODIFIED:20241217T123139Z
UID:10013959-1862480700-1862483400@trinityboardmills.org
SUMMARY:Sunday CE & Creche
DESCRIPTION:
URL:https://trinityboardmills.org/event/sundayce/2029-01-07/
LOCATION:Kerr Room
CATEGORIES:Children
ATTACH;FMTTYPE=image/jpeg:https://trinityboardmills.org/wp-content/uploads/2022/11/SundayCEEV.jpg
END:VEVENT
BEGIN:VEVENT
DTSTART;TZID=UTC:20290114T114500
DTEND;TZID=UTC:20290114T123000
DTSTAMP:20260422T223539
CREATED:20221031T111350Z
LAST-MODIFIED:20241217T123139Z
UID:10013960-1863085500-1863088200@trinityboardmills.org
SUMMARY:Sunday CE & Creche
DESCRIPTION:
URL:https://trinityboardmills.org/event/sundayce/2029-01-14/
LOCATION:Kerr Room
CATEGORIES:Children
ATTACH;FMTTYPE=image/jpeg:https://trinityboardmills.org/wp-content/uploads/2022/11/SundayCEEV.jpg
END:VEVENT
BEGIN:VEVENT
DTSTART;TZID=UTC:20290121T114500
DTEND;TZID=UTC:20290121T123000
DTSTAMP:20260422T223539
CREATED:20221031T111350Z
LAST-MODIFIED:20241217T123139Z
UID:10013961-1863690300-1863693000@trinityboardmills.org
SUMMARY:Sunday CE & Creche
DESCRIPTION:
URL:https://trinityboardmills.org/event/sundayce/2029-01-21/
LOCATION:Kerr Room
CATEGORIES:Children
ATTACH;FMTTYPE=image/jpeg:https://trinityboardmills.org/wp-content/uploads/2022/11/SundayCEEV.jpg
END:VEVENT
BEGIN:VEVENT
DTSTART;TZID=UTC:20290128T114500
DTEND;TZID=UTC:20290128T123000
DTSTAMP:20260422T223539
CREATED:20221031T111350Z
LAST-MODIFIED:20241217T123139Z
UID:10013962-1864295100-1864297800@trinityboardmills.org
SUMMARY:Sunday CE & Creche
DESCRIPTION:
URL:https://trinityboardmills.org/event/sundayce/2029-01-28/
LOCATION:Kerr Room
CATEGORIES:Children
ATTACH;FMTTYPE=image/jpeg:https://trinityboardmills.org/wp-content/uploads/2022/11/SundayCEEV.jpg
END:VEVENT
BEGIN:VEVENT
DTSTART;TZID=UTC:20290204T114500
DTEND;TZID=UTC:20290204T123000
DTSTAMP:20260422T223539
CREATED:20221031T111350Z
LAST-MODIFIED:20241217T123139Z
UID:10013963-1864899900-1864902600@trinityboardmills.org
SUMMARY:Sunday CE & Creche
DESCRIPTION:
URL:https://trinityboardmills.org/event/sundayce/2029-02-04/
LOCATION:Kerr Room
CATEGORIES:Children
ATTACH;FMTTYPE=image/jpeg:https://trinityboardmills.org/wp-content/uploads/2022/11/SundayCEEV.jpg
END:VEVENT
BEGIN:VEVENT
DTSTART;TZID=UTC:20290211T114500
DTEND;TZID=UTC:20290211T123000
DTSTAMP:20260422T223539
CREATED:20221031T111350Z
LAST-MODIFIED:20241217T123139Z
UID:10013964-1865504700-1865507400@trinityboardmills.org
SUMMARY:Sunday CE & Creche
DESCRIPTION:
URL:https://trinityboardmills.org/event/sundayce/2029-02-11/
LOCATION:Kerr Room
CATEGORIES:Children
ATTACH;FMTTYPE=image/jpeg:https://trinityboardmills.org/wp-content/uploads/2022/11/SundayCEEV.jpg
END:VEVENT
BEGIN:VEVENT
DTSTART;TZID=UTC:20290218T114500
DTEND;TZID=UTC:20290218T123000
DTSTAMP:20260422T223539
CREATED:20221031T111350Z
LAST-MODIFIED:20241217T123139Z
UID:10013965-1866109500-1866112200@trinityboardmills.org
SUMMARY:Sunday CE & Creche
DESCRIPTION:
URL:https://trinityboardmills.org/event/sundayce/2029-02-18/
LOCATION:Kerr Room
CATEGORIES:Children
ATTACH;FMTTYPE=image/jpeg:https://trinityboardmills.org/wp-content/uploads/2022/11/SundayCEEV.jpg
END:VEVENT
BEGIN:VEVENT
DTSTART;TZID=UTC:20290225T114500
DTEND;TZID=UTC:20290225T123000
DTSTAMP:20260422T223539
CREATED:20221031T111350Z
LAST-MODIFIED:20241217T123139Z
UID:10013966-1866714300-1866717000@trinityboardmills.org
SUMMARY:Sunday CE & Creche
DESCRIPTION:
URL:https://trinityboardmills.org/event/sundayce/2029-02-25/
LOCATION:Kerr Room
CATEGORIES:Children
ATTACH;FMTTYPE=image/jpeg:https://trinityboardmills.org/wp-content/uploads/2022/11/SundayCEEV.jpg
END:VEVENT
BEGIN:VEVENT
DTSTART;TZID=UTC:20290304T114500
DTEND;TZID=UTC:20290304T123000
DTSTAMP:20260422T223539
CREATED:20221031T111350Z
LAST-MODIFIED:20241217T123139Z
UID:10013967-1867319100-1867321800@trinityboardmills.org
SUMMARY:Sunday CE & Creche
DESCRIPTION:
URL:https://trinityboardmills.org/event/sundayce/2029-03-04/
LOCATION:Kerr Room
CATEGORIES:Children
ATTACH;FMTTYPE=image/jpeg:https://trinityboardmills.org/wp-content/uploads/2022/11/SundayCEEV.jpg
END:VEVENT
END:VCALENDAR