BEGIN:VCALENDAR
VERSION:2.0
PRODID:-//Trinity Presbyterian - ECPv6.15.20//NONSGML v1.0//EN
CALSCALE:GREGORIAN
METHOD:PUBLISH
X-WR-CALNAME:Trinity Presbyterian
X-ORIGINAL-URL:https://trinityboardmills.org
X-WR-CALDESC:Events for Trinity Presbyterian
REFRESH-INTERVAL;VALUE=DURATION:PT1H
X-Robots-Tag:noindex
X-PUBLISHED-TTL:PT1H
BEGIN:VTIMEZONE
TZID:UTC
BEGIN:STANDARD
TZOFFSETFROM:+0000
TZOFFSETTO:+0000
TZNAME:UTC
DTSTART:20280101T000000
END:STANDARD
END:VTIMEZONE
BEGIN:VEVENT
DTSTART;TZID=UTC:20290128T114500
DTEND;TZID=UTC:20290128T123000
DTSTAMP:20260423T064628
CREATED:20221031T111350Z
LAST-MODIFIED:20241217T123139Z
UID:10013962-1864295100-1864297800@trinityboardmills.org
SUMMARY:Sunday CE & Creche
DESCRIPTION:
URL:https://trinityboardmills.org/event/sundayce/2029-01-28/
LOCATION:Kerr Room
CATEGORIES:Children
ATTACH;FMTTYPE=image/jpeg:https://trinityboardmills.org/wp-content/uploads/2022/11/SundayCEEV.jpg
END:VEVENT
BEGIN:VEVENT
DTSTART;TZID=UTC:20290204T114500
DTEND;TZID=UTC:20290204T123000
DTSTAMP:20260423T064628
CREATED:20221031T111350Z
LAST-MODIFIED:20241217T123139Z
UID:10013963-1864899900-1864902600@trinityboardmills.org
SUMMARY:Sunday CE & Creche
DESCRIPTION:
URL:https://trinityboardmills.org/event/sundayce/2029-02-04/
LOCATION:Kerr Room
CATEGORIES:Children
ATTACH;FMTTYPE=image/jpeg:https://trinityboardmills.org/wp-content/uploads/2022/11/SundayCEEV.jpg
END:VEVENT
BEGIN:VEVENT
DTSTART;TZID=UTC:20290211T114500
DTEND;TZID=UTC:20290211T123000
DTSTAMP:20260423T064628
CREATED:20221031T111350Z
LAST-MODIFIED:20241217T123139Z
UID:10013964-1865504700-1865507400@trinityboardmills.org
SUMMARY:Sunday CE & Creche
DESCRIPTION:
URL:https://trinityboardmills.org/event/sundayce/2029-02-11/
LOCATION:Kerr Room
CATEGORIES:Children
ATTACH;FMTTYPE=image/jpeg:https://trinityboardmills.org/wp-content/uploads/2022/11/SundayCEEV.jpg
END:VEVENT
BEGIN:VEVENT
DTSTART;TZID=UTC:20290218T114500
DTEND;TZID=UTC:20290218T123000
DTSTAMP:20260423T064628
CREATED:20221031T111350Z
LAST-MODIFIED:20241217T123139Z
UID:10013965-1866109500-1866112200@trinityboardmills.org
SUMMARY:Sunday CE & Creche
DESCRIPTION:
URL:https://trinityboardmills.org/event/sundayce/2029-02-18/
LOCATION:Kerr Room
CATEGORIES:Children
ATTACH;FMTTYPE=image/jpeg:https://trinityboardmills.org/wp-content/uploads/2022/11/SundayCEEV.jpg
END:VEVENT
BEGIN:VEVENT
DTSTART;TZID=UTC:20290225T114500
DTEND;TZID=UTC:20290225T123000
DTSTAMP:20260423T064628
CREATED:20221031T111350Z
LAST-MODIFIED:20241217T123139Z
UID:10013966-1866714300-1866717000@trinityboardmills.org
SUMMARY:Sunday CE & Creche
DESCRIPTION:
URL:https://trinityboardmills.org/event/sundayce/2029-02-25/
LOCATION:Kerr Room
CATEGORIES:Children
ATTACH;FMTTYPE=image/jpeg:https://trinityboardmills.org/wp-content/uploads/2022/11/SundayCEEV.jpg
END:VEVENT
BEGIN:VEVENT
DTSTART;TZID=UTC:20290304T114500
DTEND;TZID=UTC:20290304T123000
DTSTAMP:20260423T064628
CREATED:20221031T111350Z
LAST-MODIFIED:20241217T123139Z
UID:10013967-1867319100-1867321800@trinityboardmills.org
SUMMARY:Sunday CE & Creche
DESCRIPTION:
URL:https://trinityboardmills.org/event/sundayce/2029-03-04/
LOCATION:Kerr Room
CATEGORIES:Children
ATTACH;FMTTYPE=image/jpeg:https://trinityboardmills.org/wp-content/uploads/2022/11/SundayCEEV.jpg
END:VEVENT
BEGIN:VEVENT
DTSTART;TZID=UTC:20290311T114500
DTEND;TZID=UTC:20290311T123000
DTSTAMP:20260423T064628
CREATED:20221031T111350Z
LAST-MODIFIED:20241217T123139Z
UID:10013968-1867923900-1867926600@trinityboardmills.org
SUMMARY:Sunday CE & Creche
DESCRIPTION:
URL:https://trinityboardmills.org/event/sundayce/2029-03-11/
LOCATION:Kerr Room
CATEGORIES:Children
ATTACH;FMTTYPE=image/jpeg:https://trinityboardmills.org/wp-content/uploads/2022/11/SundayCEEV.jpg
END:VEVENT
BEGIN:VEVENT
DTSTART;TZID=UTC:20290318T114500
DTEND;TZID=UTC:20290318T123000
DTSTAMP:20260423T064628
CREATED:20221031T111350Z
LAST-MODIFIED:20241217T123139Z
UID:10013969-1868528700-1868531400@trinityboardmills.org
SUMMARY:Sunday CE & Creche
DESCRIPTION:
URL:https://trinityboardmills.org/event/sundayce/2029-03-18/
LOCATION:Kerr Room
CATEGORIES:Children
ATTACH;FMTTYPE=image/jpeg:https://trinityboardmills.org/wp-content/uploads/2022/11/SundayCEEV.jpg
END:VEVENT
BEGIN:VEVENT
DTSTART;TZID=UTC:20290325T114500
DTEND;TZID=UTC:20290325T123000
DTSTAMP:20260423T064628
CREATED:20221031T111350Z
LAST-MODIFIED:20241217T123139Z
UID:10013970-1869133500-1869136200@trinityboardmills.org
SUMMARY:Sunday CE & Creche
DESCRIPTION:
URL:https://trinityboardmills.org/event/sundayce/2029-03-25/
LOCATION:Kerr Room
CATEGORIES:Children
ATTACH;FMTTYPE=image/jpeg:https://trinityboardmills.org/wp-content/uploads/2022/11/SundayCEEV.jpg
END:VEVENT
BEGIN:VEVENT
DTSTART;TZID=UTC:20290401T114500
DTEND;TZID=UTC:20290401T123000
DTSTAMP:20260423T064628
CREATED:20221031T111350Z
LAST-MODIFIED:20241217T123139Z
UID:10013971-1869738300-1869741000@trinityboardmills.org
SUMMARY:Sunday CE & Creche
DESCRIPTION:
URL:https://trinityboardmills.org/event/sundayce/2029-04-01/
LOCATION:Kerr Room
CATEGORIES:Children
ATTACH;FMTTYPE=image/jpeg:https://trinityboardmills.org/wp-content/uploads/2022/11/SundayCEEV.jpg
END:VEVENT
BEGIN:VEVENT
DTSTART;TZID=UTC:20290408T114500
DTEND;TZID=UTC:20290408T123000
DTSTAMP:20260423T064628
CREATED:20221031T111350Z
LAST-MODIFIED:20241217T123139Z
UID:10013972-1870343100-1870345800@trinityboardmills.org
SUMMARY:Sunday CE & Creche
DESCRIPTION:
URL:https://trinityboardmills.org/event/sundayce/2029-04-08/
LOCATION:Kerr Room
CATEGORIES:Children
ATTACH;FMTTYPE=image/jpeg:https://trinityboardmills.org/wp-content/uploads/2022/11/SundayCEEV.jpg
END:VEVENT
BEGIN:VEVENT
DTSTART;TZID=UTC:20290415T114500
DTEND;TZID=UTC:20290415T123000
DTSTAMP:20260423T064628
CREATED:20221031T111350Z
LAST-MODIFIED:20241217T123139Z
UID:10013973-1870947900-1870950600@trinityboardmills.org
SUMMARY:Sunday CE & Creche
DESCRIPTION:
URL:https://trinityboardmills.org/event/sundayce/2029-04-15/
LOCATION:Kerr Room
CATEGORIES:Children
ATTACH;FMTTYPE=image/jpeg:https://trinityboardmills.org/wp-content/uploads/2022/11/SundayCEEV.jpg
END:VEVENT
BEGIN:VEVENT
DTSTART;TZID=UTC:20290422T114500
DTEND;TZID=UTC:20290422T123000
DTSTAMP:20260423T064628
CREATED:20221031T111350Z
LAST-MODIFIED:20241217T123139Z
UID:10013974-1871552700-1871555400@trinityboardmills.org
SUMMARY:Sunday CE & Creche
DESCRIPTION:
URL:https://trinityboardmills.org/event/sundayce/2029-04-22/
LOCATION:Kerr Room
CATEGORIES:Children
ATTACH;FMTTYPE=image/jpeg:https://trinityboardmills.org/wp-content/uploads/2022/11/SundayCEEV.jpg
END:VEVENT
BEGIN:VEVENT
DTSTART;TZID=UTC:20290429T114500
DTEND;TZID=UTC:20290429T123000
DTSTAMP:20260423T064628
CREATED:20221031T111350Z
LAST-MODIFIED:20241217T123139Z
UID:10013975-1872157500-1872160200@trinityboardmills.org
SUMMARY:Sunday CE & Creche
DESCRIPTION:
URL:https://trinityboardmills.org/event/sundayce/2029-04-29/
LOCATION:Kerr Room
CATEGORIES:Children
ATTACH;FMTTYPE=image/jpeg:https://trinityboardmills.org/wp-content/uploads/2022/11/SundayCEEV.jpg
END:VEVENT
BEGIN:VEVENT
DTSTART;TZID=UTC:20290506T114500
DTEND;TZID=UTC:20290506T123000
DTSTAMP:20260423T064628
CREATED:20221031T111350Z
LAST-MODIFIED:20241217T123139Z
UID:10013976-1872762300-1872765000@trinityboardmills.org
SUMMARY:Sunday CE & Creche
DESCRIPTION:
URL:https://trinityboardmills.org/event/sundayce/2029-05-06/
LOCATION:Kerr Room
CATEGORIES:Children
ATTACH;FMTTYPE=image/jpeg:https://trinityboardmills.org/wp-content/uploads/2022/11/SundayCEEV.jpg
END:VEVENT
BEGIN:VEVENT
DTSTART;TZID=UTC:20290513T114500
DTEND;TZID=UTC:20290513T123000
DTSTAMP:20260423T064628
CREATED:20221031T111350Z
LAST-MODIFIED:20241217T123139Z
UID:10013977-1873367100-1873369800@trinityboardmills.org
SUMMARY:Sunday CE & Creche
DESCRIPTION:
URL:https://trinityboardmills.org/event/sundayce/2029-05-13/
LOCATION:Kerr Room
CATEGORIES:Children
ATTACH;FMTTYPE=image/jpeg:https://trinityboardmills.org/wp-content/uploads/2022/11/SundayCEEV.jpg
END:VEVENT
BEGIN:VEVENT
DTSTART;TZID=UTC:20290520T114500
DTEND;TZID=UTC:20290520T123000
DTSTAMP:20260423T064628
CREATED:20221031T111350Z
LAST-MODIFIED:20241217T123139Z
UID:10013978-1873971900-1873974600@trinityboardmills.org
SUMMARY:Sunday CE & Creche
DESCRIPTION:
URL:https://trinityboardmills.org/event/sundayce/2029-05-20/
LOCATION:Kerr Room
CATEGORIES:Children
ATTACH;FMTTYPE=image/jpeg:https://trinityboardmills.org/wp-content/uploads/2022/11/SundayCEEV.jpg
END:VEVENT
BEGIN:VEVENT
DTSTART;TZID=UTC:20290527T114500
DTEND;TZID=UTC:20290527T123000
DTSTAMP:20260423T064628
CREATED:20221031T111350Z
LAST-MODIFIED:20241217T123139Z
UID:10013979-1874576700-1874579400@trinityboardmills.org
SUMMARY:Sunday CE & Creche
DESCRIPTION:
URL:https://trinityboardmills.org/event/sundayce/2029-05-27/
LOCATION:Kerr Room
CATEGORIES:Children
ATTACH;FMTTYPE=image/jpeg:https://trinityboardmills.org/wp-content/uploads/2022/11/SundayCEEV.jpg
END:VEVENT
BEGIN:VEVENT
DTSTART;TZID=UTC:20290603T114500
DTEND;TZID=UTC:20290603T123000
DTSTAMP:20260423T064628
CREATED:20221031T111350Z
LAST-MODIFIED:20241217T123139Z
UID:10013980-1875181500-1875184200@trinityboardmills.org
SUMMARY:Sunday CE & Creche
DESCRIPTION:
URL:https://trinityboardmills.org/event/sundayce/2029-06-03/
LOCATION:Kerr Room
CATEGORIES:Children
ATTACH;FMTTYPE=image/jpeg:https://trinityboardmills.org/wp-content/uploads/2022/11/SundayCEEV.jpg
END:VEVENT
BEGIN:VEVENT
DTSTART;TZID=UTC:20290610T114500
DTEND;TZID=UTC:20290610T123000
DTSTAMP:20260423T064628
CREATED:20221031T111350Z
LAST-MODIFIED:20241217T123139Z
UID:10013981-1875786300-1875789000@trinityboardmills.org
SUMMARY:Sunday CE & Creche
DESCRIPTION:
URL:https://trinityboardmills.org/event/sundayce/2029-06-10/
LOCATION:Kerr Room
CATEGORIES:Children
ATTACH;FMTTYPE=image/jpeg:https://trinityboardmills.org/wp-content/uploads/2022/11/SundayCEEV.jpg
END:VEVENT
BEGIN:VEVENT
DTSTART;TZID=UTC:20290617T114500
DTEND;TZID=UTC:20290617T123000
DTSTAMP:20260423T064628
CREATED:20221031T111350Z
LAST-MODIFIED:20241217T123139Z
UID:10013982-1876391100-1876393800@trinityboardmills.org
SUMMARY:Sunday CE & Creche
DESCRIPTION:
URL:https://trinityboardmills.org/event/sundayce/2029-06-17/
LOCATION:Kerr Room
CATEGORIES:Children
ATTACH;FMTTYPE=image/jpeg:https://trinityboardmills.org/wp-content/uploads/2022/11/SundayCEEV.jpg
END:VEVENT
BEGIN:VEVENT
DTSTART;TZID=UTC:20290624T114500
DTEND;TZID=UTC:20290624T123000
DTSTAMP:20260423T064628
CREATED:20221031T111350Z
LAST-MODIFIED:20241217T123139Z
UID:10013983-1876995900-1876998600@trinityboardmills.org
SUMMARY:Sunday CE & Creche
DESCRIPTION:
URL:https://trinityboardmills.org/event/sundayce/2029-06-24/
LOCATION:Kerr Room
CATEGORIES:Children
ATTACH;FMTTYPE=image/jpeg:https://trinityboardmills.org/wp-content/uploads/2022/11/SundayCEEV.jpg
END:VEVENT
BEGIN:VEVENT
DTSTART;TZID=UTC:20290701T114500
DTEND;TZID=UTC:20290701T123000
DTSTAMP:20260423T064628
CREATED:20221031T111350Z
LAST-MODIFIED:20241217T123139Z
UID:10013984-1877600700-1877603400@trinityboardmills.org
SUMMARY:Sunday CE & Creche
DESCRIPTION:
URL:https://trinityboardmills.org/event/sundayce/2029-07-01/
LOCATION:Kerr Room
CATEGORIES:Children
ATTACH;FMTTYPE=image/jpeg:https://trinityboardmills.org/wp-content/uploads/2022/11/SundayCEEV.jpg
END:VEVENT
BEGIN:VEVENT
DTSTART;TZID=UTC:20290708T114500
DTEND;TZID=UTC:20290708T123000
DTSTAMP:20260423T064628
CREATED:20221031T111350Z
LAST-MODIFIED:20241217T123139Z
UID:10013985-1878205500-1878208200@trinityboardmills.org
SUMMARY:Sunday CE & Creche
DESCRIPTION:
URL:https://trinityboardmills.org/event/sundayce/2029-07-08/
LOCATION:Kerr Room
CATEGORIES:Children
ATTACH;FMTTYPE=image/jpeg:https://trinityboardmills.org/wp-content/uploads/2022/11/SundayCEEV.jpg
END:VEVENT
BEGIN:VEVENT
DTSTART;TZID=UTC:20290715T114500
DTEND;TZID=UTC:20290715T123000
DTSTAMP:20260423T064628
CREATED:20221031T111350Z
LAST-MODIFIED:20241217T123139Z
UID:10013986-1878810300-1878813000@trinityboardmills.org
SUMMARY:Sunday CE & Creche
DESCRIPTION:
URL:https://trinityboardmills.org/event/sundayce/2029-07-15/
LOCATION:Kerr Room
CATEGORIES:Children
ATTACH;FMTTYPE=image/jpeg:https://trinityboardmills.org/wp-content/uploads/2022/11/SundayCEEV.jpg
END:VEVENT
BEGIN:VEVENT
DTSTART;TZID=UTC:20290722T114500
DTEND;TZID=UTC:20290722T123000
DTSTAMP:20260423T064628
CREATED:20221031T111350Z
LAST-MODIFIED:20241217T123139Z
UID:10013987-1879415100-1879417800@trinityboardmills.org
SUMMARY:Sunday CE & Creche
DESCRIPTION:
URL:https://trinityboardmills.org/event/sundayce/2029-07-22/
LOCATION:Kerr Room
CATEGORIES:Children
ATTACH;FMTTYPE=image/jpeg:https://trinityboardmills.org/wp-content/uploads/2022/11/SundayCEEV.jpg
END:VEVENT
BEGIN:VEVENT
DTSTART;TZID=UTC:20290729T114500
DTEND;TZID=UTC:20290729T123000
DTSTAMP:20260423T064628
CREATED:20221031T111350Z
LAST-MODIFIED:20241217T123139Z
UID:10013988-1880019900-1880022600@trinityboardmills.org
SUMMARY:Sunday CE & Creche
DESCRIPTION:
URL:https://trinityboardmills.org/event/sundayce/2029-07-29/
LOCATION:Kerr Room
CATEGORIES:Children
ATTACH;FMTTYPE=image/jpeg:https://trinityboardmills.org/wp-content/uploads/2022/11/SundayCEEV.jpg
END:VEVENT
BEGIN:VEVENT
DTSTART;TZID=UTC:20290805T114500
DTEND;TZID=UTC:20290805T123000
DTSTAMP:20260423T064628
CREATED:20221031T111350Z
LAST-MODIFIED:20241217T123139Z
UID:10013989-1880624700-1880627400@trinityboardmills.org
SUMMARY:Sunday CE & Creche
DESCRIPTION:
URL:https://trinityboardmills.org/event/sundayce/2029-08-05/
LOCATION:Kerr Room
CATEGORIES:Children
ATTACH;FMTTYPE=image/jpeg:https://trinityboardmills.org/wp-content/uploads/2022/11/SundayCEEV.jpg
END:VEVENT
BEGIN:VEVENT
DTSTART;TZID=UTC:20290812T114500
DTEND;TZID=UTC:20290812T123000
DTSTAMP:20260423T064628
CREATED:20221031T111350Z
LAST-MODIFIED:20241217T123139Z
UID:10013990-1881229500-1881232200@trinityboardmills.org
SUMMARY:Sunday CE & Creche
DESCRIPTION:
URL:https://trinityboardmills.org/event/sundayce/2029-08-12/
LOCATION:Kerr Room
CATEGORIES:Children
ATTACH;FMTTYPE=image/jpeg:https://trinityboardmills.org/wp-content/uploads/2022/11/SundayCEEV.jpg
END:VEVENT
BEGIN:VEVENT
DTSTART;TZID=UTC:20290819T114500
DTEND;TZID=UTC:20290819T123000
DTSTAMP:20260423T064628
CREATED:20221031T111350Z
LAST-MODIFIED:20241217T123139Z
UID:10013991-1881834300-1881837000@trinityboardmills.org
SUMMARY:Sunday CE & Creche
DESCRIPTION:
URL:https://trinityboardmills.org/event/sundayce/2029-08-19/
LOCATION:Kerr Room
CATEGORIES:Children
ATTACH;FMTTYPE=image/jpeg:https://trinityboardmills.org/wp-content/uploads/2022/11/SundayCEEV.jpg
END:VEVENT
END:VCALENDAR