BEGIN:VCALENDAR
VERSION:2.0
PRODID:-//Trinity Presbyterian - ECPv6.15.20//NONSGML v1.0//EN
CALSCALE:GREGORIAN
METHOD:PUBLISH
X-WR-CALNAME:Trinity Presbyterian
X-ORIGINAL-URL:https://trinityboardmills.org
X-WR-CALDESC:Events for Trinity Presbyterian
REFRESH-INTERVAL;VALUE=DURATION:PT1H
X-Robots-Tag:noindex
X-PUBLISHED-TTL:PT1H
BEGIN:VTIMEZONE
TZID:UTC
BEGIN:STANDARD
TZOFFSETFROM:+0000
TZOFFSETTO:+0000
TZNAME:UTC
DTSTART:20250101T000000
END:STANDARD
END:VTIMEZONE
BEGIN:VEVENT
DTSTART;TZID=UTC:20260823T114500
DTEND;TZID=UTC:20260823T123000
DTSTAMP:20260422T022806
CREATED:20221031T111350Z
LAST-MODIFIED:20241217T123139Z
UID:10007512-1787485500-1787488200@trinityboardmills.org
SUMMARY:Sunday CE & Creche
DESCRIPTION:
URL:https://trinityboardmills.org/event/sundayce/2026-08-23/
LOCATION:Kerr Room
CATEGORIES:Children
ATTACH;FMTTYPE=image/jpeg:https://trinityboardmills.org/wp-content/uploads/2022/11/SundayCEEV.jpg
END:VEVENT
BEGIN:VEVENT
DTSTART;TZID=UTC:20260830T114500
DTEND;TZID=UTC:20260830T123000
DTSTAMP:20260422T022806
CREATED:20221031T111350Z
LAST-MODIFIED:20241217T123139Z
UID:10007513-1788090300-1788093000@trinityboardmills.org
SUMMARY:Sunday CE & Creche
DESCRIPTION:
URL:https://trinityboardmills.org/event/sundayce/2026-08-30/
LOCATION:Kerr Room
CATEGORIES:Children
ATTACH;FMTTYPE=image/jpeg:https://trinityboardmills.org/wp-content/uploads/2022/11/SundayCEEV.jpg
END:VEVENT
BEGIN:VEVENT
DTSTART;TZID=UTC:20260906T114500
DTEND;TZID=UTC:20260906T123000
DTSTAMP:20260422T022806
CREATED:20221031T111350Z
LAST-MODIFIED:20241217T123139Z
UID:10007514-1788695100-1788697800@trinityboardmills.org
SUMMARY:Sunday CE & Creche
DESCRIPTION:
URL:https://trinityboardmills.org/event/sundayce/2026-09-06/
LOCATION:Kerr Room
CATEGORIES:Children
ATTACH;FMTTYPE=image/jpeg:https://trinityboardmills.org/wp-content/uploads/2022/11/SundayCEEV.jpg
END:VEVENT
BEGIN:VEVENT
DTSTART;TZID=UTC:20260913T114500
DTEND;TZID=UTC:20260913T123000
DTSTAMP:20260422T022806
CREATED:20221031T111350Z
LAST-MODIFIED:20241217T123139Z
UID:10007515-1789299900-1789302600@trinityboardmills.org
SUMMARY:Sunday CE & Creche
DESCRIPTION:
URL:https://trinityboardmills.org/event/sundayce/2026-09-13/
LOCATION:Kerr Room
CATEGORIES:Children
ATTACH;FMTTYPE=image/jpeg:https://trinityboardmills.org/wp-content/uploads/2022/11/SundayCEEV.jpg
END:VEVENT
BEGIN:VEVENT
DTSTART;TZID=UTC:20260920T114500
DTEND;TZID=UTC:20260920T123000
DTSTAMP:20260422T022806
CREATED:20221031T111350Z
LAST-MODIFIED:20241217T123139Z
UID:10007516-1789904700-1789907400@trinityboardmills.org
SUMMARY:Sunday CE & Creche
DESCRIPTION:
URL:https://trinityboardmills.org/event/sundayce/2026-09-20/
LOCATION:Kerr Room
CATEGORIES:Children
ATTACH;FMTTYPE=image/jpeg:https://trinityboardmills.org/wp-content/uploads/2022/11/SundayCEEV.jpg
END:VEVENT
BEGIN:VEVENT
DTSTART;TZID=UTC:20260927T114500
DTEND;TZID=UTC:20260927T123000
DTSTAMP:20260422T022806
CREATED:20221031T111350Z
LAST-MODIFIED:20241217T123139Z
UID:10007517-1790509500-1790512200@trinityboardmills.org
SUMMARY:Sunday CE & Creche
DESCRIPTION:
URL:https://trinityboardmills.org/event/sundayce/2026-09-27/
LOCATION:Kerr Room
CATEGORIES:Children
ATTACH;FMTTYPE=image/jpeg:https://trinityboardmills.org/wp-content/uploads/2022/11/SundayCEEV.jpg
END:VEVENT
BEGIN:VEVENT
DTSTART;TZID=UTC:20261004T114500
DTEND;TZID=UTC:20261004T123000
DTSTAMP:20260422T022806
CREATED:20221031T111350Z
LAST-MODIFIED:20241217T123139Z
UID:10007518-1791114300-1791117000@trinityboardmills.org
SUMMARY:Sunday CE & Creche
DESCRIPTION:
URL:https://trinityboardmills.org/event/sundayce/2026-10-04/
LOCATION:Kerr Room
CATEGORIES:Children
ATTACH;FMTTYPE=image/jpeg:https://trinityboardmills.org/wp-content/uploads/2022/11/SundayCEEV.jpg
END:VEVENT
BEGIN:VEVENT
DTSTART;TZID=UTC:20261011T114500
DTEND;TZID=UTC:20261011T123000
DTSTAMP:20260422T022806
CREATED:20221031T111350Z
LAST-MODIFIED:20241217T123139Z
UID:10007519-1791719100-1791721800@trinityboardmills.org
SUMMARY:Sunday CE & Creche
DESCRIPTION:
URL:https://trinityboardmills.org/event/sundayce/2026-10-11/
LOCATION:Kerr Room
CATEGORIES:Children
ATTACH;FMTTYPE=image/jpeg:https://trinityboardmills.org/wp-content/uploads/2022/11/SundayCEEV.jpg
END:VEVENT
BEGIN:VEVENT
DTSTART;TZID=UTC:20261018T114500
DTEND;TZID=UTC:20261018T123000
DTSTAMP:20260422T022806
CREATED:20221031T111350Z
LAST-MODIFIED:20241217T123139Z
UID:10007520-1792323900-1792326600@trinityboardmills.org
SUMMARY:Sunday CE & Creche
DESCRIPTION:
URL:https://trinityboardmills.org/event/sundayce/2026-10-18/
LOCATION:Kerr Room
CATEGORIES:Children
ATTACH;FMTTYPE=image/jpeg:https://trinityboardmills.org/wp-content/uploads/2022/11/SundayCEEV.jpg
END:VEVENT
BEGIN:VEVENT
DTSTART;TZID=UTC:20261025T114500
DTEND;TZID=UTC:20261025T123000
DTSTAMP:20260422T022806
CREATED:20221031T111350Z
LAST-MODIFIED:20241217T123139Z
UID:10007521-1792928700-1792931400@trinityboardmills.org
SUMMARY:Sunday CE & Creche
DESCRIPTION:
URL:https://trinityboardmills.org/event/sundayce/2026-10-25/
LOCATION:Kerr Room
CATEGORIES:Children
ATTACH;FMTTYPE=image/jpeg:https://trinityboardmills.org/wp-content/uploads/2022/11/SundayCEEV.jpg
END:VEVENT
BEGIN:VEVENT
DTSTART;TZID=UTC:20261101T114500
DTEND;TZID=UTC:20261101T123000
DTSTAMP:20260422T022806
CREATED:20221031T111350Z
LAST-MODIFIED:20241217T123139Z
UID:10007522-1793533500-1793536200@trinityboardmills.org
SUMMARY:Sunday CE & Creche
DESCRIPTION:
URL:https://trinityboardmills.org/event/sundayce/2026-11-01/
LOCATION:Kerr Room
CATEGORIES:Children
ATTACH;FMTTYPE=image/jpeg:https://trinityboardmills.org/wp-content/uploads/2022/11/SundayCEEV.jpg
END:VEVENT
BEGIN:VEVENT
DTSTART;TZID=UTC:20261108T114500
DTEND;TZID=UTC:20261108T123000
DTSTAMP:20260422T022806
CREATED:20221031T111350Z
LAST-MODIFIED:20241217T123139Z
UID:10007523-1794138300-1794141000@trinityboardmills.org
SUMMARY:Sunday CE & Creche
DESCRIPTION:
URL:https://trinityboardmills.org/event/sundayce/2026-11-08/
LOCATION:Kerr Room
CATEGORIES:Children
ATTACH;FMTTYPE=image/jpeg:https://trinityboardmills.org/wp-content/uploads/2022/11/SundayCEEV.jpg
END:VEVENT
BEGIN:VEVENT
DTSTART;TZID=UTC:20261115T114500
DTEND;TZID=UTC:20261115T123000
DTSTAMP:20260422T022806
CREATED:20221031T111350Z
LAST-MODIFIED:20241217T123139Z
UID:10007524-1794743100-1794745800@trinityboardmills.org
SUMMARY:Sunday CE & Creche
DESCRIPTION:
URL:https://trinityboardmills.org/event/sundayce/2026-11-15/
LOCATION:Kerr Room
CATEGORIES:Children
ATTACH;FMTTYPE=image/jpeg:https://trinityboardmills.org/wp-content/uploads/2022/11/SundayCEEV.jpg
END:VEVENT
BEGIN:VEVENT
DTSTART;TZID=UTC:20261122T114500
DTEND;TZID=UTC:20261122T123000
DTSTAMP:20260422T022806
CREATED:20221031T111350Z
LAST-MODIFIED:20241217T123139Z
UID:10007525-1795347900-1795350600@trinityboardmills.org
SUMMARY:Sunday CE & Creche
DESCRIPTION:
URL:https://trinityboardmills.org/event/sundayce/2026-11-22/
LOCATION:Kerr Room
CATEGORIES:Children
ATTACH;FMTTYPE=image/jpeg:https://trinityboardmills.org/wp-content/uploads/2022/11/SundayCEEV.jpg
END:VEVENT
BEGIN:VEVENT
DTSTART;TZID=UTC:20261129T114500
DTEND;TZID=UTC:20261129T123000
DTSTAMP:20260422T022806
CREATED:20221031T111350Z
LAST-MODIFIED:20241217T123139Z
UID:10007526-1795952700-1795955400@trinityboardmills.org
SUMMARY:Sunday CE & Creche
DESCRIPTION:
URL:https://trinityboardmills.org/event/sundayce/2026-11-29/
LOCATION:Kerr Room
CATEGORIES:Children
ATTACH;FMTTYPE=image/jpeg:https://trinityboardmills.org/wp-content/uploads/2022/11/SundayCEEV.jpg
END:VEVENT
BEGIN:VEVENT
DTSTART;TZID=UTC:20261206T114500
DTEND;TZID=UTC:20261206T123000
DTSTAMP:20260422T022806
CREATED:20221031T111350Z
LAST-MODIFIED:20241217T123139Z
UID:10007527-1796557500-1796560200@trinityboardmills.org
SUMMARY:Sunday CE & Creche
DESCRIPTION:
URL:https://trinityboardmills.org/event/sundayce/2026-12-06/
LOCATION:Kerr Room
CATEGORIES:Children
ATTACH;FMTTYPE=image/jpeg:https://trinityboardmills.org/wp-content/uploads/2022/11/SundayCEEV.jpg
END:VEVENT
BEGIN:VEVENT
DTSTART;TZID=UTC:20261213T114500
DTEND;TZID=UTC:20261213T123000
DTSTAMP:20260422T022806
CREATED:20221031T111350Z
LAST-MODIFIED:20241217T123139Z
UID:10007528-1797162300-1797165000@trinityboardmills.org
SUMMARY:Sunday CE & Creche
DESCRIPTION:
URL:https://trinityboardmills.org/event/sundayce/2026-12-13/
LOCATION:Kerr Room
CATEGORIES:Children
ATTACH;FMTTYPE=image/jpeg:https://trinityboardmills.org/wp-content/uploads/2022/11/SundayCEEV.jpg
END:VEVENT
BEGIN:VEVENT
DTSTART;TZID=UTC:20261220T114500
DTEND;TZID=UTC:20261220T123000
DTSTAMP:20260422T022806
CREATED:20221031T111350Z
LAST-MODIFIED:20241217T123139Z
UID:10007529-1797767100-1797769800@trinityboardmills.org
SUMMARY:Sunday CE & Creche
DESCRIPTION:
URL:https://trinityboardmills.org/event/sundayce/2026-12-20/
LOCATION:Kerr Room
CATEGORIES:Children
ATTACH;FMTTYPE=image/jpeg:https://trinityboardmills.org/wp-content/uploads/2022/11/SundayCEEV.jpg
END:VEVENT
BEGIN:VEVENT
DTSTART;TZID=UTC:20261227T114500
DTEND;TZID=UTC:20261227T123000
DTSTAMP:20260422T022806
CREATED:20221031T111350Z
LAST-MODIFIED:20241217T123139Z
UID:10007530-1798371900-1798374600@trinityboardmills.org
SUMMARY:Sunday CE & Creche
DESCRIPTION:
URL:https://trinityboardmills.org/event/sundayce/2026-12-27/
LOCATION:Kerr Room
CATEGORIES:Children
ATTACH;FMTTYPE=image/jpeg:https://trinityboardmills.org/wp-content/uploads/2022/11/SundayCEEV.jpg
END:VEVENT
BEGIN:VEVENT
DTSTART;TZID=UTC:20270103T114500
DTEND;TZID=UTC:20270103T123000
DTSTAMP:20260422T022806
CREATED:20221031T111350Z
LAST-MODIFIED:20241217T123139Z
UID:10007531-1798976700-1798979400@trinityboardmills.org
SUMMARY:Sunday CE & Creche
DESCRIPTION:
URL:https://trinityboardmills.org/event/sundayce/2027-01-03/
LOCATION:Kerr Room
CATEGORIES:Children
ATTACH;FMTTYPE=image/jpeg:https://trinityboardmills.org/wp-content/uploads/2022/11/SundayCEEV.jpg
END:VEVENT
BEGIN:VEVENT
DTSTART;TZID=UTC:20270110T114500
DTEND;TZID=UTC:20270110T123000
DTSTAMP:20260422T022806
CREATED:20221031T111350Z
LAST-MODIFIED:20241217T123139Z
UID:10007532-1799581500-1799584200@trinityboardmills.org
SUMMARY:Sunday CE & Creche
DESCRIPTION:
URL:https://trinityboardmills.org/event/sundayce/2027-01-10/
LOCATION:Kerr Room
CATEGORIES:Children
ATTACH;FMTTYPE=image/jpeg:https://trinityboardmills.org/wp-content/uploads/2022/11/SundayCEEV.jpg
END:VEVENT
BEGIN:VEVENT
DTSTART;TZID=UTC:20270117T114500
DTEND;TZID=UTC:20270117T123000
DTSTAMP:20260422T022806
CREATED:20221031T111350Z
LAST-MODIFIED:20241217T123139Z
UID:10007533-1800186300-1800189000@trinityboardmills.org
SUMMARY:Sunday CE & Creche
DESCRIPTION:
URL:https://trinityboardmills.org/event/sundayce/2027-01-17/
LOCATION:Kerr Room
CATEGORIES:Children
ATTACH;FMTTYPE=image/jpeg:https://trinityboardmills.org/wp-content/uploads/2022/11/SundayCEEV.jpg
END:VEVENT
BEGIN:VEVENT
DTSTART;TZID=UTC:20270124T114500
DTEND;TZID=UTC:20270124T123000
DTSTAMP:20260422T022806
CREATED:20221031T111350Z
LAST-MODIFIED:20241217T123139Z
UID:10007534-1800791100-1800793800@trinityboardmills.org
SUMMARY:Sunday CE & Creche
DESCRIPTION:
URL:https://trinityboardmills.org/event/sundayce/2027-01-24/
LOCATION:Kerr Room
CATEGORIES:Children
ATTACH;FMTTYPE=image/jpeg:https://trinityboardmills.org/wp-content/uploads/2022/11/SundayCEEV.jpg
END:VEVENT
BEGIN:VEVENT
DTSTART;TZID=UTC:20270131T114500
DTEND;TZID=UTC:20270131T123000
DTSTAMP:20260422T022806
CREATED:20221031T111350Z
LAST-MODIFIED:20241217T123139Z
UID:10007535-1801395900-1801398600@trinityboardmills.org
SUMMARY:Sunday CE & Creche
DESCRIPTION:
URL:https://trinityboardmills.org/event/sundayce/2027-01-31/
LOCATION:Kerr Room
CATEGORIES:Children
ATTACH;FMTTYPE=image/jpeg:https://trinityboardmills.org/wp-content/uploads/2022/11/SundayCEEV.jpg
END:VEVENT
BEGIN:VEVENT
DTSTART;TZID=UTC:20270207T114500
DTEND;TZID=UTC:20270207T123000
DTSTAMP:20260422T022806
CREATED:20221031T111350Z
LAST-MODIFIED:20241217T123139Z
UID:10007536-1802000700-1802003400@trinityboardmills.org
SUMMARY:Sunday CE & Creche
DESCRIPTION:
URL:https://trinityboardmills.org/event/sundayce/2027-02-07/
LOCATION:Kerr Room
CATEGORIES:Children
ATTACH;FMTTYPE=image/jpeg:https://trinityboardmills.org/wp-content/uploads/2022/11/SundayCEEV.jpg
END:VEVENT
BEGIN:VEVENT
DTSTART;TZID=UTC:20270214T114500
DTEND;TZID=UTC:20270214T123000
DTSTAMP:20260422T022806
CREATED:20221031T111350Z
LAST-MODIFIED:20241217T123139Z
UID:10007537-1802605500-1802608200@trinityboardmills.org
SUMMARY:Sunday CE & Creche
DESCRIPTION:
URL:https://trinityboardmills.org/event/sundayce/2027-02-14/
LOCATION:Kerr Room
CATEGORIES:Children
ATTACH;FMTTYPE=image/jpeg:https://trinityboardmills.org/wp-content/uploads/2022/11/SundayCEEV.jpg
END:VEVENT
BEGIN:VEVENT
DTSTART;TZID=UTC:20270221T114500
DTEND;TZID=UTC:20270221T123000
DTSTAMP:20260422T022806
CREATED:20221031T111350Z
LAST-MODIFIED:20241217T123139Z
UID:10007538-1803210300-1803213000@trinityboardmills.org
SUMMARY:Sunday CE & Creche
DESCRIPTION:
URL:https://trinityboardmills.org/event/sundayce/2027-02-21/
LOCATION:Kerr Room
CATEGORIES:Children
ATTACH;FMTTYPE=image/jpeg:https://trinityboardmills.org/wp-content/uploads/2022/11/SundayCEEV.jpg
END:VEVENT
BEGIN:VEVENT
DTSTART;TZID=UTC:20270228T114500
DTEND;TZID=UTC:20270228T123000
DTSTAMP:20260422T022806
CREATED:20221031T111350Z
LAST-MODIFIED:20241217T123139Z
UID:10007539-1803815100-1803817800@trinityboardmills.org
SUMMARY:Sunday CE & Creche
DESCRIPTION:
URL:https://trinityboardmills.org/event/sundayce/2027-02-28/
LOCATION:Kerr Room
CATEGORIES:Children
ATTACH;FMTTYPE=image/jpeg:https://trinityboardmills.org/wp-content/uploads/2022/11/SundayCEEV.jpg
END:VEVENT
BEGIN:VEVENT
DTSTART;TZID=UTC:20270307T114500
DTEND;TZID=UTC:20270307T123000
DTSTAMP:20260422T022806
CREATED:20221031T111350Z
LAST-MODIFIED:20241217T123139Z
UID:10007540-1804419900-1804422600@trinityboardmills.org
SUMMARY:Sunday CE & Creche
DESCRIPTION:
URL:https://trinityboardmills.org/event/sundayce/2027-03-07/
LOCATION:Kerr Room
CATEGORIES:Children
ATTACH;FMTTYPE=image/jpeg:https://trinityboardmills.org/wp-content/uploads/2022/11/SundayCEEV.jpg
END:VEVENT
BEGIN:VEVENT
DTSTART;TZID=UTC:20270314T114500
DTEND;TZID=UTC:20270314T123000
DTSTAMP:20260422T022806
CREATED:20221031T111350Z
LAST-MODIFIED:20241217T123139Z
UID:10007541-1805024700-1805027400@trinityboardmills.org
SUMMARY:Sunday CE & Creche
DESCRIPTION:
URL:https://trinityboardmills.org/event/sundayce/2027-03-14/
LOCATION:Kerr Room
CATEGORIES:Children
ATTACH;FMTTYPE=image/jpeg:https://trinityboardmills.org/wp-content/uploads/2022/11/SundayCEEV.jpg
END:VEVENT
END:VCALENDAR