BEGIN:VCALENDAR
VERSION:2.0
PRODID:-//Trinity Presbyterian - ECPv6.15.20//NONSGML v1.0//EN
CALSCALE:GREGORIAN
METHOD:PUBLISH
X-ORIGINAL-URL:https://trinityboardmills.org
X-WR-CALDESC:Events for Trinity Presbyterian
REFRESH-INTERVAL;VALUE=DURATION:PT1H
X-Robots-Tag:noindex
X-PUBLISHED-TTL:PT1H
BEGIN:VTIMEZONE
TZID:UTC
BEGIN:STANDARD
TZOFFSETFROM:+0000
TZOFFSETTO:+0000
TZNAME:UTC
DTSTART:20230101T000000
END:STANDARD
END:VTIMEZONE
BEGIN:VEVENT
DTSTART;TZID=UTC:20240608T130000
DTEND;TZID=UTC:20240608T143000
DTSTAMP:20260419T182852
CREATED:20230606T171108Z
LAST-MODIFIED:20240530T111018Z
UID:10006831-1717851600-1717857000@trinityboardmills.org
SUMMARY:Pulse Family Fun Day
DESCRIPTION:End of Year Family Fun Day \nSat 8th June\n1:00-2:30pm \n– Inflatables\n– Games \n– Craft \n– Ice Cream\n– And lots more fun  \nWe’d love to see you there! \nTo help us plan and prepare\, please let us know who is attending using the link below:\nhttps://forms.gle/HXvr4DHehBgNrrmK8 \nPlease note…this is a family event\, therefore parents/guardians of primary age children should remain with their children for the duration of the event.
URL:https://trinityboardmills.org/event/pulsefunday/
LOCATION:Killaney Hall
CATEGORIES:Children,Featured
ATTACH;FMTTYPE=image/png:https://trinityboardmills.org/wp-content/uploads/2023/06/Pulse-Fun-Day-2.png
GEO:54.4662977;-5.9128505
END:VEVENT
BEGIN:VEVENT
DTSTART;TZID=UTC:20240617T183000
DTEND;TZID=UTC:20240617T203000
DTSTAMP:20260419T182852
CREATED:20230604T172727Z
LAST-MODIFIED:20240501T085017Z
UID:10006826-1718649000-1718656200@trinityboardmills.org
SUMMARY:Holiday Bible Club
DESCRIPTION:Holiday Bible Club is back! \nFrom 6.30pm – 8.30 pm  Monday 17th to Thursday 20th June and all primary age children P1-P7 are so welcome to join us in the McKee Hall at Trinity Pres. Boardmills. \nThe theme this year is Ready Steady Go for God and there will be Games\, Quizzes\, Memory Verses\, Songs and Bible Lessons.\nCome along and join in the fun – and you can bring a friend too!\nRegistration will be on the night.
URL:https://trinityboardmills.org/event/hbc/2024-06-17/
LOCATION:McKee Hall\, BT27 6UP\, United Kingdom
CATEGORIES:Children,Featured
ATTACH;FMTTYPE=image/jpeg:https://trinityboardmills.org/wp-content/uploads/2023/06/IMG-20240421-WA0000.jpg
GEO:54.466933365694;-5.9199475846608
END:VEVENT
BEGIN:VEVENT
DTSTART;TZID=UTC:20240618T183000
DTEND;TZID=UTC:20240618T203000
DTSTAMP:20260419T182852
CREATED:20230604T172727Z
LAST-MODIFIED:20240501T085017Z
UID:10010880-1718735400-1718742600@trinityboardmills.org
SUMMARY:Holiday Bible Club
DESCRIPTION:Holiday Bible Club is back! \nFrom 6.30pm – 8.30 pm  Monday 17th to Thursday 20th June and all primary age children P1-P7 are so welcome to join us in the McKee Hall at Trinity Pres. Boardmills. \nThe theme this year is Ready Steady Go for God and there will be Games\, Quizzes\, Memory Verses\, Songs and Bible Lessons.\nCome along and join in the fun – and you can bring a friend too!\nRegistration will be on the night.
URL:https://trinityboardmills.org/event/hbc/2024-06-18/
LOCATION:McKee Hall\, BT27 6UP\, United Kingdom
CATEGORIES:Children,Featured
ATTACH;FMTTYPE=image/jpeg:https://trinityboardmills.org/wp-content/uploads/2023/06/IMG-20240421-WA0000.jpg
GEO:54.466933365694;-5.9199475846608
END:VEVENT
BEGIN:VEVENT
DTSTART;TZID=UTC:20240619T183000
DTEND;TZID=UTC:20240619T203000
DTSTAMP:20260419T182852
CREATED:20230604T172727Z
LAST-MODIFIED:20240501T085017Z
UID:10010881-1718821800-1718829000@trinityboardmills.org
SUMMARY:Holiday Bible Club
DESCRIPTION:Holiday Bible Club is back! \nFrom 6.30pm – 8.30 pm  Monday 17th to Thursday 20th June and all primary age children P1-P7 are so welcome to join us in the McKee Hall at Trinity Pres. Boardmills. \nThe theme this year is Ready Steady Go for God and there will be Games\, Quizzes\, Memory Verses\, Songs and Bible Lessons.\nCome along and join in the fun – and you can bring a friend too!\nRegistration will be on the night.
URL:https://trinityboardmills.org/event/hbc/2024-06-19/
LOCATION:McKee Hall\, BT27 6UP\, United Kingdom
CATEGORIES:Children,Featured
ATTACH;FMTTYPE=image/jpeg:https://trinityboardmills.org/wp-content/uploads/2023/06/IMG-20240421-WA0000.jpg
GEO:54.466933365694;-5.9199475846608
END:VEVENT
END:VCALENDAR