BEGIN:VCALENDAR
VERSION:2.0
PRODID:-//Trinity Presbyterian - ECPv6.15.20//NONSGML v1.0//EN
CALSCALE:GREGORIAN
METHOD:PUBLISH
X-ORIGINAL-URL:https://trinityboardmills.org
X-WR-CALDESC:Events for Trinity Presbyterian
REFRESH-INTERVAL;VALUE=DURATION:PT1H
X-Robots-Tag:noindex
X-PUBLISHED-TTL:PT1H
BEGIN:VTIMEZONE
TZID:UTC
BEGIN:STANDARD
TZOFFSETFROM:+0000
TZOFFSETTO:+0000
TZNAME:UTC
DTSTART:20250101T000000
END:STANDARD
END:VTIMEZONE
BEGIN:VEVENT
DTSTART;TZID=UTC:20260413T123000
DTEND;TZID=UTC:20260413T140000
DTSTAMP:20260421T143232
CREATED:20250915T082912Z
LAST-MODIFIED:20260323T105058Z
UID:10017629-1776083400-1776088800@trinityboardmills.org
SUMMARY:Out For Lunch
DESCRIPTION:OUT FOR LUNCH is a community lunch hosted at Trinity Boardmills and open to all the community. Everyone is welcome\, so why not invite and bring a friend or neighbour along? Mr Gordon Wallace will bring items of praise. \nTo book your place Contact office@trinityboardmills.org
URL:https://trinityboardmills.org/event/out-for-lunch/
CATEGORIES:Adults,Featured
ATTACH;FMTTYPE=image/jpeg:https://trinityboardmills.org/wp-content/uploads/2025/09/IMG-20260323-WA0005.jpg
END:VEVENT
END:VCALENDAR