BEGIN:VCALENDAR
VERSION:2.0
PRODID:-//Trinity Presbyterian - ECPv6.15.20//NONSGML v1.0//EN
CALSCALE:GREGORIAN
METHOD:PUBLISH
X-WR-CALNAME:Trinity Presbyterian
X-ORIGINAL-URL:https://trinityboardmills.org
X-WR-CALDESC:Events for Trinity Presbyterian
REFRESH-INTERVAL;VALUE=DURATION:PT1H
X-Robots-Tag:noindex
X-PUBLISHED-TTL:PT1H
BEGIN:VTIMEZONE
TZID:UTC
BEGIN:STANDARD
TZOFFSETFROM:+0000
TZOFFSETTO:+0000
TZNAME:UTC
DTSTART:20230101T000000
END:STANDARD
END:VTIMEZONE
BEGIN:VEVENT
DTSTART;TZID=UTC:20240608T130000
DTEND;TZID=UTC:20240608T143000
DTSTAMP:20260420T004800
CREATED:20230606T171108Z
LAST-MODIFIED:20240530T111018Z
UID:10006831-1717851600-1717857000@trinityboardmills.org
SUMMARY:Pulse Family Fun Day
DESCRIPTION:End of Year Family Fun Day \nSat 8th June\n1:00-2:30pm \n– Inflatables\n– Games \n– Craft \n– Ice Cream\n– And lots more fun  \nWe’d love to see you there! \nTo help us plan and prepare\, please let us know who is attending using the link below:\nhttps://forms.gle/HXvr4DHehBgNrrmK8 \nPlease note…this is a family event\, therefore parents/guardians of primary age children should remain with their children for the duration of the event.
URL:https://trinityboardmills.org/event/pulsefunday/
LOCATION:Killaney Hall
CATEGORIES:Children,Featured
ATTACH;FMTTYPE=image/png:https://trinityboardmills.org/wp-content/uploads/2023/06/Pulse-Fun-Day-2.png
GEO:54.4662977;-5.9128505
END:VEVENT
BEGIN:VEVENT
DTSTART;TZID=UTC:20240617T183000
DTEND;TZID=UTC:20240617T203000
DTSTAMP:20260420T004800
CREATED:20230604T172727Z
LAST-MODIFIED:20240501T085017Z
UID:10006826-1718649000-1718656200@trinityboardmills.org
SUMMARY:Holiday Bible Club
DESCRIPTION:Holiday Bible Club is back! \nFrom 6.30pm – 8.30 pm  Monday 17th to Thursday 20th June and all primary age children P1-P7 are so welcome to join us in the McKee Hall at Trinity Pres. Boardmills. \nThe theme this year is Ready Steady Go for God and there will be Games\, Quizzes\, Memory Verses\, Songs and Bible Lessons.\nCome along and join in the fun – and you can bring a friend too!\nRegistration will be on the night.
URL:https://trinityboardmills.org/event/hbc/2024-06-17/
LOCATION:McKee Hall\, BT27 6UP\, United Kingdom
CATEGORIES:Children,Featured
ATTACH;FMTTYPE=image/jpeg:https://trinityboardmills.org/wp-content/uploads/2023/06/IMG-20240421-WA0000.jpg
GEO:54.466933365694;-5.9199475846608
END:VEVENT
BEGIN:VEVENT
DTSTART;TZID=UTC:20240618T183000
DTEND;TZID=UTC:20240618T203000
DTSTAMP:20260420T004801
CREATED:20230604T172727Z
LAST-MODIFIED:20240501T085017Z
UID:10010880-1718735400-1718742600@trinityboardmills.org
SUMMARY:Holiday Bible Club
DESCRIPTION:Holiday Bible Club is back! \nFrom 6.30pm – 8.30 pm  Monday 17th to Thursday 20th June and all primary age children P1-P7 are so welcome to join us in the McKee Hall at Trinity Pres. Boardmills. \nThe theme this year is Ready Steady Go for God and there will be Games\, Quizzes\, Memory Verses\, Songs and Bible Lessons.\nCome along and join in the fun – and you can bring a friend too!\nRegistration will be on the night.
URL:https://trinityboardmills.org/event/hbc/2024-06-18/
LOCATION:McKee Hall\, BT27 6UP\, United Kingdom
CATEGORIES:Children,Featured
ATTACH;FMTTYPE=image/jpeg:https://trinityboardmills.org/wp-content/uploads/2023/06/IMG-20240421-WA0000.jpg
GEO:54.466933365694;-5.9199475846608
END:VEVENT
BEGIN:VEVENT
DTSTART;TZID=UTC:20240619T183000
DTEND;TZID=UTC:20240619T203000
DTSTAMP:20260420T004801
CREATED:20230604T172727Z
LAST-MODIFIED:20240501T085017Z
UID:10010881-1718821800-1718829000@trinityboardmills.org
SUMMARY:Holiday Bible Club
DESCRIPTION:Holiday Bible Club is back! \nFrom 6.30pm – 8.30 pm  Monday 17th to Thursday 20th June and all primary age children P1-P7 are so welcome to join us in the McKee Hall at Trinity Pres. Boardmills. \nThe theme this year is Ready Steady Go for God and there will be Games\, Quizzes\, Memory Verses\, Songs and Bible Lessons.\nCome along and join in the fun – and you can bring a friend too!\nRegistration will be on the night.
URL:https://trinityboardmills.org/event/hbc/2024-06-19/
LOCATION:McKee Hall\, BT27 6UP\, United Kingdom
CATEGORIES:Children,Featured
ATTACH;FMTTYPE=image/jpeg:https://trinityboardmills.org/wp-content/uploads/2023/06/IMG-20240421-WA0000.jpg
GEO:54.466933365694;-5.9199475846608
END:VEVENT
BEGIN:VEVENT
DTSTART;TZID=UTC:20240805T133000
DTEND;TZID=UTC:20240805T160000
DTSTAMP:20260420T004801
CREATED:20240730T083947Z
LAST-MODIFIED:20240730T084033Z
UID:10010891-1722864600-1722873600@trinityboardmills.org
SUMMARY:Trinity Summer Camp
DESCRIPTION:We are excited for a full week of fun\, games and stories at Trinity Summer Camp! This year during the day we are running our primary school aged programme\, all children must have completed P1. There will be football\, games\, craft and bible stories. \nhttps://trinityboardmills.org/tsc/
URL:https://trinityboardmills.org/event/trinity-summer-camp/2024-08-05/
LOCATION:Killaney Hall
CATEGORIES:Children,Featured,Youth & Children
ATTACH;FMTTYPE=image/jpeg:https://trinityboardmills.org/wp-content/uploads/2022/11/CrecheEV.jpg
GEO:54.4662977;-5.9128505
END:VEVENT
BEGIN:VEVENT
DTSTART;TZID=UTC:20240805T190000
DTEND;TZID=UTC:20240805T210000
DTSTAMP:20260420T004801
CREATED:20240730T084326Z
LAST-MODIFIED:20240730T084723Z
UID:10010901-1722884400-1722891600@trinityboardmills.org
SUMMARY:Trinity Summer Camp - Teens
DESCRIPTION:This year we are BACK with a full programme for teens in the evening of our summer camp. Join us for 5 evenings of fun\, games and craic!! This event is open for all teens so grab a friend and come on down! \nhttps://trinityboardmills.org/tsc/
URL:https://trinityboardmills.org/event/trinity-summer-camp-teens/2024-08-05/
LOCATION:Killaney Hall
CATEGORIES:Featured,Youth & Children
ATTACH;FMTTYPE=image/jpeg:https://trinityboardmills.org/wp-content/uploads/2023/03/Pulse-web.jpg
GEO:54.4662977;-5.9128505
END:VEVENT
BEGIN:VEVENT
DTSTART;TZID=UTC:20240806T133000
DTEND;TZID=UTC:20240806T160000
DTSTAMP:20260420T004801
CREATED:20240730T083947Z
LAST-MODIFIED:20240730T084033Z
UID:10010892-1722951000-1722960000@trinityboardmills.org
SUMMARY:Trinity Summer Camp
DESCRIPTION:We are excited for a full week of fun\, games and stories at Trinity Summer Camp! This year during the day we are running our primary school aged programme\, all children must have completed P1. There will be football\, games\, craft and bible stories. \nhttps://trinityboardmills.org/tsc/
URL:https://trinityboardmills.org/event/trinity-summer-camp/2024-08-06/
LOCATION:Killaney Hall
CATEGORIES:Children,Featured,Youth & Children
ATTACH;FMTTYPE=image/jpeg:https://trinityboardmills.org/wp-content/uploads/2022/11/CrecheEV.jpg
GEO:54.4662977;-5.9128505
END:VEVENT
BEGIN:VEVENT
DTSTART;TZID=UTC:20240806T190000
DTEND;TZID=UTC:20240806T210000
DTSTAMP:20260420T004801
CREATED:20240730T084326Z
LAST-MODIFIED:20240730T084723Z
UID:10010902-1722970800-1722978000@trinityboardmills.org
SUMMARY:Trinity Summer Camp - Teens
DESCRIPTION:This year we are BACK with a full programme for teens in the evening of our summer camp. Join us for 5 evenings of fun\, games and craic!! This event is open for all teens so grab a friend and come on down! \nhttps://trinityboardmills.org/tsc/
URL:https://trinityboardmills.org/event/trinity-summer-camp-teens/2024-08-06/
LOCATION:Killaney Hall
CATEGORIES:Featured,Youth & Children
ATTACH;FMTTYPE=image/jpeg:https://trinityboardmills.org/wp-content/uploads/2023/03/Pulse-web.jpg
GEO:54.4662977;-5.9128505
END:VEVENT
BEGIN:VEVENT
DTSTART;TZID=UTC:20240807T133000
DTEND;TZID=UTC:20240807T160000
DTSTAMP:20260420T004801
CREATED:20240730T083947Z
LAST-MODIFIED:20240730T084033Z
UID:10010893-1723037400-1723046400@trinityboardmills.org
SUMMARY:Trinity Summer Camp
DESCRIPTION:We are excited for a full week of fun\, games and stories at Trinity Summer Camp! This year during the day we are running our primary school aged programme\, all children must have completed P1. There will be football\, games\, craft and bible stories. \nhttps://trinityboardmills.org/tsc/
URL:https://trinityboardmills.org/event/trinity-summer-camp/2024-08-07/
LOCATION:Killaney Hall
CATEGORIES:Children,Featured,Youth & Children
ATTACH;FMTTYPE=image/jpeg:https://trinityboardmills.org/wp-content/uploads/2022/11/CrecheEV.jpg
GEO:54.4662977;-5.9128505
END:VEVENT
BEGIN:VEVENT
DTSTART;TZID=UTC:20240807T190000
DTEND;TZID=UTC:20240807T210000
DTSTAMP:20260420T004801
CREATED:20240730T084326Z
LAST-MODIFIED:20240730T084723Z
UID:10010903-1723057200-1723064400@trinityboardmills.org
SUMMARY:Trinity Summer Camp - Teens
DESCRIPTION:This year we are BACK with a full programme for teens in the evening of our summer camp. Join us for 5 evenings of fun\, games and craic!! This event is open for all teens so grab a friend and come on down! \nhttps://trinityboardmills.org/tsc/
URL:https://trinityboardmills.org/event/trinity-summer-camp-teens/2024-08-07/
LOCATION:Killaney Hall
CATEGORIES:Featured,Youth & Children
ATTACH;FMTTYPE=image/jpeg:https://trinityboardmills.org/wp-content/uploads/2023/03/Pulse-web.jpg
GEO:54.4662977;-5.9128505
END:VEVENT
BEGIN:VEVENT
DTSTART;TZID=UTC:20240808T133000
DTEND;TZID=UTC:20240808T160000
DTSTAMP:20260420T004801
CREATED:20240730T083947Z
LAST-MODIFIED:20240730T084033Z
UID:10010894-1723123800-1723132800@trinityboardmills.org
SUMMARY:Trinity Summer Camp
DESCRIPTION:We are excited for a full week of fun\, games and stories at Trinity Summer Camp! This year during the day we are running our primary school aged programme\, all children must have completed P1. There will be football\, games\, craft and bible stories. \nhttps://trinityboardmills.org/tsc/
URL:https://trinityboardmills.org/event/trinity-summer-camp/2024-08-08/
LOCATION:Killaney Hall
CATEGORIES:Children,Featured,Youth & Children
ATTACH;FMTTYPE=image/jpeg:https://trinityboardmills.org/wp-content/uploads/2022/11/CrecheEV.jpg
GEO:54.4662977;-5.9128505
END:VEVENT
BEGIN:VEVENT
DTSTART;TZID=UTC:20240808T190000
DTEND;TZID=UTC:20240808T210000
DTSTAMP:20260420T004801
CREATED:20240730T084326Z
LAST-MODIFIED:20240730T084723Z
UID:10010904-1723143600-1723150800@trinityboardmills.org
SUMMARY:Trinity Summer Camp - Teens
DESCRIPTION:This year we are BACK with a full programme for teens in the evening of our summer camp. Join us for 5 evenings of fun\, games and craic!! This event is open for all teens so grab a friend and come on down! \nhttps://trinityboardmills.org/tsc/
URL:https://trinityboardmills.org/event/trinity-summer-camp-teens/2024-08-08/
LOCATION:Killaney Hall
CATEGORIES:Featured,Youth & Children
ATTACH;FMTTYPE=image/jpeg:https://trinityboardmills.org/wp-content/uploads/2023/03/Pulse-web.jpg
GEO:54.4662977;-5.9128505
END:VEVENT
BEGIN:VEVENT
DTSTART;TZID=UTC:20241010T193000
DTEND;TZID=UTC:20241010T210000
DTSTAMP:20260420T004801
CREATED:20240930T185923Z
LAST-MODIFIED:20240930T185923Z
UID:10013994-1728588600-1728594000@trinityboardmills.org
SUMMARY:TRINITY WOMEN - LOVE FOR LIFE
DESCRIPTION:Trinity Boardmills would love you to join us as we partner with Love for Life and explore their workshop Birds and Bees. \nThis event is open to all ladies who are parents / carers / aunties / grannies to inform us as we seek to help our children and young people navigate puberty\, the pressures they face and encourage them to develop healthy relationships with others. \nTopics covered in this presentation:\n• Pressures and influences on young people\n• Stages of child development\n• When and how to talk about puberty\, growing up and sex\n• Communication\n• Boundaries \nMore details on the Love for Life website https://www.loveforlife.org.uk/our-programmes/birds-and-bees/
URL:https://trinityboardmills.org/event/trinity-women-love-for-life/
LOCATION:McKee Hall\, BT27 6UP\, United Kingdom
CATEGORIES:Adults,Featured,Ladies
ATTACH;FMTTYPE=image/png:https://trinityboardmills.org/wp-content/uploads/2024/09/BirdsBees_Blue.png
GEO:54.466933365694;-5.9199475846608
END:VEVENT
BEGIN:VEVENT
DTSTART;TZID=UTC:20241212T193000
DTEND;TZID=UTC:20241212T210000
DTSTAMP:20260420T004801
CREATED:20231122T182756Z
LAST-MODIFIED:20241209T121129Z
UID:10009758-1734031800-1734037200@trinityboardmills.org
SUMMARY:Trinity Women Christmas Wreath Making & Carols
DESCRIPTION:Trinity Women invite you to take part in a Christmas Wreath making evening. The cost of making the wreath is £12. If you do not wish to take part in the actual wreath making please do come along and watch the demonstration\, enjoy the fun\, join with us in singing seasonal carols and having supper. Would those intending to take part in the wreath making contact a member of PW committee or email office@trinityboardmills.org for more details.
URL:https://trinityboardmills.org/event/trinity-women-craftcarols/
LOCATION:McKee Hall\, BT27 6UP\, United Kingdom
CATEGORIES:Featured,Ladies
ATTACH;FMTTYPE=image/jpeg:https://trinityboardmills.org/wp-content/uploads/2022/12/BBN-01.jpg
GEO:54.466933365694;-5.9199475846608
END:VEVENT
BEGIN:VEVENT
DTSTART;TZID=UTC:20241214T173000
DTEND;TZID=UTC:20241214T190000
DTSTAMP:20260420T004801
CREATED:20221110T102427Z
LAST-MODIFIED:20241210T173554Z
UID:10000017-1734197400-1734202800@trinityboardmills.org
SUMMARY:Journey to Bethlehem
DESCRIPTION:Join us for a night of fun for all ages as we journey through the Christmas story\, share food together along with craft\, games and carol singing.\nCost: Suggested Donation – £10 per family \nClick Here to Register
URL:https://trinityboardmills.org/event/journeytobethlehem/
LOCATION:Church Building\, BT27 6UP\, United Kingdom
CATEGORIES:Featured
ATTACH;FMTTYPE=image/jpeg:https://trinityboardmills.org/wp-content/uploads/2022/12/BBN-09.jpg
GEO:54.466933365694;-5.9199475846608
END:VEVENT
BEGIN:VEVENT
DTSTART;TZID=UTC:20241225T100000
DTEND;TZID=UTC:20241225T110000
DTSTAMP:20260420T004801
CREATED:20231211T115817Z
LAST-MODIFIED:20241209T122308Z
UID:10009794-1735120800-1735124400@trinityboardmills.org
SUMMARY:Christmas Morning Service
DESCRIPTION:
URL:https://trinityboardmills.org/event/christmas-morning-service/
LOCATION:Church Building\, BT27 6UP\, United Kingdom
CATEGORIES:Featured
ATTACH;FMTTYPE=image/jpeg:https://trinityboardmills.org/wp-content/uploads/2022/12/BBN-26.jpg
GEO:54.466933365694;-5.9199475846608
END:VEVENT
BEGIN:VEVENT
DTSTART;TZID=UTC:20250502T193000
DTEND;TZID=UTC:20250502T210000
DTSTAMP:20260420T004801
CREATED:20230314T153958Z
LAST-MODIFIED:20250425T204217Z
UID:10006593-1746214200-1746219600@trinityboardmills.org
SUMMARY:Trinity Church Quiz Night
DESCRIPTION:QUIZ NIGHT\nFriday 2nd May / 7:30-9:00 pm / McKee Hall\nAll ages welcome for a fun relaxed night!\nAll donations will go towards Trinity Young People for summer outreach programs. \n 
URL:https://trinityboardmills.org/event/churchquiz/
LOCATION:McKee Hall\, BT27 6UP\, United Kingdom
CATEGORIES:Featured,YF Featured,Youth & Children
ATTACH;FMTTYPE=image/jpeg:https://trinityboardmills.org/wp-content/uploads/2023/03/QUIZ-NIGHT-small.jpg
GEO:54.466933365694;-5.9199475846608
END:VEVENT
BEGIN:VEVENT
DTSTART;TZID=UTC:20250616T183000
DTEND;TZID=UTC:20250616T203000
DTSTAMP:20260420T004801
CREATED:20250513T075255Z
LAST-MODIFIED:20250513T075336Z
UID:10010882-1750098600-1750105800@trinityboardmills.org
SUMMARY:Holiday Bible Club
DESCRIPTION:Holiday Bible Club is back! \nFrom 6.30pm – 8.30 pm  Monday 16th to Thursday 19th June and all primary age children P1-P7 are so welcome to join us in the McKee Hall at Trinity Pres. Boardmills. \nThe theme this year is Amazing Treasures and there will be Games\, Quizzes\, Memory Verses\, Songs and Bible Lessons.\nCome along and join in the fun – and you can bring a friend too! \nRegistration will be on the night.
URL:https://trinityboardmills.org/event/hbc-2/2025-06-16/
LOCATION:McKee Hall\, BT27 6UP\, United Kingdom
CATEGORIES:Children,Featured
ATTACH;FMTTYPE=image/png:https://trinityboardmills.org/wp-content/uploads/2023/06/HBC2025_Image.png
GEO:54.466933365694;-5.9199475846608
END:VEVENT
BEGIN:VEVENT
DTSTART;TZID=UTC:20250617T183000
DTEND;TZID=UTC:20250617T203000
DTSTAMP:20260420T004801
CREATED:20250513T075255Z
LAST-MODIFIED:20250513T075336Z
UID:10015086-1750185000-1750192200@trinityboardmills.org
SUMMARY:Holiday Bible Club
DESCRIPTION:Holiday Bible Club is back! \nFrom 6.30pm – 8.30 pm  Monday 16th to Thursday 19th June and all primary age children P1-P7 are so welcome to join us in the McKee Hall at Trinity Pres. Boardmills. \nThe theme this year is Amazing Treasures and there will be Games\, Quizzes\, Memory Verses\, Songs and Bible Lessons.\nCome along and join in the fun – and you can bring a friend too! \nRegistration will be on the night.
URL:https://trinityboardmills.org/event/hbc-2/2025-06-17/
LOCATION:McKee Hall\, BT27 6UP\, United Kingdom
CATEGORIES:Children,Featured
ATTACH;FMTTYPE=image/png:https://trinityboardmills.org/wp-content/uploads/2023/06/HBC2025_Image.png
GEO:54.466933365694;-5.9199475846608
END:VEVENT
BEGIN:VEVENT
DTSTART;TZID=UTC:20250618T183000
DTEND;TZID=UTC:20250618T203000
DTSTAMP:20260420T004801
CREATED:20250513T075255Z
LAST-MODIFIED:20250513T075336Z
UID:10015087-1750271400-1750278600@trinityboardmills.org
SUMMARY:Holiday Bible Club
DESCRIPTION:Holiday Bible Club is back! \nFrom 6.30pm – 8.30 pm  Monday 16th to Thursday 19th June and all primary age children P1-P7 are so welcome to join us in the McKee Hall at Trinity Pres. Boardmills. \nThe theme this year is Amazing Treasures and there will be Games\, Quizzes\, Memory Verses\, Songs and Bible Lessons.\nCome along and join in the fun – and you can bring a friend too! \nRegistration will be on the night.
URL:https://trinityboardmills.org/event/hbc-2/2025-06-18/
LOCATION:McKee Hall\, BT27 6UP\, United Kingdom
CATEGORIES:Children,Featured
ATTACH;FMTTYPE=image/png:https://trinityboardmills.org/wp-content/uploads/2023/06/HBC2025_Image.png
GEO:54.466933365694;-5.9199475846608
END:VEVENT
BEGIN:VEVENT
DTSTART;TZID=UTC:20250619T183000
DTEND;TZID=UTC:20250619T203000
DTSTAMP:20260420T004801
CREATED:20250513T075255Z
LAST-MODIFIED:20250513T075336Z
UID:10015088-1750357800-1750365000@trinityboardmills.org
SUMMARY:Holiday Bible Club
DESCRIPTION:Holiday Bible Club is back! \nFrom 6.30pm – 8.30 pm  Monday 16th to Thursday 19th June and all primary age children P1-P7 are so welcome to join us in the McKee Hall at Trinity Pres. Boardmills. \nThe theme this year is Amazing Treasures and there will be Games\, Quizzes\, Memory Verses\, Songs and Bible Lessons.\nCome along and join in the fun – and you can bring a friend too! \nRegistration will be on the night.
URL:https://trinityboardmills.org/event/hbc-2/2025-06-19/
LOCATION:McKee Hall\, BT27 6UP\, United Kingdom
CATEGORIES:Children,Featured
ATTACH;FMTTYPE=image/png:https://trinityboardmills.org/wp-content/uploads/2023/06/HBC2025_Image.png
GEO:54.466933365694;-5.9199475846608
END:VEVENT
BEGIN:VEVENT
DTSTART;TZID=UTC:20250804T133000
DTEND;TZID=UTC:20250804T160000
DTSTAMP:20260420T004801
CREATED:20250617T081809Z
LAST-MODIFIED:20250617T081951Z
UID:10010895-1754314200-1754323200@trinityboardmills.org
SUMMARY:Trinity Summer Camp
DESCRIPTION:We are excited for a full week of fun\, games and stories at Trinity Summer Camp! This year during the day we are running our primary school aged programme\, all children must have completed P1. There will be football\, games\, craft and bible stories. \nhttps://trinityboardmills.org/tsc/
URL:https://trinityboardmills.org/event/tsc-primary/2025-08-04/
LOCATION:Killaney Hall
CATEGORIES:Children,Featured,Youth & Children
ATTACH;FMTTYPE=image/jpeg:https://trinityboardmills.org/wp-content/uploads/2023/08/TSC-Wed-23-24.jpg
GEO:54.4662977;-5.9128505
END:VEVENT
BEGIN:VEVENT
DTSTART;TZID=UTC:20250804T190000
DTEND;TZID=UTC:20250804T210000
DTSTAMP:20260420T004801
CREATED:20250617T082224Z
LAST-MODIFIED:20250620T080638Z
UID:10010905-1754334000-1754341200@trinityboardmills.org
SUMMARY:Trinity Summer Camp - Teens
DESCRIPTION:This year we are BACK with a full programme for teens (including those going into Year 8) in the evening of our summer camp. Join us for 5 evenings of fun\, games and craic!! This event is open for all teens so grab a friend and come on down! \nhttps://trinityboardmills.org/tsc/
URL:https://trinityboardmills.org/event/tsc-teens/2025-08-04/
LOCATION:Killaney Hall
CATEGORIES:Featured,Youth & Children
ATTACH;FMTTYPE=image/jpeg:https://trinityboardmills.org/wp-content/uploads/2023/08/TSC-Wed-23-55.jpg
GEO:54.4662977;-5.9128505
END:VEVENT
BEGIN:VEVENT
DTSTART;TZID=UTC:20250805T133000
DTEND;TZID=UTC:20250805T160000
DTSTAMP:20260420T004801
CREATED:20250617T081809Z
LAST-MODIFIED:20250617T081951Z
UID:10015353-1754400600-1754409600@trinityboardmills.org
SUMMARY:Trinity Summer Camp
DESCRIPTION:We are excited for a full week of fun\, games and stories at Trinity Summer Camp! This year during the day we are running our primary school aged programme\, all children must have completed P1. There will be football\, games\, craft and bible stories. \nhttps://trinityboardmills.org/tsc/
URL:https://trinityboardmills.org/event/tsc-primary/2025-08-05/
LOCATION:Killaney Hall
CATEGORIES:Children,Featured,Youth & Children
ATTACH;FMTTYPE=image/jpeg:https://trinityboardmills.org/wp-content/uploads/2023/08/TSC-Wed-23-24.jpg
GEO:54.4662977;-5.9128505
END:VEVENT
BEGIN:VEVENT
DTSTART;TZID=UTC:20250805T190000
DTEND;TZID=UTC:20250805T210000
DTSTAMP:20260420T004801
CREATED:20250617T082224Z
LAST-MODIFIED:20250620T080638Z
UID:10015357-1754420400-1754427600@trinityboardmills.org
SUMMARY:Trinity Summer Camp - Teens
DESCRIPTION:This year we are BACK with a full programme for teens (including those going into Year 8) in the evening of our summer camp. Join us for 5 evenings of fun\, games and craic!! This event is open for all teens so grab a friend and come on down! \nhttps://trinityboardmills.org/tsc/
URL:https://trinityboardmills.org/event/tsc-teens/2025-08-05/
LOCATION:Killaney Hall
CATEGORIES:Featured,Youth & Children
ATTACH;FMTTYPE=image/jpeg:https://trinityboardmills.org/wp-content/uploads/2023/08/TSC-Wed-23-55.jpg
GEO:54.4662977;-5.9128505
END:VEVENT
BEGIN:VEVENT
DTSTART;TZID=UTC:20250806T133000
DTEND;TZID=UTC:20250806T160000
DTSTAMP:20260420T004801
CREATED:20250617T081809Z
LAST-MODIFIED:20250617T081951Z
UID:10015354-1754487000-1754496000@trinityboardmills.org
SUMMARY:Trinity Summer Camp
DESCRIPTION:We are excited for a full week of fun\, games and stories at Trinity Summer Camp! This year during the day we are running our primary school aged programme\, all children must have completed P1. There will be football\, games\, craft and bible stories. \nhttps://trinityboardmills.org/tsc/
URL:https://trinityboardmills.org/event/tsc-primary/2025-08-06/
LOCATION:Killaney Hall
CATEGORIES:Children,Featured,Youth & Children
ATTACH;FMTTYPE=image/jpeg:https://trinityboardmills.org/wp-content/uploads/2023/08/TSC-Wed-23-24.jpg
GEO:54.4662977;-5.9128505
END:VEVENT
BEGIN:VEVENT
DTSTART;TZID=UTC:20250806T190000
DTEND;TZID=UTC:20250806T210000
DTSTAMP:20260420T004801
CREATED:20250617T082224Z
LAST-MODIFIED:20250620T080638Z
UID:10015358-1754506800-1754514000@trinityboardmills.org
SUMMARY:Trinity Summer Camp - Teens
DESCRIPTION:This year we are BACK with a full programme for teens (including those going into Year 8) in the evening of our summer camp. Join us for 5 evenings of fun\, games and craic!! This event is open for all teens so grab a friend and come on down! \nhttps://trinityboardmills.org/tsc/
URL:https://trinityboardmills.org/event/tsc-teens/2025-08-06/
LOCATION:Killaney Hall
CATEGORIES:Featured,Youth & Children
ATTACH;FMTTYPE=image/jpeg:https://trinityboardmills.org/wp-content/uploads/2023/08/TSC-Wed-23-55.jpg
GEO:54.4662977;-5.9128505
END:VEVENT
BEGIN:VEVENT
DTSTART;TZID=UTC:20250807T133000
DTEND;TZID=UTC:20250807T160000
DTSTAMP:20260420T004801
CREATED:20250617T081809Z
LAST-MODIFIED:20250617T081951Z
UID:10015355-1754573400-1754582400@trinityboardmills.org
SUMMARY:Trinity Summer Camp
DESCRIPTION:We are excited for a full week of fun\, games and stories at Trinity Summer Camp! This year during the day we are running our primary school aged programme\, all children must have completed P1. There will be football\, games\, craft and bible stories. \nhttps://trinityboardmills.org/tsc/
URL:https://trinityboardmills.org/event/tsc-primary/2025-08-07/
LOCATION:Killaney Hall
CATEGORIES:Children,Featured,Youth & Children
ATTACH;FMTTYPE=image/jpeg:https://trinityboardmills.org/wp-content/uploads/2023/08/TSC-Wed-23-24.jpg
GEO:54.4662977;-5.9128505
END:VEVENT
BEGIN:VEVENT
DTSTART;TZID=UTC:20250807T190000
DTEND;TZID=UTC:20250807T210000
DTSTAMP:20260420T004801
CREATED:20250617T082224Z
LAST-MODIFIED:20250620T080638Z
UID:10015359-1754593200-1754600400@trinityboardmills.org
SUMMARY:Trinity Summer Camp - Teens
DESCRIPTION:This year we are BACK with a full programme for teens (including those going into Year 8) in the evening of our summer camp. Join us for 5 evenings of fun\, games and craic!! This event is open for all teens so grab a friend and come on down! \nhttps://trinityboardmills.org/tsc/
URL:https://trinityboardmills.org/event/tsc-teens/2025-08-07/
LOCATION:Killaney Hall
CATEGORIES:Featured,Youth & Children
ATTACH;FMTTYPE=image/jpeg:https://trinityboardmills.org/wp-content/uploads/2023/08/TSC-Wed-23-55.jpg
GEO:54.4662977;-5.9128505
END:VEVENT
BEGIN:VEVENT
DTSTART;TZID=UTC:20250808T133000
DTEND;TZID=UTC:20250808T160000
DTSTAMP:20260420T004801
CREATED:20250617T081809Z
LAST-MODIFIED:20250617T081951Z
UID:10015356-1754659800-1754668800@trinityboardmills.org
SUMMARY:Trinity Summer Camp
DESCRIPTION:We are excited for a full week of fun\, games and stories at Trinity Summer Camp! This year during the day we are running our primary school aged programme\, all children must have completed P1. There will be football\, games\, craft and bible stories. \nhttps://trinityboardmills.org/tsc/
URL:https://trinityboardmills.org/event/tsc-primary/2025-08-08/
LOCATION:Killaney Hall
CATEGORIES:Children,Featured,Youth & Children
ATTACH;FMTTYPE=image/jpeg:https://trinityboardmills.org/wp-content/uploads/2023/08/TSC-Wed-23-24.jpg
GEO:54.4662977;-5.9128505
END:VEVENT
END:VCALENDAR