BEGIN:VCALENDAR
VERSION:2.0
PRODID:-//Trinity Presbyterian - ECPv6.15.20//NONSGML v1.0//EN
CALSCALE:GREGORIAN
METHOD:PUBLISH
X-WR-CALNAME:Trinity Presbyterian
X-ORIGINAL-URL:https://trinityboardmills.org
X-WR-CALDESC:Events for Trinity Presbyterian
REFRESH-INTERVAL;VALUE=DURATION:PT1H
X-Robots-Tag:noindex
X-PUBLISHED-TTL:PT1H
BEGIN:VTIMEZONE
TZID:UTC
BEGIN:STANDARD
TZOFFSETFROM:+0000
TZOFFSETTO:+0000
TZNAME:UTC
DTSTART:20230101T000000
END:STANDARD
END:VTIMEZONE
BEGIN:VEVENT
DTSTART;TZID=UTC:20241212T193000
DTEND;TZID=UTC:20241212T210000
DTSTAMP:20260420T065130
CREATED:20231122T182756Z
LAST-MODIFIED:20241209T121129Z
UID:10009758-1734031800-1734037200@trinityboardmills.org
SUMMARY:Trinity Women Christmas Wreath Making & Carols
DESCRIPTION:Trinity Women invite you to take part in a Christmas Wreath making evening. The cost of making the wreath is £12. If you do not wish to take part in the actual wreath making please do come along and watch the demonstration\, enjoy the fun\, join with us in singing seasonal carols and having supper. Would those intending to take part in the wreath making contact a member of PW committee or email office@trinityboardmills.org for more details.
URL:https://trinityboardmills.org/event/trinity-women-craftcarols/
LOCATION:McKee Hall\, BT27 6UP\, United Kingdom
CATEGORIES:Featured,Ladies
ATTACH;FMTTYPE=image/jpeg:https://trinityboardmills.org/wp-content/uploads/2022/12/BBN-01.jpg
GEO:54.466933365694;-5.9199475846608
END:VEVENT
BEGIN:VEVENT
DTSTART;TZID=UTC:20241214T173000
DTEND;TZID=UTC:20241214T190000
DTSTAMP:20260420T065130
CREATED:20221110T102427Z
LAST-MODIFIED:20241210T173554Z
UID:10000017-1734197400-1734202800@trinityboardmills.org
SUMMARY:Journey to Bethlehem
DESCRIPTION:Join us for a night of fun for all ages as we journey through the Christmas story\, share food together along with craft\, games and carol singing.\nCost: Suggested Donation – £10 per family \nClick Here to Register
URL:https://trinityboardmills.org/event/journeytobethlehem/
LOCATION:Church Building\, BT27 6UP\, United Kingdom
CATEGORIES:Featured
ATTACH;FMTTYPE=image/jpeg:https://trinityboardmills.org/wp-content/uploads/2022/12/BBN-09.jpg
GEO:54.466933365694;-5.9199475846608
END:VEVENT
END:VCALENDAR