BEGIN:VCALENDAR
VERSION:2.0
PRODID:-//Trinity Presbyterian - ECPv6.15.20//NONSGML v1.0//EN
CALSCALE:GREGORIAN
METHOD:PUBLISH
X-ORIGINAL-URL:https://trinityboardmills.org
X-WR-CALDESC:Events for Trinity Presbyterian
REFRESH-INTERVAL;VALUE=DURATION:PT1H
X-Robots-Tag:noindex
X-PUBLISHED-TTL:PT1H
BEGIN:VTIMEZONE
TZID:UTC
BEGIN:STANDARD
TZOFFSETFROM:+0000
TZOFFSETTO:+0000
TZNAME:UTC
DTSTART:20250101T000000
END:STANDARD
END:VTIMEZONE
BEGIN:VEVENT
DTSTART;TZID=UTC:20260204T193000
DTEND;TZID=UTC:20260204T210000
DTSTAMP:20260420T015719
CREATED:20260215T094115Z
LAST-MODIFIED:20260215T101205Z
UID:10018350-1770233400-1770238800@trinityboardmills.org
SUMMARY:Fellowship Groups (Wed)
DESCRIPTION:This session we will be studying Welcome\, the first and third Wednesday of the month in Killaney Hall.
URL:https://trinityboardmills.org/event/fellowship-groups-wed-3-3-2-2-2-2/2026-02-04/
LOCATION:Killaney Hall
CATEGORIES:Fellowship Groups Featured
ATTACH;FMTTYPE=image/jpeg:https://trinityboardmills.org/wp-content/uploads/2022/11/FellowshipGroupEV.jpg
GEO:54.4662977;-5.9128505
END:VEVENT
BEGIN:VEVENT
DTSTART;TZID=UTC:20260208T193000
DTEND;TZID=UTC:20260208T210000
DTSTAMP:20260420T015719
CREATED:20240105T155617Z
LAST-MODIFIED:20260201T092655Z
UID:10009810-1770579000-1770584400@trinityboardmills.org
SUMMARY:Fellowship Groups Launch Night
DESCRIPTION:Fellowship groups are a great way of getting to know one another better\, encourage one another and pray for one another as we study and learn together. \nWhether you have been involved in a group or haven’t joined one yet\, come along to our launch night to hear more about plans for this upcoming session\, sign-up to a group and get involved in going deeper in discipleship this year.
URL:https://trinityboardmills.org/event/fellowship-groups-launch-night/
LOCATION:McKee Hall\, BT27 6UP\, United Kingdom
CATEGORIES:Adults,Featured,Fellowship Groups Featured
ATTACH;FMTTYPE=image/jpeg:https://trinityboardmills.org/wp-content/uploads/2024/01/FellowshipGroupsLaunch.jpg
GEO:54.466933365694;-5.9199475846608
END:VEVENT
END:VCALENDAR