BEGIN:VCALENDAR
VERSION:2.0
PRODID:-//Trinity Presbyterian - ECPv6.15.20//NONSGML v1.0//EN
CALSCALE:GREGORIAN
METHOD:PUBLISH
X-WR-CALNAME:Trinity Presbyterian
X-ORIGINAL-URL:https://trinityboardmills.org
X-WR-CALDESC:Events for Trinity Presbyterian
REFRESH-INTERVAL;VALUE=DURATION:PT1H
X-Robots-Tag:noindex
X-PUBLISHED-TTL:PT1H
BEGIN:VTIMEZONE
TZID:UTC
BEGIN:STANDARD
TZOFFSETFROM:+0000
TZOFFSETTO:+0000
TZNAME:UTC
DTSTART:20230101T000000
END:STANDARD
END:VTIMEZONE
BEGIN:VEVENT
DTSTART;TZID=UTC:20240407T113000
DTEND;TZID=UTC:20240407T123000
DTSTAMP:20260425T125314
CREATED:20221031T111539Z
LAST-MODIFIED:20241217T123050Z
UID:10002971-1712489400-1712493000@trinityboardmills.org
SUMMARY:Morning Worship
DESCRIPTION:
URL:https://trinityboardmills.org/event/morning-service/2024-04-07/
LOCATION:Church Building\, BT27 6UP\, United Kingdom
CATEGORIES:Sunday
ATTACH;FMTTYPE=image/jpeg:https://trinityboardmills.org/wp-content/uploads/2022/11/SundayEV.jpg
GEO:54.466933365694;-5.9199475846608
END:VEVENT
BEGIN:VEVENT
DTSTART;TZID=UTC:20240414T113000
DTEND;TZID=UTC:20240414T123000
DTSTAMP:20260425T125314
CREATED:20221031T111539Z
LAST-MODIFIED:20241217T123050Z
UID:10002972-1713094200-1713097800@trinityboardmills.org
SUMMARY:Morning Worship
DESCRIPTION:
URL:https://trinityboardmills.org/event/morning-service/2024-04-14/
LOCATION:Church Building\, BT27 6UP\, United Kingdom
CATEGORIES:Sunday
ATTACH;FMTTYPE=image/jpeg:https://trinityboardmills.org/wp-content/uploads/2022/11/SundayEV.jpg
GEO:54.466933365694;-5.9199475846608
END:VEVENT
BEGIN:VEVENT
DTSTART;TZID=UTC:20240414T183000
DTEND;TZID=UTC:20240414T191500
DTSTAMP:20260425T125314
CREATED:20221031T111652Z
LAST-MODIFIED:20240630T125727Z
UID:10009206-1713119400-1713122100@trinityboardmills.org
SUMMARY:Evening Service
DESCRIPTION:
URL:https://trinityboardmills.org/event/evening-service/2024-04-14/
LOCATION:Church Building\, BT27 6UP\, United Kingdom
CATEGORIES:Sunday
ATTACH;FMTTYPE=image/jpeg:https://trinityboardmills.org/wp-content/uploads/2022/11/EveningServiceEV.jpg
GEO:54.466933365694;-5.9199475846608
END:VEVENT
BEGIN:VEVENT
DTSTART;TZID=UTC:20240414T183000
DTEND;TZID=UTC:20240414T193000
DTSTAMP:20260425T125314
CREATED:20231122T083449Z
LAST-MODIFIED:20240408T200625Z
UID:10009746-1713119400-1713123000@trinityboardmills.org
SUMMARY:Worship Night
DESCRIPTION:Worship led by Zoe\, Caitlyn and Abi with guest speaker Jordan Graham \nYF afterwards in McKee Hall at 7:30
URL:https://trinityboardmills.org/event/worshipnight/
LOCATION:Church Building\, BT27 6UP\, United Kingdom
CATEGORIES:Adults,Featured,Sunday,YF Featured,Youth & Children
ATTACH;FMTTYPE=image/png:https://trinityboardmills.org/wp-content/uploads/2023/11/Trinity-Worship-Night-1.png
GEO:54.466933365694;-5.9199475846608
END:VEVENT
BEGIN:VEVENT
DTSTART;TZID=UTC:20240421T113000
DTEND;TZID=UTC:20240421T123000
DTSTAMP:20260425T125314
CREATED:20221031T111539Z
LAST-MODIFIED:20241217T123050Z
UID:10002973-1713699000-1713702600@trinityboardmills.org
SUMMARY:Morning Worship
DESCRIPTION:
URL:https://trinityboardmills.org/event/morning-service/2024-04-21/
LOCATION:Church Building\, BT27 6UP\, United Kingdom
CATEGORIES:Sunday
ATTACH;FMTTYPE=image/jpeg:https://trinityboardmills.org/wp-content/uploads/2022/11/SundayEV.jpg
GEO:54.466933365694;-5.9199475846608
END:VEVENT
BEGIN:VEVENT
DTSTART;TZID=UTC:20240421T183000
DTEND;TZID=UTC:20240421T191500
DTSTAMP:20260425T125314
CREATED:20221031T111652Z
LAST-MODIFIED:20240630T125727Z
UID:10009207-1713724200-1713726900@trinityboardmills.org
SUMMARY:Evening Service
DESCRIPTION:
URL:https://trinityboardmills.org/event/evening-service/2024-04-21/
LOCATION:Church Building\, BT27 6UP\, United Kingdom
CATEGORIES:Sunday
ATTACH;FMTTYPE=image/jpeg:https://trinityboardmills.org/wp-content/uploads/2022/11/EveningServiceEV.jpg
GEO:54.466933365694;-5.9199475846608
END:VEVENT
BEGIN:VEVENT
DTSTART;TZID=UTC:20240428T113000
DTEND;TZID=UTC:20240428T123000
DTSTAMP:20260425T125314
CREATED:20221031T111539Z
LAST-MODIFIED:20241217T123050Z
UID:10002974-1714303800-1714307400@trinityboardmills.org
SUMMARY:Morning Worship
DESCRIPTION:
URL:https://trinityboardmills.org/event/morning-service/2024-04-28/
LOCATION:Church Building\, BT27 6UP\, United Kingdom
CATEGORIES:Sunday
ATTACH;FMTTYPE=image/jpeg:https://trinityboardmills.org/wp-content/uploads/2022/11/SundayEV.jpg
GEO:54.466933365694;-5.9199475846608
END:VEVENT
BEGIN:VEVENT
DTSTART;TZID=UTC:20240428T183000
DTEND;TZID=UTC:20240428T191500
DTSTAMP:20260425T125314
CREATED:20221031T111652Z
LAST-MODIFIED:20240630T125727Z
UID:10009208-1714329000-1714331700@trinityboardmills.org
SUMMARY:Evening Service
DESCRIPTION:
URL:https://trinityboardmills.org/event/evening-service/2024-04-28/
LOCATION:Church Building\, BT27 6UP\, United Kingdom
CATEGORIES:Sunday
ATTACH;FMTTYPE=image/jpeg:https://trinityboardmills.org/wp-content/uploads/2022/11/EveningServiceEV.jpg
GEO:54.466933365694;-5.9199475846608
END:VEVENT
BEGIN:VEVENT
DTSTART;TZID=UTC:20240505T113000
DTEND;TZID=UTC:20240505T123000
DTSTAMP:20260425T125314
CREATED:20221031T111539Z
LAST-MODIFIED:20241217T123050Z
UID:10002975-1714908600-1714912200@trinityboardmills.org
SUMMARY:Morning Worship
DESCRIPTION:
URL:https://trinityboardmills.org/event/morning-service/2024-05-05/
LOCATION:Church Building\, BT27 6UP\, United Kingdom
CATEGORIES:Sunday
ATTACH;FMTTYPE=image/jpeg:https://trinityboardmills.org/wp-content/uploads/2022/11/SundayEV.jpg
GEO:54.466933365694;-5.9199475846608
END:VEVENT
BEGIN:VEVENT
DTSTART;TZID=UTC:20240505T183000
DTEND;TZID=UTC:20240505T191500
DTSTAMP:20260425T125314
CREATED:20221031T111652Z
LAST-MODIFIED:20240630T125727Z
UID:10009209-1714933800-1714936500@trinityboardmills.org
SUMMARY:Evening Service
DESCRIPTION:
URL:https://trinityboardmills.org/event/evening-service/2024-05-05/
LOCATION:Church Building\, BT27 6UP\, United Kingdom
CATEGORIES:Sunday
ATTACH;FMTTYPE=image/jpeg:https://trinityboardmills.org/wp-content/uploads/2022/11/EveningServiceEV.jpg
GEO:54.466933365694;-5.9199475846608
END:VEVENT
BEGIN:VEVENT
DTSTART;TZID=UTC:20240512T113000
DTEND;TZID=UTC:20240512T123000
DTSTAMP:20260425T125314
CREATED:20221031T111539Z
LAST-MODIFIED:20241217T123050Z
UID:10002976-1715513400-1715517000@trinityboardmills.org
SUMMARY:Morning Worship
DESCRIPTION:
URL:https://trinityboardmills.org/event/morning-service/2024-05-12/
LOCATION:Church Building\, BT27 6UP\, United Kingdom
CATEGORIES:Sunday
ATTACH;FMTTYPE=image/jpeg:https://trinityboardmills.org/wp-content/uploads/2022/11/SundayEV.jpg
GEO:54.466933365694;-5.9199475846608
END:VEVENT
BEGIN:VEVENT
DTSTART;TZID=UTC:20240512T183000
DTEND;TZID=UTC:20240512T191500
DTSTAMP:20260425T125314
CREATED:20221031T111652Z
LAST-MODIFIED:20240630T125727Z
UID:10009210-1715538600-1715541300@trinityboardmills.org
SUMMARY:Evening Service
DESCRIPTION:
URL:https://trinityboardmills.org/event/evening-service/2024-05-12/
LOCATION:Church Building\, BT27 6UP\, United Kingdom
CATEGORIES:Sunday
ATTACH;FMTTYPE=image/jpeg:https://trinityboardmills.org/wp-content/uploads/2022/11/EveningServiceEV.jpg
GEO:54.466933365694;-5.9199475846608
END:VEVENT
BEGIN:VEVENT
DTSTART;TZID=UTC:20240519T113000
DTEND;TZID=UTC:20240519T123000
DTSTAMP:20260425T125314
CREATED:20221031T111539Z
LAST-MODIFIED:20241217T123050Z
UID:10002977-1716118200-1716121800@trinityboardmills.org
SUMMARY:Morning Worship
DESCRIPTION:
URL:https://trinityboardmills.org/event/morning-service/2024-05-19/
LOCATION:Church Building\, BT27 6UP\, United Kingdom
CATEGORIES:Sunday
ATTACH;FMTTYPE=image/jpeg:https://trinityboardmills.org/wp-content/uploads/2022/11/SundayEV.jpg
GEO:54.466933365694;-5.9199475846608
END:VEVENT
BEGIN:VEVENT
DTSTART;TZID=UTC:20240519T183000
DTEND;TZID=UTC:20240519T191500
DTSTAMP:20260425T125314
CREATED:20221031T111652Z
LAST-MODIFIED:20240630T125727Z
UID:10009211-1716143400-1716146100@trinityboardmills.org
SUMMARY:Evening Service
DESCRIPTION:
URL:https://trinityboardmills.org/event/evening-service/2024-05-19/
LOCATION:Church Building\, BT27 6UP\, United Kingdom
CATEGORIES:Sunday
ATTACH;FMTTYPE=image/jpeg:https://trinityboardmills.org/wp-content/uploads/2022/11/EveningServiceEV.jpg
GEO:54.466933365694;-5.9199475846608
END:VEVENT
BEGIN:VEVENT
DTSTART;TZID=UTC:20240526T113000
DTEND;TZID=UTC:20240526T123000
DTSTAMP:20260425T125314
CREATED:20221031T111539Z
LAST-MODIFIED:20241217T123050Z
UID:10002978-1716723000-1716726600@trinityboardmills.org
SUMMARY:Morning Worship
DESCRIPTION:
URL:https://trinityboardmills.org/event/morning-service/2024-05-26/
LOCATION:Church Building\, BT27 6UP\, United Kingdom
CATEGORIES:Sunday
ATTACH;FMTTYPE=image/jpeg:https://trinityboardmills.org/wp-content/uploads/2022/11/SundayEV.jpg
GEO:54.466933365694;-5.9199475846608
END:VEVENT
BEGIN:VEVENT
DTSTART;TZID=UTC:20240526T183000
DTEND;TZID=UTC:20240526T191500
DTSTAMP:20260425T125314
CREATED:20221031T111652Z
LAST-MODIFIED:20240630T125727Z
UID:10009212-1716748200-1716750900@trinityboardmills.org
SUMMARY:Evening Service
DESCRIPTION:
URL:https://trinityboardmills.org/event/evening-service/2024-05-26/
LOCATION:Church Building\, BT27 6UP\, United Kingdom
CATEGORIES:Sunday
ATTACH;FMTTYPE=image/jpeg:https://trinityboardmills.org/wp-content/uploads/2022/11/EveningServiceEV.jpg
GEO:54.466933365694;-5.9199475846608
END:VEVENT
BEGIN:VEVENT
DTSTART;TZID=UTC:20240602T113000
DTEND;TZID=UTC:20240602T123000
DTSTAMP:20260425T125314
CREATED:20221031T111539Z
LAST-MODIFIED:20241217T123050Z
UID:10002979-1717327800-1717331400@trinityboardmills.org
SUMMARY:Morning Worship
DESCRIPTION:
URL:https://trinityboardmills.org/event/morning-service/2024-06-02/
LOCATION:Church Building\, BT27 6UP\, United Kingdom
CATEGORIES:Sunday
ATTACH;FMTTYPE=image/jpeg:https://trinityboardmills.org/wp-content/uploads/2022/11/SundayEV.jpg
GEO:54.466933365694;-5.9199475846608
END:VEVENT
BEGIN:VEVENT
DTSTART;TZID=UTC:20240602T183000
DTEND;TZID=UTC:20240602T191500
DTSTAMP:20260425T125314
CREATED:20221031T111652Z
LAST-MODIFIED:20240630T125727Z
UID:10009213-1717353000-1717355700@trinityboardmills.org
SUMMARY:Evening Service
DESCRIPTION:
URL:https://trinityboardmills.org/event/evening-service/2024-06-02/
LOCATION:Church Building\, BT27 6UP\, United Kingdom
CATEGORIES:Sunday
ATTACH;FMTTYPE=image/jpeg:https://trinityboardmills.org/wp-content/uploads/2022/11/EveningServiceEV.jpg
GEO:54.466933365694;-5.9199475846608
END:VEVENT
BEGIN:VEVENT
DTSTART;TZID=UTC:20240609T113000
DTEND;TZID=UTC:20240609T123000
DTSTAMP:20260425T125314
CREATED:20221031T111539Z
LAST-MODIFIED:20241217T123050Z
UID:10002980-1717932600-1717936200@trinityboardmills.org
SUMMARY:Morning Worship
DESCRIPTION:
URL:https://trinityboardmills.org/event/morning-service/2024-06-09/
LOCATION:Church Building\, BT27 6UP\, United Kingdom
CATEGORIES:Sunday
ATTACH;FMTTYPE=image/jpeg:https://trinityboardmills.org/wp-content/uploads/2022/11/SundayEV.jpg
GEO:54.466933365694;-5.9199475846608
END:VEVENT
BEGIN:VEVENT
DTSTART;TZID=UTC:20240609T183000
DTEND;TZID=UTC:20240609T191500
DTSTAMP:20260425T125314
CREATED:20221031T111652Z
LAST-MODIFIED:20240630T125727Z
UID:10009214-1717957800-1717960500@trinityboardmills.org
SUMMARY:Evening Service
DESCRIPTION:
URL:https://trinityboardmills.org/event/evening-service/2024-06-09/
LOCATION:Church Building\, BT27 6UP\, United Kingdom
CATEGORIES:Sunday
ATTACH;FMTTYPE=image/jpeg:https://trinityboardmills.org/wp-content/uploads/2022/11/EveningServiceEV.jpg
GEO:54.466933365694;-5.9199475846608
END:VEVENT
BEGIN:VEVENT
DTSTART;TZID=UTC:20240616T113000
DTEND;TZID=UTC:20240616T123000
DTSTAMP:20260425T125314
CREATED:20221031T111539Z
LAST-MODIFIED:20241217T123050Z
UID:10002981-1718537400-1718541000@trinityboardmills.org
SUMMARY:Morning Worship
DESCRIPTION:
URL:https://trinityboardmills.org/event/morning-service/2024-06-16/
LOCATION:Church Building\, BT27 6UP\, United Kingdom
CATEGORIES:Sunday
ATTACH;FMTTYPE=image/jpeg:https://trinityboardmills.org/wp-content/uploads/2022/11/SundayEV.jpg
GEO:54.466933365694;-5.9199475846608
END:VEVENT
BEGIN:VEVENT
DTSTART;TZID=UTC:20240616T183000
DTEND;TZID=UTC:20240616T191500
DTSTAMP:20260425T125314
CREATED:20221031T111652Z
LAST-MODIFIED:20240630T125727Z
UID:10009215-1718562600-1718565300@trinityboardmills.org
SUMMARY:Evening Service
DESCRIPTION:
URL:https://trinityboardmills.org/event/evening-service/2024-06-16/
LOCATION:Church Building\, BT27 6UP\, United Kingdom
CATEGORIES:Sunday
ATTACH;FMTTYPE=image/jpeg:https://trinityboardmills.org/wp-content/uploads/2022/11/EveningServiceEV.jpg
GEO:54.466933365694;-5.9199475846608
END:VEVENT
BEGIN:VEVENT
DTSTART;TZID=UTC:20240623T113000
DTEND;TZID=UTC:20240623T123000
DTSTAMP:20260425T125314
CREATED:20221031T111539Z
LAST-MODIFIED:20241217T123050Z
UID:10002982-1719142200-1719145800@trinityboardmills.org
SUMMARY:Morning Worship
DESCRIPTION:
URL:https://trinityboardmills.org/event/morning-service/2024-06-23/
LOCATION:Church Building\, BT27 6UP\, United Kingdom
CATEGORIES:Sunday
ATTACH;FMTTYPE=image/jpeg:https://trinityboardmills.org/wp-content/uploads/2022/11/SundayEV.jpg
GEO:54.466933365694;-5.9199475846608
END:VEVENT
BEGIN:VEVENT
DTSTART;TZID=UTC:20240630T113000
DTEND;TZID=UTC:20240630T123000
DTSTAMP:20260425T125314
CREATED:20221031T111539Z
LAST-MODIFIED:20241217T123050Z
UID:10002983-1719747000-1719750600@trinityboardmills.org
SUMMARY:Morning Worship
DESCRIPTION:
URL:https://trinityboardmills.org/event/morning-service/2024-06-30/
LOCATION:Church Building\, BT27 6UP\, United Kingdom
CATEGORIES:Sunday
ATTACH;FMTTYPE=image/jpeg:https://trinityboardmills.org/wp-content/uploads/2022/11/SundayEV.jpg
GEO:54.466933365694;-5.9199475846608
END:VEVENT
BEGIN:VEVENT
DTSTART;TZID=UTC:20240707T113000
DTEND;TZID=UTC:20240707T123000
DTSTAMP:20260425T125314
CREATED:20221031T111539Z
LAST-MODIFIED:20241217T123050Z
UID:10002984-1720351800-1720355400@trinityboardmills.org
SUMMARY:Morning Worship
DESCRIPTION:
URL:https://trinityboardmills.org/event/morning-service/2024-07-07/
LOCATION:Church Building\, BT27 6UP\, United Kingdom
CATEGORIES:Sunday
ATTACH;FMTTYPE=image/jpeg:https://trinityboardmills.org/wp-content/uploads/2022/11/SundayEV.jpg
GEO:54.466933365694;-5.9199475846608
END:VEVENT
BEGIN:VEVENT
DTSTART;TZID=UTC:20240714T113000
DTEND;TZID=UTC:20240714T123000
DTSTAMP:20260425T125314
CREATED:20221031T111539Z
LAST-MODIFIED:20241217T123050Z
UID:10002985-1720956600-1720960200@trinityboardmills.org
SUMMARY:Morning Worship
DESCRIPTION:
URL:https://trinityboardmills.org/event/morning-service/2024-07-14/
LOCATION:Church Building\, BT27 6UP\, United Kingdom
CATEGORIES:Sunday
ATTACH;FMTTYPE=image/jpeg:https://trinityboardmills.org/wp-content/uploads/2022/11/SundayEV.jpg
GEO:54.466933365694;-5.9199475846608
END:VEVENT
BEGIN:VEVENT
DTSTART;TZID=UTC:20240721T113000
DTEND;TZID=UTC:20240721T123000
DTSTAMP:20260425T125314
CREATED:20221031T111539Z
LAST-MODIFIED:20241217T123050Z
UID:10002986-1721561400-1721565000@trinityboardmills.org
SUMMARY:Morning Worship
DESCRIPTION:
URL:https://trinityboardmills.org/event/morning-service/2024-07-21/
LOCATION:Church Building\, BT27 6UP\, United Kingdom
CATEGORIES:Sunday
ATTACH;FMTTYPE=image/jpeg:https://trinityboardmills.org/wp-content/uploads/2022/11/SundayEV.jpg
GEO:54.466933365694;-5.9199475846608
END:VEVENT
BEGIN:VEVENT
DTSTART;TZID=UTC:20240728T113000
DTEND;TZID=UTC:20240728T123000
DTSTAMP:20260425T125314
CREATED:20221031T111539Z
LAST-MODIFIED:20241217T123050Z
UID:10002987-1722166200-1722169800@trinityboardmills.org
SUMMARY:Morning Worship
DESCRIPTION:
URL:https://trinityboardmills.org/event/morning-service/2024-07-28/
LOCATION:Church Building\, BT27 6UP\, United Kingdom
CATEGORIES:Sunday
ATTACH;FMTTYPE=image/jpeg:https://trinityboardmills.org/wp-content/uploads/2022/11/SundayEV.jpg
GEO:54.466933365694;-5.9199475846608
END:VEVENT
BEGIN:VEVENT
DTSTART;TZID=UTC:20240804T113000
DTEND;TZID=UTC:20240804T123000
DTSTAMP:20260425T125314
CREATED:20221031T111539Z
LAST-MODIFIED:20241217T123050Z
UID:10002988-1722771000-1722774600@trinityboardmills.org
SUMMARY:Morning Worship
DESCRIPTION:
URL:https://trinityboardmills.org/event/morning-service/2024-08-04/
LOCATION:Church Building\, BT27 6UP\, United Kingdom
CATEGORIES:Sunday
ATTACH;FMTTYPE=image/jpeg:https://trinityboardmills.org/wp-content/uploads/2022/11/SundayEV.jpg
GEO:54.466933365694;-5.9199475846608
END:VEVENT
BEGIN:VEVENT
DTSTART;TZID=UTC:20240811T113000
DTEND;TZID=UTC:20240811T123000
DTSTAMP:20260425T125314
CREATED:20221031T111539Z
LAST-MODIFIED:20241217T123050Z
UID:10002989-1723375800-1723379400@trinityboardmills.org
SUMMARY:Morning Worship
DESCRIPTION:
URL:https://trinityboardmills.org/event/morning-service/2024-08-11/
LOCATION:Church Building\, BT27 6UP\, United Kingdom
CATEGORIES:Sunday
ATTACH;FMTTYPE=image/jpeg:https://trinityboardmills.org/wp-content/uploads/2022/11/SundayEV.jpg
GEO:54.466933365694;-5.9199475846608
END:VEVENT
END:VCALENDAR