BEGIN:VCALENDAR
VERSION:2.0
PRODID:-//Trinity Presbyterian - ECPv6.15.20//NONSGML v1.0//EN
CALSCALE:GREGORIAN
METHOD:PUBLISH
X-ORIGINAL-URL:https://trinityboardmills.org
X-WR-CALDESC:Events for Trinity Presbyterian
REFRESH-INTERVAL;VALUE=DURATION:PT1H
X-Robots-Tag:noindex
X-PUBLISHED-TTL:PT1H
BEGIN:VTIMEZONE
TZID:UTC
BEGIN:STANDARD
TZOFFSETFROM:+0000
TZOFFSETTO:+0000
TZNAME:UTC
DTSTART:20250101T000000
END:STANDARD
END:VTIMEZONE
BEGIN:VEVENT
DTSTART;TZID=UTC:20260111T113000
DTEND;TZID=UTC:20260111T123000
DTSTAMP:20260420T002059
CREATED:20221031T111539Z
LAST-MODIFIED:20241217T123050Z
UID:10003063-1768131000-1768134600@trinityboardmills.org
SUMMARY:Morning Worship
DESCRIPTION:
URL:https://trinityboardmills.org/event/morning-service/2026-01-11/
LOCATION:Church Building\, BT27 6UP\, United Kingdom
CATEGORIES:Sunday
ATTACH;FMTTYPE=image/jpeg:https://trinityboardmills.org/wp-content/uploads/2022/11/SundayEV.jpg
GEO:54.466933365694;-5.9199475846608
END:VEVENT
BEGIN:VEVENT
DTSTART;TZID=UTC:20260111T183000
DTEND;TZID=UTC:20260111T191500
DTSTAMP:20260420T002059
CREATED:20240903T080905Z
LAST-MODIFIED:20260405T092003Z
UID:10010975-1768156200-1768158900@trinityboardmills.org
SUMMARY:Evening Service
DESCRIPTION:
URL:https://trinityboardmills.org/event/evening-service-2/2026-01-11/
LOCATION:Church Building\, BT27 6UP\, United Kingdom
CATEGORIES:Sunday
ATTACH;FMTTYPE=image/jpeg:https://trinityboardmills.org/wp-content/uploads/2022/11/EveningServiceEV.jpg
GEO:54.466933365694;-5.9199475846608
END:VEVENT
BEGIN:VEVENT
DTSTART;TZID=UTC:20260118T113000
DTEND;TZID=UTC:20260118T123000
DTSTAMP:20260420T002059
CREATED:20221031T111539Z
LAST-MODIFIED:20241217T123050Z
UID:10003064-1768735800-1768739400@trinityboardmills.org
SUMMARY:Morning Worship
DESCRIPTION:
URL:https://trinityboardmills.org/event/morning-service/2026-01-18/
LOCATION:Church Building\, BT27 6UP\, United Kingdom
CATEGORIES:Sunday
ATTACH;FMTTYPE=image/jpeg:https://trinityboardmills.org/wp-content/uploads/2022/11/SundayEV.jpg
GEO:54.466933365694;-5.9199475846608
END:VEVENT
BEGIN:VEVENT
DTSTART;TZID=UTC:20260118T183000
DTEND;TZID=UTC:20260118T191500
DTSTAMP:20260420T002059
CREATED:20240903T080905Z
LAST-MODIFIED:20260405T092003Z
UID:10010976-1768761000-1768763700@trinityboardmills.org
SUMMARY:Evening Service
DESCRIPTION:
URL:https://trinityboardmills.org/event/evening-service-2/2026-01-18/
LOCATION:Church Building\, BT27 6UP\, United Kingdom
CATEGORIES:Sunday
ATTACH;FMTTYPE=image/jpeg:https://trinityboardmills.org/wp-content/uploads/2022/11/EveningServiceEV.jpg
GEO:54.466933365694;-5.9199475846608
END:VEVENT
BEGIN:VEVENT
DTSTART;TZID=UTC:20260125T113000
DTEND;TZID=UTC:20260125T123000
DTSTAMP:20260420T002100
CREATED:20221031T111539Z
LAST-MODIFIED:20241217T123050Z
UID:10003065-1769340600-1769344200@trinityboardmills.org
SUMMARY:Morning Worship
DESCRIPTION:
URL:https://trinityboardmills.org/event/morning-service/2026-01-25/
LOCATION:Church Building\, BT27 6UP\, United Kingdom
CATEGORIES:Sunday
ATTACH;FMTTYPE=image/jpeg:https://trinityboardmills.org/wp-content/uploads/2022/11/SundayEV.jpg
GEO:54.466933365694;-5.9199475846608
END:VEVENT
BEGIN:VEVENT
DTSTART;TZID=UTC:20260125T183000
DTEND;TZID=UTC:20260125T191500
DTSTAMP:20260420T002100
CREATED:20240903T080905Z
LAST-MODIFIED:20260405T092003Z
UID:10010977-1769365800-1769368500@trinityboardmills.org
SUMMARY:Evening Service
DESCRIPTION:
URL:https://trinityboardmills.org/event/evening-service-2/2026-01-25/
LOCATION:Church Building\, BT27 6UP\, United Kingdom
CATEGORIES:Sunday
ATTACH;FMTTYPE=image/jpeg:https://trinityboardmills.org/wp-content/uploads/2022/11/EveningServiceEV.jpg
GEO:54.466933365694;-5.9199475846608
END:VEVENT
BEGIN:VEVENT
DTSTART;TZID=UTC:20260201T113000
DTEND;TZID=UTC:20260201T123000
DTSTAMP:20260420T002100
CREATED:20221031T111539Z
LAST-MODIFIED:20241217T123050Z
UID:10003066-1769945400-1769949000@trinityboardmills.org
SUMMARY:Morning Worship
DESCRIPTION:
URL:https://trinityboardmills.org/event/morning-service/2026-02-01/
LOCATION:Church Building\, BT27 6UP\, United Kingdom
CATEGORIES:Sunday
ATTACH;FMTTYPE=image/jpeg:https://trinityboardmills.org/wp-content/uploads/2022/11/SundayEV.jpg
GEO:54.466933365694;-5.9199475846608
END:VEVENT
BEGIN:VEVENT
DTSTART;TZID=UTC:20260201T183000
DTEND;TZID=UTC:20260201T191500
DTSTAMP:20260420T002100
CREATED:20240903T080905Z
LAST-MODIFIED:20260405T092003Z
UID:10010978-1769970600-1769973300@trinityboardmills.org
SUMMARY:Evening Service
DESCRIPTION:
URL:https://trinityboardmills.org/event/evening-service-2/2026-02-01/
LOCATION:Church Building\, BT27 6UP\, United Kingdom
CATEGORIES:Sunday
ATTACH;FMTTYPE=image/jpeg:https://trinityboardmills.org/wp-content/uploads/2022/11/EveningServiceEV.jpg
GEO:54.466933365694;-5.9199475846608
END:VEVENT
BEGIN:VEVENT
DTSTART;TZID=UTC:20260208T113000
DTEND;TZID=UTC:20260208T123000
DTSTAMP:20260420T002100
CREATED:20221031T111539Z
LAST-MODIFIED:20241217T123050Z
UID:10003067-1770550200-1770553800@trinityboardmills.org
SUMMARY:Morning Worship
DESCRIPTION:
URL:https://trinityboardmills.org/event/morning-service/2026-02-08/
LOCATION:Church Building\, BT27 6UP\, United Kingdom
CATEGORIES:Sunday
ATTACH;FMTTYPE=image/jpeg:https://trinityboardmills.org/wp-content/uploads/2022/11/SundayEV.jpg
GEO:54.466933365694;-5.9199475846608
END:VEVENT
BEGIN:VEVENT
DTSTART;TZID=UTC:20260208T183000
DTEND;TZID=UTC:20260208T191500
DTSTAMP:20260420T002100
CREATED:20240903T080905Z
LAST-MODIFIED:20260405T092003Z
UID:10010979-1770575400-1770578100@trinityboardmills.org
SUMMARY:Evening Service
DESCRIPTION:
URL:https://trinityboardmills.org/event/evening-service-2/2026-02-08/
LOCATION:Church Building\, BT27 6UP\, United Kingdom
CATEGORIES:Sunday
ATTACH;FMTTYPE=image/jpeg:https://trinityboardmills.org/wp-content/uploads/2022/11/EveningServiceEV.jpg
GEO:54.466933365694;-5.9199475846608
END:VEVENT
BEGIN:VEVENT
DTSTART;TZID=UTC:20260215T113000
DTEND;TZID=UTC:20260215T123000
DTSTAMP:20260420T002100
CREATED:20221031T111539Z
LAST-MODIFIED:20241217T123050Z
UID:10003068-1771155000-1771158600@trinityboardmills.org
SUMMARY:Morning Worship
DESCRIPTION:
URL:https://trinityboardmills.org/event/morning-service/2026-02-15/
LOCATION:Church Building\, BT27 6UP\, United Kingdom
CATEGORIES:Sunday
ATTACH;FMTTYPE=image/jpeg:https://trinityboardmills.org/wp-content/uploads/2022/11/SundayEV.jpg
GEO:54.466933365694;-5.9199475846608
END:VEVENT
BEGIN:VEVENT
DTSTART;TZID=UTC:20260215T183000
DTEND;TZID=UTC:20260215T191500
DTSTAMP:20260420T002100
CREATED:20240903T080905Z
LAST-MODIFIED:20260405T092003Z
UID:10010980-1771180200-1771182900@trinityboardmills.org
SUMMARY:Evening Service
DESCRIPTION:
URL:https://trinityboardmills.org/event/evening-service-2/2026-02-15/
LOCATION:Church Building\, BT27 6UP\, United Kingdom
CATEGORIES:Sunday
ATTACH;FMTTYPE=image/jpeg:https://trinityboardmills.org/wp-content/uploads/2022/11/EveningServiceEV.jpg
GEO:54.466933365694;-5.9199475846608
END:VEVENT
BEGIN:VEVENT
DTSTART;TZID=UTC:20260222T113000
DTEND;TZID=UTC:20260222T123000
DTSTAMP:20260420T002100
CREATED:20221031T111539Z
LAST-MODIFIED:20241217T123050Z
UID:10003069-1771759800-1771763400@trinityboardmills.org
SUMMARY:Morning Worship
DESCRIPTION:
URL:https://trinityboardmills.org/event/morning-service/2026-02-22/
LOCATION:Church Building\, BT27 6UP\, United Kingdom
CATEGORIES:Sunday
ATTACH;FMTTYPE=image/jpeg:https://trinityboardmills.org/wp-content/uploads/2022/11/SundayEV.jpg
GEO:54.466933365694;-5.9199475846608
END:VEVENT
BEGIN:VEVENT
DTSTART;TZID=UTC:20260222T183000
DTEND;TZID=UTC:20260222T191500
DTSTAMP:20260420T002100
CREATED:20240903T080905Z
LAST-MODIFIED:20260405T092003Z
UID:10010981-1771785000-1771787700@trinityboardmills.org
SUMMARY:Evening Service
DESCRIPTION:
URL:https://trinityboardmills.org/event/evening-service-2/2026-02-22/
LOCATION:Church Building\, BT27 6UP\, United Kingdom
CATEGORIES:Sunday
ATTACH;FMTTYPE=image/jpeg:https://trinityboardmills.org/wp-content/uploads/2022/11/EveningServiceEV.jpg
GEO:54.466933365694;-5.9199475846608
END:VEVENT
BEGIN:VEVENT
DTSTART;TZID=UTC:20260301T113000
DTEND;TZID=UTC:20260301T123000
DTSTAMP:20260420T002100
CREATED:20221031T111539Z
LAST-MODIFIED:20241217T123050Z
UID:10003070-1772364600-1772368200@trinityboardmills.org
SUMMARY:Morning Worship
DESCRIPTION:
URL:https://trinityboardmills.org/event/morning-service/2026-03-01/
LOCATION:Church Building\, BT27 6UP\, United Kingdom
CATEGORIES:Sunday
ATTACH;FMTTYPE=image/jpeg:https://trinityboardmills.org/wp-content/uploads/2022/11/SundayEV.jpg
GEO:54.466933365694;-5.9199475846608
END:VEVENT
BEGIN:VEVENT
DTSTART;TZID=UTC:20260301T183000
DTEND;TZID=UTC:20260301T191500
DTSTAMP:20260420T002100
CREATED:20240903T080905Z
LAST-MODIFIED:20260405T092003Z
UID:10010982-1772389800-1772392500@trinityboardmills.org
SUMMARY:Evening Service
DESCRIPTION:
URL:https://trinityboardmills.org/event/evening-service-2/2026-03-01/
LOCATION:Church Building\, BT27 6UP\, United Kingdom
CATEGORIES:Sunday
ATTACH;FMTTYPE=image/jpeg:https://trinityboardmills.org/wp-content/uploads/2022/11/EveningServiceEV.jpg
GEO:54.466933365694;-5.9199475846608
END:VEVENT
BEGIN:VEVENT
DTSTART;TZID=UTC:20260308T113000
DTEND;TZID=UTC:20260308T123000
DTSTAMP:20260420T002100
CREATED:20221031T111539Z
LAST-MODIFIED:20241217T123050Z
UID:10003071-1772969400-1772973000@trinityboardmills.org
SUMMARY:Morning Worship
DESCRIPTION:
URL:https://trinityboardmills.org/event/morning-service/2026-03-08/
LOCATION:Church Building\, BT27 6UP\, United Kingdom
CATEGORIES:Sunday
ATTACH;FMTTYPE=image/jpeg:https://trinityboardmills.org/wp-content/uploads/2022/11/SundayEV.jpg
GEO:54.466933365694;-5.9199475846608
END:VEVENT
BEGIN:VEVENT
DTSTART;TZID=UTC:20260308T183000
DTEND;TZID=UTC:20260308T191500
DTSTAMP:20260420T002100
CREATED:20240903T080905Z
LAST-MODIFIED:20260405T092003Z
UID:10010983-1772994600-1772997300@trinityboardmills.org
SUMMARY:Evening Service
DESCRIPTION:
URL:https://trinityboardmills.org/event/evening-service-2/2026-03-08/
LOCATION:Church Building\, BT27 6UP\, United Kingdom
CATEGORIES:Sunday
ATTACH;FMTTYPE=image/jpeg:https://trinityboardmills.org/wp-content/uploads/2022/11/EveningServiceEV.jpg
GEO:54.466933365694;-5.9199475846608
END:VEVENT
BEGIN:VEVENT
DTSTART;TZID=UTC:20260315T113000
DTEND;TZID=UTC:20260315T123000
DTSTAMP:20260420T002100
CREATED:20221031T111539Z
LAST-MODIFIED:20241217T123050Z
UID:10003072-1773574200-1773577800@trinityboardmills.org
SUMMARY:Morning Worship
DESCRIPTION:
URL:https://trinityboardmills.org/event/morning-service/2026-03-15/
LOCATION:Church Building\, BT27 6UP\, United Kingdom
CATEGORIES:Sunday
ATTACH;FMTTYPE=image/jpeg:https://trinityboardmills.org/wp-content/uploads/2022/11/SundayEV.jpg
GEO:54.466933365694;-5.9199475846608
END:VEVENT
BEGIN:VEVENT
DTSTART;TZID=UTC:20260315T183000
DTEND;TZID=UTC:20260315T191500
DTSTAMP:20260420T002100
CREATED:20240903T080905Z
LAST-MODIFIED:20260405T092003Z
UID:10010984-1773599400-1773602100@trinityboardmills.org
SUMMARY:Evening Service
DESCRIPTION:
URL:https://trinityboardmills.org/event/evening-service-2/2026-03-15/
LOCATION:Church Building\, BT27 6UP\, United Kingdom
CATEGORIES:Sunday
ATTACH;FMTTYPE=image/jpeg:https://trinityboardmills.org/wp-content/uploads/2022/11/EveningServiceEV.jpg
GEO:54.466933365694;-5.9199475846608
END:VEVENT
BEGIN:VEVENT
DTSTART;TZID=UTC:20260322T113000
DTEND;TZID=UTC:20260322T123000
DTSTAMP:20260420T002100
CREATED:20221031T111539Z
LAST-MODIFIED:20241217T123050Z
UID:10003073-1774179000-1774182600@trinityboardmills.org
SUMMARY:Morning Worship
DESCRIPTION:
URL:https://trinityboardmills.org/event/morning-service/2026-03-22/
LOCATION:Church Building\, BT27 6UP\, United Kingdom
CATEGORIES:Sunday
ATTACH;FMTTYPE=image/jpeg:https://trinityboardmills.org/wp-content/uploads/2022/11/SundayEV.jpg
GEO:54.466933365694;-5.9199475846608
END:VEVENT
BEGIN:VEVENT
DTSTART;TZID=UTC:20260322T183000
DTEND;TZID=UTC:20260322T191500
DTSTAMP:20260420T002100
CREATED:20240903T080905Z
LAST-MODIFIED:20260405T092003Z
UID:10010985-1774204200-1774206900@trinityboardmills.org
SUMMARY:Evening Service
DESCRIPTION:
URL:https://trinityboardmills.org/event/evening-service-2/2026-03-22/
LOCATION:Church Building\, BT27 6UP\, United Kingdom
CATEGORIES:Sunday
ATTACH;FMTTYPE=image/jpeg:https://trinityboardmills.org/wp-content/uploads/2022/11/EveningServiceEV.jpg
GEO:54.466933365694;-5.9199475846608
END:VEVENT
BEGIN:VEVENT
DTSTART;TZID=UTC:20260329T113000
DTEND;TZID=UTC:20260329T123000
DTSTAMP:20260420T002100
CREATED:20221031T111539Z
LAST-MODIFIED:20241217T123050Z
UID:10003074-1774783800-1774787400@trinityboardmills.org
SUMMARY:Morning Worship
DESCRIPTION:
URL:https://trinityboardmills.org/event/morning-service/2026-03-29/
LOCATION:Church Building\, BT27 6UP\, United Kingdom
CATEGORIES:Sunday
ATTACH;FMTTYPE=image/jpeg:https://trinityboardmills.org/wp-content/uploads/2022/11/SundayEV.jpg
GEO:54.466933365694;-5.9199475846608
END:VEVENT
BEGIN:VEVENT
DTSTART;TZID=UTC:20260329T183000
DTEND;TZID=UTC:20260329T191500
DTSTAMP:20260420T002100
CREATED:20240903T080905Z
LAST-MODIFIED:20260405T092003Z
UID:10010986-1774809000-1774811700@trinityboardmills.org
SUMMARY:Evening Service
DESCRIPTION:
URL:https://trinityboardmills.org/event/evening-service-2/2026-03-29/
LOCATION:Church Building\, BT27 6UP\, United Kingdom
CATEGORIES:Sunday
ATTACH;FMTTYPE=image/jpeg:https://trinityboardmills.org/wp-content/uploads/2022/11/EveningServiceEV.jpg
GEO:54.466933365694;-5.9199475846608
END:VEVENT
BEGIN:VEVENT
DTSTART;TZID=UTC:20260405T063000
DTEND;TZID=UTC:20260405T080000
DTSTAMP:20260420T002100
CREATED:20240324T143150Z
LAST-MODIFIED:20260323T085349Z
UID:10010614-1775370600-1775376000@trinityboardmills.org
SUMMARY:Easter Sunday Dawn Service
DESCRIPTION:We gather at dawn to Worship on the Hill behind the Manse at Killaney. Come worship and proclaim Christ Risen with us and join us for a hearty Breakfast afterwards in the McKee Hall! One of our elders will bring a short message as we gather to worship.
URL:https://trinityboardmills.org/event/dawnservice/
LOCATION:Killaney Hall
CATEGORIES:Adults,Featured,Sunday
ATTACH;FMTTYPE=image/jpeg:https://trinityboardmills.org/wp-content/uploads/2023/03/Spring-Lunch-reduced-4.jpg
GEO:54.4662977;-5.9128505
END:VEVENT
BEGIN:VEVENT
DTSTART;TZID=UTC:20260405T113000
DTEND;TZID=UTC:20260405T123000
DTSTAMP:20260420T002100
CREATED:20221031T111539Z
LAST-MODIFIED:20241217T123050Z
UID:10003075-1775388600-1775392200@trinityboardmills.org
SUMMARY:Morning Worship
DESCRIPTION:
URL:https://trinityboardmills.org/event/morning-service/2026-04-05/
LOCATION:Church Building\, BT27 6UP\, United Kingdom
CATEGORIES:Sunday
ATTACH;FMTTYPE=image/jpeg:https://trinityboardmills.org/wp-content/uploads/2022/11/SundayEV.jpg
GEO:54.466933365694;-5.9199475846608
END:VEVENT
BEGIN:VEVENT
DTSTART;TZID=UTC:20260412T113000
DTEND;TZID=UTC:20260412T123000
DTSTAMP:20260420T002100
CREATED:20221031T111539Z
LAST-MODIFIED:20241217T123050Z
UID:10003076-1775993400-1775997000@trinityboardmills.org
SUMMARY:Morning Worship
DESCRIPTION:
URL:https://trinityboardmills.org/event/morning-service/2026-04-12/
LOCATION:Church Building\, BT27 6UP\, United Kingdom
CATEGORIES:Sunday
ATTACH;FMTTYPE=image/jpeg:https://trinityboardmills.org/wp-content/uploads/2022/11/SundayEV.jpg
GEO:54.466933365694;-5.9199475846608
END:VEVENT
BEGIN:VEVENT
DTSTART;TZID=UTC:20260412T183000
DTEND;TZID=UTC:20260412T191500
DTSTAMP:20260420T002100
CREATED:20240903T080905Z
LAST-MODIFIED:20260405T092003Z
UID:10019191-1776018600-1776021300@trinityboardmills.org
SUMMARY:Evening Service
DESCRIPTION:
URL:https://trinityboardmills.org/event/evening-service-2/2026-04-12/
LOCATION:Church Building\, BT27 6UP\, United Kingdom
CATEGORIES:Sunday
ATTACH;FMTTYPE=image/jpeg:https://trinityboardmills.org/wp-content/uploads/2022/11/EveningServiceEV.jpg
GEO:54.466933365694;-5.9199475846608
END:VEVENT
BEGIN:VEVENT
DTSTART;TZID=UTC:20260419T113000
DTEND;TZID=UTC:20260419T123000
DTSTAMP:20260420T002100
CREATED:20221031T111539Z
LAST-MODIFIED:20241217T123050Z
UID:10003077-1776598200-1776601800@trinityboardmills.org
SUMMARY:Morning Worship
DESCRIPTION:
URL:https://trinityboardmills.org/event/morning-service/2026-04-19/
LOCATION:Church Building\, BT27 6UP\, United Kingdom
CATEGORIES:Sunday
ATTACH;FMTTYPE=image/jpeg:https://trinityboardmills.org/wp-content/uploads/2022/11/SundayEV.jpg
GEO:54.466933365694;-5.9199475846608
END:VEVENT
BEGIN:VEVENT
DTSTART;TZID=UTC:20260419T183000
DTEND;TZID=UTC:20260419T193000
DTSTAMP:20260420T002100
CREATED:20260405T091735Z
LAST-MODIFIED:20260405T092146Z
UID:10019183-1776623400-1776627000@trinityboardmills.org
SUMMARY:True Story
DESCRIPTION:“True Story – you couldn’t make it up!” \nA night of real lives\, authentic stories and the hope behind them. From Kilkeel to Pakistan and back to Comber\, we will listen to people tell us first-hand how they came to saving faith. \nYF afterwards in McKee Hall at 7:30
URL:https://trinityboardmills.org/event/truestory/
LOCATION:Church Building\, BT27 6UP\, United Kingdom
CATEGORIES:Adults,Featured,Sunday,YF Featured,Youth & Children
ATTACH;FMTTYPE=image/jpeg:https://trinityboardmills.org/wp-content/uploads/2026/04/IMG-20260327-WA0001.jpg
GEO:54.466933365694;-5.9199475846608
END:VEVENT
END:VCALENDAR