BEGIN:VCALENDAR
VERSION:2.0
PRODID:-//Trinity Presbyterian - ECPv6.15.20//NONSGML v1.0//EN
CALSCALE:GREGORIAN
METHOD:PUBLISH
X-WR-CALNAME:Trinity Presbyterian
X-ORIGINAL-URL:https://trinityboardmills.org
X-WR-CALDESC:Events for Trinity Presbyterian
REFRESH-INTERVAL;VALUE=DURATION:PT1H
X-Robots-Tag:noindex
X-PUBLISHED-TTL:PT1H
BEGIN:VTIMEZONE
TZID:UTC
BEGIN:STANDARD
TZOFFSETFROM:+0000
TZOFFSETTO:+0000
TZNAME:UTC
DTSTART:20240101T000000
END:STANDARD
END:VTIMEZONE
BEGIN:VEVENT
DTSTART;TZID=UTC:20250121T193000
DTEND;TZID=UTC:20250121T213000
DTSTAMP:20260420T190337
CREATED:20240904T140649Z
LAST-MODIFIED:20250331T084646Z
UID:10013447-1737487800-1737495000@trinityboardmills.org
SUMMARY:Bowling Club
DESCRIPTION:
URL:https://trinityboardmills.org/event/mixed-bowls-3-2/2025-01-21/
LOCATION:McKee Hall\, BT27 6UP\, United Kingdom
CATEGORIES:Adults
ATTACH;FMTTYPE=image/jpeg:https://trinityboardmills.org/wp-content/uploads/2022/11/MixedBowlsEV.jpg
GEO:54.466933365694;-5.9199475846608
END:VEVENT
BEGIN:VEVENT
DTSTART;TZID=UTC:20250123T103000
DTEND;TZID=UTC:20250123T113000
DTSTAMP:20260420T190337
CREATED:20230911T123435Z
LAST-MODIFIED:20260326T081458Z
UID:10017884-1737628200-1737631800@trinityboardmills.org
SUMMARY:Ladies Bible Study
DESCRIPTION:
URL:https://trinityboardmills.org/event/ladies-bible-study-2/2025-01-23/
LOCATION:Killaney Hall
CATEGORIES:Adults,Ladies
ATTACH;FMTTYPE=image/jpeg:https://trinityboardmills.org/wp-content/uploads/2022/11/LadiesBibleStudyEV.jpg
GEO:54.4662977;-5.9128505
END:VEVENT
BEGIN:VEVENT
DTSTART;TZID=UTC:20250126T113000
DTEND;TZID=UTC:20250126T123000
DTSTAMP:20260420T190337
CREATED:20221031T111539Z
LAST-MODIFIED:20241217T123050Z
UID:10003013-1737891000-1737894600@trinityboardmills.org
SUMMARY:Morning Worship
DESCRIPTION:
URL:https://trinityboardmills.org/event/morning-service/2025-01-26/
LOCATION:Church Building\, BT27 6UP\, United Kingdom
CATEGORIES:Sunday
ATTACH;FMTTYPE=image/jpeg:https://trinityboardmills.org/wp-content/uploads/2022/11/SundayEV.jpg
GEO:54.466933365694;-5.9199475846608
END:VEVENT
BEGIN:VEVENT
DTSTART;TZID=UTC:20250126T114500
DTEND;TZID=UTC:20250126T123000
DTSTAMP:20260420T190337
CREATED:20221031T111350Z
LAST-MODIFIED:20241217T123139Z
UID:10007430-1737891900-1737894600@trinityboardmills.org
SUMMARY:Sunday CE & Creche
DESCRIPTION:
URL:https://trinityboardmills.org/event/sundayce/2025-01-26/
LOCATION:Kerr Room
CATEGORIES:Children
ATTACH;FMTTYPE=image/jpeg:https://trinityboardmills.org/wp-content/uploads/2022/11/SundayCEEV.jpg
END:VEVENT
BEGIN:VEVENT
DTSTART;TZID=UTC:20250126T183000
DTEND;TZID=UTC:20250126T191500
DTSTAMP:20260420T190337
CREATED:20240903T080905Z
LAST-MODIFIED:20260405T092003Z
UID:10018919-1737916200-1737918900@trinityboardmills.org
SUMMARY:Evening Service
DESCRIPTION:
URL:https://trinityboardmills.org/event/evening-service-2/2025-01-26/
LOCATION:Church Building\, BT27 6UP\, United Kingdom
CATEGORIES:Sunday
ATTACH;FMTTYPE=image/jpeg:https://trinityboardmills.org/wp-content/uploads/2022/11/EveningServiceEV.jpg
GEO:54.466933365694;-5.9199475846608
END:VEVENT
BEGIN:VEVENT
DTSTART;TZID=UTC:20250127T100000
DTEND;TZID=UTC:20250127T111500
DTSTAMP:20260420T190337
CREATED:20241211T083050Z
LAST-MODIFIED:20250820T094703Z
UID:10017034-1737972000-1737976500@trinityboardmills.org
SUMMARY:Trinity Tots
DESCRIPTION:
URL:https://trinityboardmills.org/event/trinity-tots-2-2-2/2025-01-27/
LOCATION:Killaney Hall
CATEGORIES:Trinity Tots Featured
ATTACH;FMTTYPE=image/jpeg:https://trinityboardmills.org/wp-content/uploads/2022/11/CrecheEV.jpg
GEO:54.4662977;-5.9128505
END:VEVENT
BEGIN:VEVENT
DTSTART;TZID=UTC:20250127T180000
DTEND;TZID=UTC:20250127T190000
DTSTAMP:20260420T190337
CREATED:20240903T132710Z
LAST-MODIFIED:20250217T125306Z
UID:10012507-1738000800-1738004400@trinityboardmills.org
SUMMARY:GB Explorers
DESCRIPTION:
URL:https://trinityboardmills.org/event/gb-explorers-2-2/2025-01-27/
LOCATION:McKee Hall\, BT27 6UP\, United Kingdom
CATEGORIES:GB Featured,Youth & Children
ATTACH;FMTTYPE=image/jpeg:https://trinityboardmills.org/wp-content/uploads/2022/11/GBJuniorEV.jpg
GEO:54.466933365694;-5.9199475846608
END:VEVENT
BEGIN:VEVENT
DTSTART;TZID=UTC:20250127T180000
DTEND;TZID=UTC:20250127T191500
DTSTAMP:20260420T190338
CREATED:20240903T131246Z
LAST-MODIFIED:20250217T125042Z
UID:10011184-1738000800-1738005300@trinityboardmills.org
SUMMARY:BB Anchor Boys
DESCRIPTION:
URL:https://trinityboardmills.org/event/bb-anchor-boys-2-2/2025-01-27/
LOCATION:Killaney Hall
CATEGORIES:BB Featured,Youth & Children
ATTACH;FMTTYPE=image/jpeg:https://trinityboardmills.org/wp-content/uploads/2022/11/BBExpEV.jpg
GEO:54.4662977;-5.9128505
END:VEVENT
BEGIN:VEVENT
DTSTART;TZID=UTC:20250127T190000
DTEND;TZID=UTC:20250127T203000
DTSTAMP:20260420T190338
CREATED:20240903T131641Z
LAST-MODIFIED:20250217T125134Z
UID:10011702-1738004400-1738009800@trinityboardmills.org
SUMMARY:BB Junior Section
DESCRIPTION:
URL:https://trinityboardmills.org/event/bb-junior-section-2-2/2025-01-27/
LOCATION:Killaney Hall
CATEGORIES:BB Featured,Youth & Children
ATTACH;FMTTYPE=image/jpeg:https://trinityboardmills.org/wp-content/uploads/2022/11/BBSQEV.jpg
GEO:54.4662977;-5.9128505
END:VEVENT
BEGIN:VEVENT
DTSTART;TZID=UTC:20250127T191500
DTEND;TZID=UTC:20250127T203000
DTSTAMP:20260420T190338
CREATED:20240903T132339Z
LAST-MODIFIED:20260208T221141Z
UID:10012248-1738005300-1738009800@trinityboardmills.org
SUMMARY:GB Junior Section
DESCRIPTION:
URL:https://trinityboardmills.org/event/gb-junior-section/2025-01-27/
LOCATION:McKee Hall\, BT27 6UP\, United Kingdom
CATEGORIES:GB Featured,Youth & Children
ATTACH;FMTTYPE=image/jpeg:https://trinityboardmills.org/wp-content/uploads/2022/11/GBCompEV.jpg
GEO:54.466933365694;-5.9199475846608
END:VEVENT
BEGIN:VEVENT
DTSTART;TZID=UTC:20250127T191500
DTEND;TZID=UTC:20250127T204500
DTSTAMP:20260420T190338
CREATED:20240903T132207Z
LAST-MODIFIED:20250217T125436Z
UID:10011988-1738005300-1738010700@trinityboardmills.org
SUMMARY:GB Company Section
DESCRIPTION:
URL:https://trinityboardmills.org/event/gb-company-section-2-2/2025-01-27/
LOCATION:McKee Hall\, BT27 6UP\, United Kingdom
CATEGORIES:GB Featured,Youth & Children
ATTACH;FMTTYPE=image/jpeg:https://trinityboardmills.org/wp-content/uploads/2022/11/GBCompEV.jpg
GEO:54.466933365694;-5.9199475846608
END:VEVENT
BEGIN:VEVENT
DTSTART;TZID=UTC:20250127T191500
DTEND;TZID=UTC:20250127T210000
DTSTAMP:20260420T190338
CREATED:20240903T131449Z
LAST-MODIFIED:20250217T125159Z
UID:10011443-1738005300-1738011600@trinityboardmills.org
SUMMARY:BB Company Section
DESCRIPTION:
URL:https://trinityboardmills.org/event/bb-company-section-2-2/2025-01-27/
LOCATION:Killaney Hall
CATEGORIES:BB Featured,Youth & Children
ATTACH;FMTTYPE=image/jpeg:https://trinityboardmills.org/wp-content/uploads/2022/10/BBCompanyEV.jpg
GEO:54.4662977;-5.9128505
END:VEVENT
BEGIN:VEVENT
DTSTART;TZID=UTC:20250128T193000
DTEND;TZID=UTC:20250128T213000
DTSTAMP:20260420T190338
CREATED:20240904T140649Z
LAST-MODIFIED:20250331T084646Z
UID:10013448-1738092600-1738099800@trinityboardmills.org
SUMMARY:Bowling Club
DESCRIPTION:
URL:https://trinityboardmills.org/event/mixed-bowls-3-2/2025-01-28/
LOCATION:McKee Hall\, BT27 6UP\, United Kingdom
CATEGORIES:Adults
ATTACH;FMTTYPE=image/jpeg:https://trinityboardmills.org/wp-content/uploads/2022/11/MixedBowlsEV.jpg
GEO:54.466933365694;-5.9199475846608
END:VEVENT
BEGIN:VEVENT
DTSTART;TZID=UTC:20250201T183000
DTEND;TZID=UTC:20250201T200000
DTSTAMP:20260420T190338
CREATED:20241211T085917Z
LAST-MODIFIED:20250410T072539Z
UID:10013373-1738434600-1738440000@trinityboardmills.org
SUMMARY:Pulse Junior
DESCRIPTION:
URL:https://trinityboardmills.org/event/pulse-junior-2-2-2-2-2/2025-02-01/
LOCATION:Killaney Hall
CATEGORIES:Pulse Featured
ATTACH;FMTTYPE=image/jpeg:https://trinityboardmills.org/wp-content/uploads/2022/11/Pulse-web-2.jpg
GEO:54.4662977;-5.9128505
END:VEVENT
BEGIN:VEVENT
DTSTART;TZID=UTC:20250202T113000
DTEND;TZID=UTC:20250202T123000
DTSTAMP:20260420T190338
CREATED:20221031T111539Z
LAST-MODIFIED:20241217T123050Z
UID:10003014-1738495800-1738499400@trinityboardmills.org
SUMMARY:Morning Worship
DESCRIPTION:
URL:https://trinityboardmills.org/event/morning-service/2025-02-02/
LOCATION:Church Building\, BT27 6UP\, United Kingdom
CATEGORIES:Sunday
ATTACH;FMTTYPE=image/jpeg:https://trinityboardmills.org/wp-content/uploads/2022/11/SundayEV.jpg
GEO:54.466933365694;-5.9199475846608
END:VEVENT
BEGIN:VEVENT
DTSTART;TZID=UTC:20250202T114500
DTEND;TZID=UTC:20250202T123000
DTSTAMP:20260420T190338
CREATED:20221031T111350Z
LAST-MODIFIED:20241217T123139Z
UID:10007431-1738496700-1738499400@trinityboardmills.org
SUMMARY:Sunday CE & Creche
DESCRIPTION:
URL:https://trinityboardmills.org/event/sundayce/2025-02-02/
LOCATION:Kerr Room
CATEGORIES:Children
ATTACH;FMTTYPE=image/jpeg:https://trinityboardmills.org/wp-content/uploads/2022/11/SundayCEEV.jpg
END:VEVENT
BEGIN:VEVENT
DTSTART;TZID=UTC:20250202T183000
DTEND;TZID=UTC:20250202T191500
DTSTAMP:20260420T190338
CREATED:20240903T080905Z
LAST-MODIFIED:20260405T092003Z
UID:10018920-1738521000-1738523700@trinityboardmills.org
SUMMARY:Evening Service
DESCRIPTION:
URL:https://trinityboardmills.org/event/evening-service-2/2025-02-02/
LOCATION:Church Building\, BT27 6UP\, United Kingdom
CATEGORIES:Sunday
ATTACH;FMTTYPE=image/jpeg:https://trinityboardmills.org/wp-content/uploads/2022/11/EveningServiceEV.jpg
GEO:54.466933365694;-5.9199475846608
END:VEVENT
BEGIN:VEVENT
DTSTART;TZID=UTC:20250202T193000
DTEND;TZID=UTC:20250202T210000
DTSTAMP:20260420T190338
CREATED:20241211T084227Z
LAST-MODIFIED:20250207T135446Z
UID:10014265-1738524600-1738530000@trinityboardmills.org
SUMMARY:Youth Fellowship
DESCRIPTION:
URL:https://trinityboardmills.org/event/youth-fellowship-6/2025-02-02/
LOCATION:McKee Hall\, BT27 6UP\, United Kingdom
CATEGORIES:YF Featured
ATTACH;FMTTYPE=image/jpeg:https://trinityboardmills.org/wp-content/uploads/2022/11/BreakfastITBEV.jpg
GEO:54.466933365694;-5.9199475846608
END:VEVENT
BEGIN:VEVENT
DTSTART;TZID=UTC:20250203T100000
DTEND;TZID=UTC:20250203T111500
DTSTAMP:20260420T190338
CREATED:20241211T083050Z
LAST-MODIFIED:20250820T094703Z
UID:10017035-1738576800-1738581300@trinityboardmills.org
SUMMARY:Trinity Tots
DESCRIPTION:
URL:https://trinityboardmills.org/event/trinity-tots-2-2-2/2025-02-03/
LOCATION:Killaney Hall
CATEGORIES:Trinity Tots Featured
ATTACH;FMTTYPE=image/jpeg:https://trinityboardmills.org/wp-content/uploads/2022/11/CrecheEV.jpg
GEO:54.4662977;-5.9128505
END:VEVENT
BEGIN:VEVENT
DTSTART;TZID=UTC:20250203T180000
DTEND;TZID=UTC:20250203T190000
DTSTAMP:20260420T190338
CREATED:20240903T132710Z
LAST-MODIFIED:20250217T125306Z
UID:10012508-1738605600-1738609200@trinityboardmills.org
SUMMARY:GB Explorers
DESCRIPTION:
URL:https://trinityboardmills.org/event/gb-explorers-2-2/2025-02-03/
LOCATION:McKee Hall\, BT27 6UP\, United Kingdom
CATEGORIES:GB Featured,Youth & Children
ATTACH;FMTTYPE=image/jpeg:https://trinityboardmills.org/wp-content/uploads/2022/11/GBJuniorEV.jpg
GEO:54.466933365694;-5.9199475846608
END:VEVENT
BEGIN:VEVENT
DTSTART;TZID=UTC:20250203T180000
DTEND;TZID=UTC:20250203T191500
DTSTAMP:20260420T190338
CREATED:20240903T131246Z
LAST-MODIFIED:20250217T125042Z
UID:10011185-1738605600-1738610100@trinityboardmills.org
SUMMARY:BB Anchor Boys
DESCRIPTION:
URL:https://trinityboardmills.org/event/bb-anchor-boys-2-2/2025-02-03/
LOCATION:Killaney Hall
CATEGORIES:BB Featured,Youth & Children
ATTACH;FMTTYPE=image/jpeg:https://trinityboardmills.org/wp-content/uploads/2022/11/BBExpEV.jpg
GEO:54.4662977;-5.9128505
END:VEVENT
BEGIN:VEVENT
DTSTART;TZID=UTC:20250203T190000
DTEND;TZID=UTC:20250203T203000
DTSTAMP:20260420T190338
CREATED:20240903T131641Z
LAST-MODIFIED:20250217T125134Z
UID:10011703-1738609200-1738614600@trinityboardmills.org
SUMMARY:BB Junior Section
DESCRIPTION:
URL:https://trinityboardmills.org/event/bb-junior-section-2-2/2025-02-03/
LOCATION:Killaney Hall
CATEGORIES:BB Featured,Youth & Children
ATTACH;FMTTYPE=image/jpeg:https://trinityboardmills.org/wp-content/uploads/2022/11/BBSQEV.jpg
GEO:54.4662977;-5.9128505
END:VEVENT
BEGIN:VEVENT
DTSTART;TZID=UTC:20250203T191500
DTEND;TZID=UTC:20250203T203000
DTSTAMP:20260420T190338
CREATED:20240903T132339Z
LAST-MODIFIED:20260208T221141Z
UID:10012249-1738610100-1738614600@trinityboardmills.org
SUMMARY:GB Junior Section
DESCRIPTION:
URL:https://trinityboardmills.org/event/gb-junior-section/2025-02-03/
LOCATION:McKee Hall\, BT27 6UP\, United Kingdom
CATEGORIES:GB Featured,Youth & Children
ATTACH;FMTTYPE=image/jpeg:https://trinityboardmills.org/wp-content/uploads/2022/11/GBCompEV.jpg
GEO:54.466933365694;-5.9199475846608
END:VEVENT
BEGIN:VEVENT
DTSTART;TZID=UTC:20250203T191500
DTEND;TZID=UTC:20250203T204500
DTSTAMP:20260420T190338
CREATED:20240903T132207Z
LAST-MODIFIED:20250217T125436Z
UID:10011989-1738610100-1738615500@trinityboardmills.org
SUMMARY:GB Company Section
DESCRIPTION:
URL:https://trinityboardmills.org/event/gb-company-section-2-2/2025-02-03/
LOCATION:McKee Hall\, BT27 6UP\, United Kingdom
CATEGORIES:GB Featured,Youth & Children
ATTACH;FMTTYPE=image/jpeg:https://trinityboardmills.org/wp-content/uploads/2022/11/GBCompEV.jpg
GEO:54.466933365694;-5.9199475846608
END:VEVENT
BEGIN:VEVENT
DTSTART;TZID=UTC:20250203T191500
DTEND;TZID=UTC:20250203T210000
DTSTAMP:20260420T190338
CREATED:20240903T131449Z
LAST-MODIFIED:20250217T125159Z
UID:10011444-1738610100-1738616400@trinityboardmills.org
SUMMARY:BB Company Section
DESCRIPTION:
URL:https://trinityboardmills.org/event/bb-company-section-2-2/2025-02-03/
LOCATION:Killaney Hall
CATEGORIES:BB Featured,Youth & Children
ATTACH;FMTTYPE=image/jpeg:https://trinityboardmills.org/wp-content/uploads/2022/10/BBCompanyEV.jpg
GEO:54.4662977;-5.9128505
END:VEVENT
BEGIN:VEVENT
DTSTART;TZID=UTC:20250204T193000
DTEND;TZID=UTC:20250204T213000
DTSTAMP:20260420T190338
CREATED:20240904T140649Z
LAST-MODIFIED:20250331T084646Z
UID:10013449-1738697400-1738704600@trinityboardmills.org
SUMMARY:Bowling Club
DESCRIPTION:
URL:https://trinityboardmills.org/event/mixed-bowls-3-2/2025-02-04/
LOCATION:McKee Hall\, BT27 6UP\, United Kingdom
CATEGORIES:Adults
ATTACH;FMTTYPE=image/jpeg:https://trinityboardmills.org/wp-content/uploads/2022/11/MixedBowlsEV.jpg
GEO:54.466933365694;-5.9199475846608
END:VEVENT
BEGIN:VEVENT
DTSTART;TZID=UTC:20250206T103000
DTEND;TZID=UTC:20250206T113000
DTSTAMP:20260420T190338
CREATED:20230911T123435Z
LAST-MODIFIED:20260326T081458Z
UID:10017885-1738837800-1738841400@trinityboardmills.org
SUMMARY:Ladies Bible Study
DESCRIPTION:
URL:https://trinityboardmills.org/event/ladies-bible-study-2/2025-02-06/
LOCATION:Killaney Hall
CATEGORIES:Adults,Ladies
ATTACH;FMTTYPE=image/jpeg:https://trinityboardmills.org/wp-content/uploads/2022/11/LadiesBibleStudyEV.jpg
GEO:54.4662977;-5.9128505
END:VEVENT
BEGIN:VEVENT
DTSTART;TZID=UTC:20250209T113000
DTEND;TZID=UTC:20250209T123000
DTSTAMP:20260420T190338
CREATED:20221031T111539Z
LAST-MODIFIED:20241217T123050Z
UID:10003015-1739100600-1739104200@trinityboardmills.org
SUMMARY:Morning Worship
DESCRIPTION:
URL:https://trinityboardmills.org/event/morning-service/2025-02-09/
LOCATION:Church Building\, BT27 6UP\, United Kingdom
CATEGORIES:Sunday
ATTACH;FMTTYPE=image/jpeg:https://trinityboardmills.org/wp-content/uploads/2022/11/SundayEV.jpg
GEO:54.466933365694;-5.9199475846608
END:VEVENT
BEGIN:VEVENT
DTSTART;TZID=UTC:20250209T114500
DTEND;TZID=UTC:20250209T123000
DTSTAMP:20260420T190338
CREATED:20221031T111350Z
LAST-MODIFIED:20241217T123139Z
UID:10007432-1739101500-1739104200@trinityboardmills.org
SUMMARY:Sunday CE & Creche
DESCRIPTION:
URL:https://trinityboardmills.org/event/sundayce/2025-02-09/
LOCATION:Kerr Room
CATEGORIES:Children
ATTACH;FMTTYPE=image/jpeg:https://trinityboardmills.org/wp-content/uploads/2022/11/SundayCEEV.jpg
END:VEVENT
BEGIN:VEVENT
DTSTART;TZID=UTC:20250209T183000
DTEND;TZID=UTC:20250209T191500
DTSTAMP:20260420T190338
CREATED:20240903T080905Z
LAST-MODIFIED:20260405T092003Z
UID:10018921-1739125800-1739128500@trinityboardmills.org
SUMMARY:Evening Service
DESCRIPTION:
URL:https://trinityboardmills.org/event/evening-service-2/2025-02-09/
LOCATION:Church Building\, BT27 6UP\, United Kingdom
CATEGORIES:Sunday
ATTACH;FMTTYPE=image/jpeg:https://trinityboardmills.org/wp-content/uploads/2022/11/EveningServiceEV.jpg
GEO:54.466933365694;-5.9199475846608
END:VEVENT
END:VCALENDAR