BEGIN:VCALENDAR
VERSION:2.0
PRODID:-//Trinity Presbyterian - ECPv6.15.20//NONSGML v1.0//EN
CALSCALE:GREGORIAN
METHOD:PUBLISH
X-ORIGINAL-URL:https://trinityboardmills.org
X-WR-CALDESC:Events for Trinity Presbyterian
REFRESH-INTERVAL;VALUE=DURATION:PT1H
X-Robots-Tag:noindex
X-PUBLISHED-TTL:PT1H
BEGIN:VTIMEZONE
TZID:UTC
BEGIN:STANDARD
TZOFFSETFROM:+0000
TZOFFSETTO:+0000
TZNAME:UTC
DTSTART:20220101T000000
END:STANDARD
END:VTIMEZONE
BEGIN:VEVENT
DTSTART;TZID=UTC:20231004T193000
DTEND;TZID=UTC:20231004T203000
DTSTAMP:20260421T201225
CREATED:20230914T191909Z
LAST-MODIFIED:20230914T192017Z
UID:10009441-1696447800-1696451400@trinityboardmills.org
SUMMARY:Fellowship Groups (Wed)
DESCRIPTION:This session we will be using the book “Belong”\, the first and third Wednesday of the month in Killaney Hall.
URL:https://trinityboardmills.org/event/fellowship-groups-wed-2-3/2023-10-04/
LOCATION:Killaney Hall
CATEGORIES:Fellowship Groups Featured
ATTACH;FMTTYPE=image/jpeg:https://trinityboardmills.org/wp-content/uploads/2022/11/FellowshipGroupEV.jpg
GEO:54.4662977;-5.9128505
END:VEVENT
BEGIN:VEVENT
DTSTART;TZID=UTC:20231005T193000
DTEND;TZID=UTC:20231005T203000
DTSTAMP:20260421T201225
CREATED:20230914T190955Z
LAST-MODIFIED:20230914T191148Z
UID:10009437-1696534200-1696537800@trinityboardmills.org
SUMMARY:Fellowship Groups (Thu)
DESCRIPTION:This session we will be using the book “Belong”\, the first and third Thursday of the month at Colin and Trish Foreman’s home.
URL:https://trinityboardmills.org/event/fellowship-groups-thu-2-3/2023-10-05/
CATEGORIES:Fellowship Groups Featured
ATTACH;FMTTYPE=image/jpeg:https://trinityboardmills.org/wp-content/uploads/2022/11/FellowshipGroupsEV.jpg
END:VEVENT
BEGIN:VEVENT
DTSTART;TZID=UTC:20231007T183000
DTEND;TZID=UTC:20231007T200000
DTSTAMP:20260421T201225
CREATED:20230825T093938Z
LAST-MODIFIED:20240520T082649Z
UID:10002665-1696703400-1696708800@trinityboardmills.org
SUMMARY:Pulse Junior
DESCRIPTION:
URL:https://trinityboardmills.org/event/pulse-junior-2-2-2/2023-10-07/
LOCATION:Killaney Hall
CATEGORIES:Pulse Featured
ATTACH;FMTTYPE=image/jpeg:https://trinityboardmills.org/wp-content/uploads/2022/11/Pulse-web-2.jpg
GEO:54.4662977;-5.9128505
END:VEVENT
BEGIN:VEVENT
DTSTART;TZID=UTC:20231008T113000
DTEND;TZID=UTC:20231008T123000
DTSTAMP:20260421T201225
CREATED:20221031T111539Z
LAST-MODIFIED:20241217T123050Z
UID:10002945-1696764600-1696768200@trinityboardmills.org
SUMMARY:Morning Worship
DESCRIPTION:
URL:https://trinityboardmills.org/event/morning-service/2023-10-08/
LOCATION:Church Building\, BT27 6UP\, United Kingdom
CATEGORIES:Sunday
ATTACH;FMTTYPE=image/jpeg:https://trinityboardmills.org/wp-content/uploads/2022/11/SundayEV.jpg
GEO:54.466933365694;-5.9199475846608
END:VEVENT
BEGIN:VEVENT
DTSTART;TZID=UTC:20231008T114500
DTEND;TZID=UTC:20231008T123000
DTSTAMP:20260421T201225
CREATED:20221031T111350Z
LAST-MODIFIED:20241217T123139Z
UID:10007362-1696765500-1696768200@trinityboardmills.org
SUMMARY:Sunday CE & Creche
DESCRIPTION:
URL:https://trinityboardmills.org/event/sundayce/2023-10-08/
LOCATION:Kerr Room
CATEGORIES:Children
ATTACH;FMTTYPE=image/jpeg:https://trinityboardmills.org/wp-content/uploads/2022/11/SundayCEEV.jpg
END:VEVENT
BEGIN:VEVENT
DTSTART;TZID=UTC:20231008T183000
DTEND;TZID=UTC:20231008T191500
DTSTAMP:20260421T201225
CREATED:20221031T111652Z
LAST-MODIFIED:20240630T125727Z
UID:10009179-1696789800-1696792500@trinityboardmills.org
SUMMARY:Evening Service
DESCRIPTION:
URL:https://trinityboardmills.org/event/evening-service/2023-10-08/
LOCATION:Church Building\, BT27 6UP\, United Kingdom
CATEGORIES:Sunday
ATTACH;FMTTYPE=image/jpeg:https://trinityboardmills.org/wp-content/uploads/2022/11/EveningServiceEV.jpg
GEO:54.466933365694;-5.9199475846608
END:VEVENT
BEGIN:VEVENT
DTSTART;TZID=UTC:20231008T191500
DTEND;TZID=UTC:20231008T191500
DTSTAMP:20260421T201225
CREATED:20230914T204821Z
LAST-MODIFIED:20230915T075040Z
UID:10009445-1696792500-1696792500@trinityboardmills.org
SUMMARY:Youth Fellowship
DESCRIPTION:
URL:https://trinityboardmills.org/event/yf/2023-10-08/
LOCATION:McKee Hall\, BT27 6UP\, United Kingdom
CATEGORIES:YF Featured
ATTACH;FMTTYPE=image/jpeg:https://trinityboardmills.org/wp-content/uploads/2022/11/BreakfastITBEV.jpg
GEO:54.466933365694;-5.9199475846608
END:VEVENT
BEGIN:VEVENT
DTSTART;TZID=UTC:20231009T180000
DTEND;TZID=UTC:20231009T191500
DTSTAMP:20260421T201225
CREATED:20230905T135001Z
LAST-MODIFIED:20240319T105153Z
UID:10007622-1696874400-1696878900@trinityboardmills.org
SUMMARY:BB Anchor Boys
DESCRIPTION:
URL:https://trinityboardmills.org/event/bb-anchor-boys-2/2023-10-09/
LOCATION:Killaney Hall
CATEGORIES:BB Featured,Youth & Children
ATTACH;FMTTYPE=image/jpeg:https://trinityboardmills.org/wp-content/uploads/2022/11/BBExpEV.jpg
GEO:54.4662977;-5.9128505
END:VEVENT
BEGIN:VEVENT
DTSTART;TZID=UTC:20231009T180000
DTEND;TZID=UTC:20231009T191500
DTSTAMP:20260421T201225
CREATED:20230905T135315Z
LAST-MODIFIED:20240319T105601Z
UID:10008400-1696874400-1696878900@trinityboardmills.org
SUMMARY:GB Explorers
DESCRIPTION:
URL:https://trinityboardmills.org/event/gb-explorers-2/2023-10-09/
LOCATION:McKee Hall\, BT27 6UP\, United Kingdom
CATEGORIES:GB Featured,Youth & Children
ATTACH;FMTTYPE=image/jpeg:https://trinityboardmills.org/wp-content/uploads/2022/11/GBJuniorEV.jpg
GEO:54.466933365694;-5.9199475846608
END:VEVENT
BEGIN:VEVENT
DTSTART;TZID=UTC:20231009T190000
DTEND;TZID=UTC:20231009T203000
DTSTAMP:20260421T201225
CREATED:20230905T135123Z
LAST-MODIFIED:20240319T105243Z
UID:10008141-1696878000-1696883400@trinityboardmills.org
SUMMARY:BB Junior Section
DESCRIPTION:
URL:https://trinityboardmills.org/event/bb-junior-section-2/2023-10-09/
LOCATION:Killaney Hall
CATEGORIES:BB Featured,Youth & Children
ATTACH;FMTTYPE=image/jpeg:https://trinityboardmills.org/wp-content/uploads/2022/11/BBSQEV.jpg
GEO:54.4662977;-5.9128505
END:VEVENT
BEGIN:VEVENT
DTSTART;TZID=UTC:20231009T191500
DTEND;TZID=UTC:20231009T204500
DTSTAMP:20260421T201225
CREATED:20230905T142731Z
LAST-MODIFIED:20240319T105629Z
UID:10008916-1696878900-1696884300@trinityboardmills.org
SUMMARY:GB Juniors + Company Section
DESCRIPTION:
URL:https://trinityboardmills.org/event/gb-company-section-2/2023-10-09/
LOCATION:McKee Hall\, BT27 6UP\, United Kingdom
CATEGORIES:GB Featured,Youth & Children
ATTACH;FMTTYPE=image/jpeg:https://trinityboardmills.org/wp-content/uploads/2022/11/GBCompEV.jpg
GEO:54.466933365694;-5.9199475846608
END:VEVENT
BEGIN:VEVENT
DTSTART;TZID=UTC:20231009T191500
DTEND;TZID=UTC:20231009T210000
DTSTAMP:20260421T201225
CREATED:20230905T135426Z
LAST-MODIFIED:20240319T105454Z
UID:10007881-1696878900-1696885200@trinityboardmills.org
SUMMARY:BB Company Section
DESCRIPTION:
URL:https://trinityboardmills.org/event/bb-company-section-2/2023-10-09/
LOCATION:Killaney Hall
CATEGORIES:BB Featured,Youth & Children
ATTACH;FMTTYPE=image/jpeg:https://trinityboardmills.org/wp-content/uploads/2022/10/BBCompanyEV.jpg
GEO:54.4662977;-5.9128505
END:VEVENT
BEGIN:VEVENT
DTSTART;TZID=UTC:20231010T193000
DTEND;TZID=UTC:20231010T213000
DTSTAMP:20260421T201225
CREATED:20230905T143817Z
LAST-MODIFIED:20240410T181053Z
UID:10008657-1696966200-1696973400@trinityboardmills.org
SUMMARY:Bowling Club
DESCRIPTION:
URL:https://trinityboardmills.org/event/mixed-bowls-3/2023-10-10/
LOCATION:McKee Hall\, BT27 6UP\, United Kingdom
CATEGORIES:Adults
ATTACH;FMTTYPE=image/jpeg:https://trinityboardmills.org/wp-content/uploads/2022/11/MixedBowlsEV.jpg
GEO:54.466933365694;-5.9199475846608
END:VEVENT
BEGIN:VEVENT
DTSTART;TZID=UTC:20231011T193000
DTEND;TZID=UTC:20231011T203000
DTSTAMP:20260421T201225
CREATED:20230918T082158Z
LAST-MODIFIED:20230918T083457Z
UID:10009588-1697052600-1697056200@trinityboardmills.org
SUMMARY:Midweek
DESCRIPTION:
URL:https://trinityboardmills.org/event/midweek-2-2/2023-10-11/
LOCATION:McKee Hall\, BT27 6UP\, United Kingdom
CATEGORIES:Midweek Featured
ATTACH;FMTTYPE=image/jpeg:https://trinityboardmills.org/wp-content/uploads/2022/11/MidweekEV.jpg
GEO:54.466933365694;-5.9199475846608
END:VEVENT
BEGIN:VEVENT
DTSTART;TZID=UTC:20231015T113000
DTEND;TZID=UTC:20231015T123000
DTSTAMP:20260421T201225
CREATED:20221031T111539Z
LAST-MODIFIED:20241217T123050Z
UID:10002946-1697369400-1697373000@trinityboardmills.org
SUMMARY:Morning Worship
DESCRIPTION:
URL:https://trinityboardmills.org/event/morning-service/2023-10-15/
LOCATION:Church Building\, BT27 6UP\, United Kingdom
CATEGORIES:Sunday
ATTACH;FMTTYPE=image/jpeg:https://trinityboardmills.org/wp-content/uploads/2022/11/SundayEV.jpg
GEO:54.466933365694;-5.9199475846608
END:VEVENT
BEGIN:VEVENT
DTSTART;TZID=UTC:20231015T114500
DTEND;TZID=UTC:20231015T123000
DTSTAMP:20260421T201225
CREATED:20221031T111350Z
LAST-MODIFIED:20241217T123139Z
UID:10007363-1697370300-1697373000@trinityboardmills.org
SUMMARY:Sunday CE & Creche
DESCRIPTION:
URL:https://trinityboardmills.org/event/sundayce/2023-10-15/
LOCATION:Kerr Room
CATEGORIES:Children
ATTACH;FMTTYPE=image/jpeg:https://trinityboardmills.org/wp-content/uploads/2022/11/SundayCEEV.jpg
END:VEVENT
BEGIN:VEVENT
DTSTART;TZID=UTC:20231015T183000
DTEND;TZID=UTC:20231015T191500
DTSTAMP:20260421T201225
CREATED:20221031T111652Z
LAST-MODIFIED:20240630T125727Z
UID:10009180-1697394600-1697397300@trinityboardmills.org
SUMMARY:Evening Service
DESCRIPTION:
URL:https://trinityboardmills.org/event/evening-service/2023-10-15/
LOCATION:Church Building\, BT27 6UP\, United Kingdom
CATEGORIES:Sunday
ATTACH;FMTTYPE=image/jpeg:https://trinityboardmills.org/wp-content/uploads/2022/11/EveningServiceEV.jpg
GEO:54.466933365694;-5.9199475846608
END:VEVENT
BEGIN:VEVENT
DTSTART;TZID=UTC:20231016T180000
DTEND;TZID=UTC:20231016T191500
DTSTAMP:20260421T201225
CREATED:20230905T135001Z
LAST-MODIFIED:20240319T105153Z
UID:10007623-1697479200-1697483700@trinityboardmills.org
SUMMARY:BB Anchor Boys
DESCRIPTION:
URL:https://trinityboardmills.org/event/bb-anchor-boys-2/2023-10-16/
LOCATION:Killaney Hall
CATEGORIES:BB Featured,Youth & Children
ATTACH;FMTTYPE=image/jpeg:https://trinityboardmills.org/wp-content/uploads/2022/11/BBExpEV.jpg
GEO:54.4662977;-5.9128505
END:VEVENT
BEGIN:VEVENT
DTSTART;TZID=UTC:20231016T180000
DTEND;TZID=UTC:20231016T191500
DTSTAMP:20260421T201225
CREATED:20230905T135315Z
LAST-MODIFIED:20240319T105601Z
UID:10008401-1697479200-1697483700@trinityboardmills.org
SUMMARY:GB Explorers
DESCRIPTION:
URL:https://trinityboardmills.org/event/gb-explorers-2/2023-10-16/
LOCATION:McKee Hall\, BT27 6UP\, United Kingdom
CATEGORIES:GB Featured,Youth & Children
ATTACH;FMTTYPE=image/jpeg:https://trinityboardmills.org/wp-content/uploads/2022/11/GBJuniorEV.jpg
GEO:54.466933365694;-5.9199475846608
END:VEVENT
BEGIN:VEVENT
DTSTART;TZID=UTC:20231016T190000
DTEND;TZID=UTC:20231016T203000
DTSTAMP:20260421T201225
CREATED:20230905T135123Z
LAST-MODIFIED:20240319T105243Z
UID:10008142-1697482800-1697488200@trinityboardmills.org
SUMMARY:BB Junior Section
DESCRIPTION:
URL:https://trinityboardmills.org/event/bb-junior-section-2/2023-10-16/
LOCATION:Killaney Hall
CATEGORIES:BB Featured,Youth & Children
ATTACH;FMTTYPE=image/jpeg:https://trinityboardmills.org/wp-content/uploads/2022/11/BBSQEV.jpg
GEO:54.4662977;-5.9128505
END:VEVENT
BEGIN:VEVENT
DTSTART;TZID=UTC:20231016T191500
DTEND;TZID=UTC:20231016T204500
DTSTAMP:20260421T201225
CREATED:20230905T142731Z
LAST-MODIFIED:20240319T105629Z
UID:10008917-1697483700-1697489100@trinityboardmills.org
SUMMARY:GB Juniors + Company Section
DESCRIPTION:
URL:https://trinityboardmills.org/event/gb-company-section-2/2023-10-16/
LOCATION:McKee Hall\, BT27 6UP\, United Kingdom
CATEGORIES:GB Featured,Youth & Children
ATTACH;FMTTYPE=image/jpeg:https://trinityboardmills.org/wp-content/uploads/2022/11/GBCompEV.jpg
GEO:54.466933365694;-5.9199475846608
END:VEVENT
BEGIN:VEVENT
DTSTART;TZID=UTC:20231016T191500
DTEND;TZID=UTC:20231016T210000
DTSTAMP:20260421T201225
CREATED:20230905T135426Z
LAST-MODIFIED:20240319T105454Z
UID:10007882-1697483700-1697490000@trinityboardmills.org
SUMMARY:BB Company Section
DESCRIPTION:
URL:https://trinityboardmills.org/event/bb-company-section-2/2023-10-16/
LOCATION:Killaney Hall
CATEGORIES:BB Featured,Youth & Children
ATTACH;FMTTYPE=image/jpeg:https://trinityboardmills.org/wp-content/uploads/2022/10/BBCompanyEV.jpg
GEO:54.4662977;-5.9128505
END:VEVENT
BEGIN:VEVENT
DTSTART;TZID=UTC:20231017T193000
DTEND;TZID=UTC:20231017T213000
DTSTAMP:20260421T201225
CREATED:20230905T143817Z
LAST-MODIFIED:20240410T181053Z
UID:10008658-1697571000-1697578200@trinityboardmills.org
SUMMARY:Bowling Club
DESCRIPTION:
URL:https://trinityboardmills.org/event/mixed-bowls-3/2023-10-17/
LOCATION:McKee Hall\, BT27 6UP\, United Kingdom
CATEGORIES:Adults
ATTACH;FMTTYPE=image/jpeg:https://trinityboardmills.org/wp-content/uploads/2022/11/MixedBowlsEV.jpg
GEO:54.466933365694;-5.9199475846608
END:VEVENT
BEGIN:VEVENT
DTSTART;TZID=UTC:20231018T193000
DTEND;TZID=UTC:20231018T203000
DTSTAMP:20260421T201225
CREATED:20230914T191909Z
LAST-MODIFIED:20230914T192017Z
UID:10009442-1697657400-1697661000@trinityboardmills.org
SUMMARY:Fellowship Groups (Wed)
DESCRIPTION:This session we will be using the book “Belong”\, the first and third Wednesday of the month in Killaney Hall.
URL:https://trinityboardmills.org/event/fellowship-groups-wed-2-3/2023-10-18/
LOCATION:Killaney Hall
CATEGORIES:Fellowship Groups Featured
ATTACH;FMTTYPE=image/jpeg:https://trinityboardmills.org/wp-content/uploads/2022/11/FellowshipGroupEV.jpg
GEO:54.4662977;-5.9128505
END:VEVENT
BEGIN:VEVENT
DTSTART;TZID=UTC:20231019T193000
DTEND;TZID=UTC:20231019T203000
DTSTAMP:20260421T201225
CREATED:20230914T190955Z
LAST-MODIFIED:20230914T191148Z
UID:10009438-1697743800-1697747400@trinityboardmills.org
SUMMARY:Fellowship Groups (Thu)
DESCRIPTION:This session we will be using the book “Belong”\, the first and third Thursday of the month at Colin and Trish Foreman’s home.
URL:https://trinityboardmills.org/event/fellowship-groups-thu-2-3/2023-10-19/
CATEGORIES:Fellowship Groups Featured
ATTACH;FMTTYPE=image/jpeg:https://trinityboardmills.org/wp-content/uploads/2022/11/FellowshipGroupsEV.jpg
END:VEVENT
BEGIN:VEVENT
DTSTART;TZID=UTC:20231021T190000
DTEND;TZID=UTC:20231021T210000
DTSTAMP:20260421T201225
CREATED:20230825T093300Z
LAST-MODIFIED:20240520T082608Z
UID:10006893-1697914800-1697922000@trinityboardmills.org
SUMMARY:Pulse Senior
DESCRIPTION:
URL:https://trinityboardmills.org/event/pulse-senior-2/2023-10-21/
LOCATION:Killaney Hall
CATEGORIES:Pulse Featured,Youth & Children
ATTACH;FMTTYPE=image/jpeg:https://trinityboardmills.org/wp-content/uploads/2023/03/Pulse-web.jpg
GEO:54.4662977;-5.9128505
END:VEVENT
BEGIN:VEVENT
DTSTART;TZID=UTC:20231022T113000
DTEND;TZID=UTC:20231022T123000
DTSTAMP:20260421T201225
CREATED:20221031T111539Z
LAST-MODIFIED:20241217T123050Z
UID:10002947-1697974200-1697977800@trinityboardmills.org
SUMMARY:Morning Worship
DESCRIPTION:
URL:https://trinityboardmills.org/event/morning-service/2023-10-22/
LOCATION:Church Building\, BT27 6UP\, United Kingdom
CATEGORIES:Sunday
ATTACH;FMTTYPE=image/jpeg:https://trinityboardmills.org/wp-content/uploads/2022/11/SundayEV.jpg
GEO:54.466933365694;-5.9199475846608
END:VEVENT
BEGIN:VEVENT
DTSTART;TZID=UTC:20231022T114500
DTEND;TZID=UTC:20231022T123000
DTSTAMP:20260421T201225
CREATED:20221031T111350Z
LAST-MODIFIED:20241217T123139Z
UID:10007364-1697975100-1697977800@trinityboardmills.org
SUMMARY:Sunday CE & Creche
DESCRIPTION:
URL:https://trinityboardmills.org/event/sundayce/2023-10-22/
LOCATION:Kerr Room
CATEGORIES:Children
ATTACH;FMTTYPE=image/jpeg:https://trinityboardmills.org/wp-content/uploads/2022/11/SundayCEEV.jpg
END:VEVENT
BEGIN:VEVENT
DTSTART;TZID=UTC:20231022T183000
DTEND;TZID=UTC:20231022T191500
DTSTAMP:20260421T201225
CREATED:20221031T111652Z
LAST-MODIFIED:20240630T125727Z
UID:10009181-1697999400-1698002100@trinityboardmills.org
SUMMARY:Evening Service
DESCRIPTION:
URL:https://trinityboardmills.org/event/evening-service/2023-10-22/
LOCATION:Church Building\, BT27 6UP\, United Kingdom
CATEGORIES:Sunday
ATTACH;FMTTYPE=image/jpeg:https://trinityboardmills.org/wp-content/uploads/2022/11/EveningServiceEV.jpg
GEO:54.466933365694;-5.9199475846608
END:VEVENT
BEGIN:VEVENT
DTSTART;TZID=UTC:20231022T191500
DTEND;TZID=UTC:20231022T191500
DTSTAMP:20260421T201225
CREATED:20230914T204821Z
LAST-MODIFIED:20230915T075040Z
UID:10009446-1698002100-1698002100@trinityboardmills.org
SUMMARY:Youth Fellowship
DESCRIPTION:
URL:https://trinityboardmills.org/event/yf/2023-10-22/
LOCATION:McKee Hall\, BT27 6UP\, United Kingdom
CATEGORIES:YF Featured
ATTACH;FMTTYPE=image/jpeg:https://trinityboardmills.org/wp-content/uploads/2022/11/BreakfastITBEV.jpg
GEO:54.466933365694;-5.9199475846608
END:VEVENT
END:VCALENDAR