BEGIN:VCALENDAR
VERSION:2.0
PRODID:-//Trinity Presbyterian - ECPv6.15.20//NONSGML v1.0//EN
CALSCALE:GREGORIAN
METHOD:PUBLISH
X-ORIGINAL-URL:https://trinityboardmills.org
X-WR-CALDESC:Events for Trinity Presbyterian
REFRESH-INTERVAL;VALUE=DURATION:PT1H
X-Robots-Tag:noindex
X-PUBLISHED-TTL:PT1H
BEGIN:VTIMEZONE
TZID:UTC
BEGIN:STANDARD
TZOFFSETFROM:+0000
TZOFFSETTO:+0000
TZNAME:UTC
DTSTART:20230101T000000
END:STANDARD
END:VTIMEZONE
BEGIN:VEVENT
DTSTART;TZID=UTC:20240214T193000
DTEND;TZID=UTC:20240214T203000
DTSTAMP:20260420T190610
CREATED:20240112T090621Z
LAST-MODIFIED:20240520T081038Z
UID:10009824-1707939000-1707942600@trinityboardmills.org
SUMMARY:Midweek
DESCRIPTION:Midweek Prayer and Bible Study
URL:https://trinityboardmills.org/event/midweek-3-2-2/2024-02-14/
CATEGORIES:Midweek Featured
ATTACH;FMTTYPE=image/jpeg:https://trinityboardmills.org/wp-content/uploads/2022/11/MidweekEV.jpg
END:VEVENT
BEGIN:VEVENT
DTSTART;TZID=UTC:20240218T113000
DTEND;TZID=UTC:20240218T123000
DTSTAMP:20260420T190610
CREATED:20221031T111539Z
LAST-MODIFIED:20241217T123050Z
UID:10002964-1708255800-1708259400@trinityboardmills.org
SUMMARY:Morning Worship
DESCRIPTION:
URL:https://trinityboardmills.org/event/morning-service/2024-02-18/
LOCATION:Church Building\, BT27 6UP\, United Kingdom
CATEGORIES:Sunday
ATTACH;FMTTYPE=image/jpeg:https://trinityboardmills.org/wp-content/uploads/2022/11/SundayEV.jpg
GEO:54.466933365694;-5.9199475846608
END:VEVENT
BEGIN:VEVENT
DTSTART;TZID=UTC:20240218T114500
DTEND;TZID=UTC:20240218T123000
DTSTAMP:20260420T190610
CREATED:20221031T111350Z
LAST-MODIFIED:20241217T123139Z
UID:10007381-1708256700-1708259400@trinityboardmills.org
SUMMARY:Sunday CE & Creche
DESCRIPTION:
URL:https://trinityboardmills.org/event/sundayce/2024-02-18/
LOCATION:Kerr Room
CATEGORIES:Children
ATTACH;FMTTYPE=image/jpeg:https://trinityboardmills.org/wp-content/uploads/2022/11/SundayCEEV.jpg
END:VEVENT
BEGIN:VEVENT
DTSTART;TZID=UTC:20240218T183000
DTEND;TZID=UTC:20240218T191500
DTSTAMP:20260420T190610
CREATED:20221031T111652Z
LAST-MODIFIED:20240630T125727Z
UID:10009198-1708281000-1708283700@trinityboardmills.org
SUMMARY:Evening Service
DESCRIPTION:
URL:https://trinityboardmills.org/event/evening-service/2024-02-18/
LOCATION:Church Building\, BT27 6UP\, United Kingdom
CATEGORIES:Sunday
ATTACH;FMTTYPE=image/jpeg:https://trinityboardmills.org/wp-content/uploads/2022/11/EveningServiceEV.jpg
GEO:54.466933365694;-5.9199475846608
END:VEVENT
BEGIN:VEVENT
DTSTART;TZID=UTC:20240219T180000
DTEND;TZID=UTC:20240219T191500
DTSTAMP:20260420T190610
CREATED:20230905T135001Z
LAST-MODIFIED:20240319T105153Z
UID:10007641-1708365600-1708370100@trinityboardmills.org
SUMMARY:BB Anchor Boys
DESCRIPTION:
URL:https://trinityboardmills.org/event/bb-anchor-boys-2/2024-02-19/
LOCATION:Killaney Hall
CATEGORIES:BB Featured,Youth & Children
ATTACH;FMTTYPE=image/jpeg:https://trinityboardmills.org/wp-content/uploads/2022/11/BBExpEV.jpg
GEO:54.4662977;-5.9128505
END:VEVENT
BEGIN:VEVENT
DTSTART;TZID=UTC:20240219T180000
DTEND;TZID=UTC:20240219T191500
DTSTAMP:20260420T190610
CREATED:20230905T135315Z
LAST-MODIFIED:20240319T105601Z
UID:10008419-1708365600-1708370100@trinityboardmills.org
SUMMARY:GB Explorers
DESCRIPTION:
URL:https://trinityboardmills.org/event/gb-explorers-2/2024-02-19/
LOCATION:McKee Hall\, BT27 6UP\, United Kingdom
CATEGORIES:GB Featured,Youth & Children
ATTACH;FMTTYPE=image/jpeg:https://trinityboardmills.org/wp-content/uploads/2022/11/GBJuniorEV.jpg
GEO:54.466933365694;-5.9199475846608
END:VEVENT
BEGIN:VEVENT
DTSTART;TZID=UTC:20240219T190000
DTEND;TZID=UTC:20240219T203000
DTSTAMP:20260420T190610
CREATED:20230905T135123Z
LAST-MODIFIED:20240319T105243Z
UID:10008160-1708369200-1708374600@trinityboardmills.org
SUMMARY:BB Junior Section
DESCRIPTION:
URL:https://trinityboardmills.org/event/bb-junior-section-2/2024-02-19/
LOCATION:Killaney Hall
CATEGORIES:BB Featured,Youth & Children
ATTACH;FMTTYPE=image/jpeg:https://trinityboardmills.org/wp-content/uploads/2022/11/BBSQEV.jpg
GEO:54.4662977;-5.9128505
END:VEVENT
BEGIN:VEVENT
DTSTART;TZID=UTC:20240219T191500
DTEND;TZID=UTC:20240219T204500
DTSTAMP:20260420T190610
CREATED:20230905T142731Z
LAST-MODIFIED:20240319T105629Z
UID:10008935-1708370100-1708375500@trinityboardmills.org
SUMMARY:GB Juniors + Company Section
DESCRIPTION:
URL:https://trinityboardmills.org/event/gb-company-section-2/2024-02-19/
LOCATION:McKee Hall\, BT27 6UP\, United Kingdom
CATEGORIES:GB Featured,Youth & Children
ATTACH;FMTTYPE=image/jpeg:https://trinityboardmills.org/wp-content/uploads/2022/11/GBCompEV.jpg
GEO:54.466933365694;-5.9199475846608
END:VEVENT
BEGIN:VEVENT
DTSTART;TZID=UTC:20240219T191500
DTEND;TZID=UTC:20240219T210000
DTSTAMP:20260420T190610
CREATED:20230905T135426Z
LAST-MODIFIED:20240319T105454Z
UID:10007900-1708370100-1708376400@trinityboardmills.org
SUMMARY:BB Company Section
DESCRIPTION:
URL:https://trinityboardmills.org/event/bb-company-section-2/2024-02-19/
LOCATION:Killaney Hall
CATEGORIES:BB Featured,Youth & Children
ATTACH;FMTTYPE=image/jpeg:https://trinityboardmills.org/wp-content/uploads/2022/10/BBCompanyEV.jpg
GEO:54.4662977;-5.9128505
END:VEVENT
BEGIN:VEVENT
DTSTART;TZID=UTC:20240220T193000
DTEND;TZID=UTC:20240220T213000
DTSTAMP:20260420T190610
CREATED:20230905T143817Z
LAST-MODIFIED:20240410T181053Z
UID:10008676-1708457400-1708464600@trinityboardmills.org
SUMMARY:Bowling Club
DESCRIPTION:
URL:https://trinityboardmills.org/event/mixed-bowls-3/2024-02-20/
LOCATION:McKee Hall\, BT27 6UP\, United Kingdom
CATEGORIES:Adults
ATTACH;FMTTYPE=image/jpeg:https://trinityboardmills.org/wp-content/uploads/2022/11/MixedBowlsEV.jpg
GEO:54.466933365694;-5.9199475846608
END:VEVENT
BEGIN:VEVENT
DTSTART;TZID=UTC:20240221T193000
DTEND;TZID=UTC:20240221T210000
DTSTAMP:20260420T190610
CREATED:20230914T192432Z
LAST-MODIFIED:20240112T090056Z
UID:10009813-1708543800-1708549200@trinityboardmills.org
SUMMARY:Fellowship Groups (Wed)
DESCRIPTION:This session we will be using the book “Serve”\, the first and third Wednesday of the month in Killaney Hall.
URL:https://trinityboardmills.org/event/fellowship-groups-wed-2-2-2/2024-02-21/
LOCATION:Killaney Hall
CATEGORIES:Fellowship Groups Featured
ATTACH;FMTTYPE=image/jpeg:https://trinityboardmills.org/wp-content/uploads/2022/11/FellowshipGroupEV.jpg
GEO:54.4662977;-5.9128505
END:VEVENT
BEGIN:VEVENT
DTSTART;TZID=UTC:20240222T193000
DTEND;TZID=UTC:20240222T210000
DTSTAMP:20260420T190610
CREATED:20221201T112344Z
LAST-MODIFIED:20240112T090356Z
UID:10009819-1708630200-1708635600@trinityboardmills.org
SUMMARY:Fellowship Groups (Thu)
DESCRIPTION:This session we will be using the book “Serve”\, the first and third Thursday of the month at Colin and Trish Foreman’s home.
URL:https://trinityboardmills.org/event/fellowship-groups-thu/2024-02-22/
CATEGORIES:Fellowship Groups Featured
ATTACH;FMTTYPE=image/jpeg:https://trinityboardmills.org/wp-content/uploads/2022/11/FellowshipGroupsEV.jpg
END:VEVENT
BEGIN:VEVENT
DTSTART;TZID=UTC:20240225T113000
DTEND;TZID=UTC:20240225T123000
DTSTAMP:20260420T190610
CREATED:20221031T111539Z
LAST-MODIFIED:20241217T123050Z
UID:10002965-1708860600-1708864200@trinityboardmills.org
SUMMARY:Morning Worship
DESCRIPTION:
URL:https://trinityboardmills.org/event/morning-service/2024-02-25/
LOCATION:Church Building\, BT27 6UP\, United Kingdom
CATEGORIES:Sunday
ATTACH;FMTTYPE=image/jpeg:https://trinityboardmills.org/wp-content/uploads/2022/11/SundayEV.jpg
GEO:54.466933365694;-5.9199475846608
END:VEVENT
BEGIN:VEVENT
DTSTART;TZID=UTC:20240225T114500
DTEND;TZID=UTC:20240225T123000
DTSTAMP:20260420T190610
CREATED:20221031T111350Z
LAST-MODIFIED:20241217T123139Z
UID:10007382-1708861500-1708864200@trinityboardmills.org
SUMMARY:Sunday CE & Creche
DESCRIPTION:
URL:https://trinityboardmills.org/event/sundayce/2024-02-25/
LOCATION:Kerr Room
CATEGORIES:Children
ATTACH;FMTTYPE=image/jpeg:https://trinityboardmills.org/wp-content/uploads/2022/11/SundayCEEV.jpg
END:VEVENT
BEGIN:VEVENT
DTSTART;TZID=UTC:20240225T183000
DTEND;TZID=UTC:20240225T191500
DTSTAMP:20260420T190610
CREATED:20221031T111652Z
LAST-MODIFIED:20240630T125727Z
UID:10009199-1708885800-1708888500@trinityboardmills.org
SUMMARY:Evening Service
DESCRIPTION:
URL:https://trinityboardmills.org/event/evening-service/2024-02-25/
LOCATION:Church Building\, BT27 6UP\, United Kingdom
CATEGORIES:Sunday
ATTACH;FMTTYPE=image/jpeg:https://trinityboardmills.org/wp-content/uploads/2022/11/EveningServiceEV.jpg
GEO:54.466933365694;-5.9199475846608
END:VEVENT
BEGIN:VEVENT
DTSTART;TZID=UTC:20240226T180000
DTEND;TZID=UTC:20240226T191500
DTSTAMP:20260420T190610
CREATED:20230905T135001Z
LAST-MODIFIED:20240319T105153Z
UID:10007642-1708970400-1708974900@trinityboardmills.org
SUMMARY:BB Anchor Boys
DESCRIPTION:
URL:https://trinityboardmills.org/event/bb-anchor-boys-2/2024-02-26/
LOCATION:Killaney Hall
CATEGORIES:BB Featured,Youth & Children
ATTACH;FMTTYPE=image/jpeg:https://trinityboardmills.org/wp-content/uploads/2022/11/BBExpEV.jpg
GEO:54.4662977;-5.9128505
END:VEVENT
BEGIN:VEVENT
DTSTART;TZID=UTC:20240226T180000
DTEND;TZID=UTC:20240226T191500
DTSTAMP:20260420T190610
CREATED:20230905T135315Z
LAST-MODIFIED:20240319T105601Z
UID:10008420-1708970400-1708974900@trinityboardmills.org
SUMMARY:GB Explorers
DESCRIPTION:
URL:https://trinityboardmills.org/event/gb-explorers-2/2024-02-26/
LOCATION:McKee Hall\, BT27 6UP\, United Kingdom
CATEGORIES:GB Featured,Youth & Children
ATTACH;FMTTYPE=image/jpeg:https://trinityboardmills.org/wp-content/uploads/2022/11/GBJuniorEV.jpg
GEO:54.466933365694;-5.9199475846608
END:VEVENT
BEGIN:VEVENT
DTSTART;TZID=UTC:20240226T190000
DTEND;TZID=UTC:20240226T203000
DTSTAMP:20260420T190610
CREATED:20230905T135123Z
LAST-MODIFIED:20240319T105243Z
UID:10008161-1708974000-1708979400@trinityboardmills.org
SUMMARY:BB Junior Section
DESCRIPTION:
URL:https://trinityboardmills.org/event/bb-junior-section-2/2024-02-26/
LOCATION:Killaney Hall
CATEGORIES:BB Featured,Youth & Children
ATTACH;FMTTYPE=image/jpeg:https://trinityboardmills.org/wp-content/uploads/2022/11/BBSQEV.jpg
GEO:54.4662977;-5.9128505
END:VEVENT
BEGIN:VEVENT
DTSTART;TZID=UTC:20240226T191500
DTEND;TZID=UTC:20240226T204500
DTSTAMP:20260420T190610
CREATED:20230905T142731Z
LAST-MODIFIED:20240319T105629Z
UID:10008936-1708974900-1708980300@trinityboardmills.org
SUMMARY:GB Juniors + Company Section
DESCRIPTION:
URL:https://trinityboardmills.org/event/gb-company-section-2/2024-02-26/
LOCATION:McKee Hall\, BT27 6UP\, United Kingdom
CATEGORIES:GB Featured,Youth & Children
ATTACH;FMTTYPE=image/jpeg:https://trinityboardmills.org/wp-content/uploads/2022/11/GBCompEV.jpg
GEO:54.466933365694;-5.9199475846608
END:VEVENT
BEGIN:VEVENT
DTSTART;TZID=UTC:20240226T191500
DTEND;TZID=UTC:20240226T210000
DTSTAMP:20260420T190610
CREATED:20230905T135426Z
LAST-MODIFIED:20240319T105454Z
UID:10007901-1708974900-1708981200@trinityboardmills.org
SUMMARY:BB Company Section
DESCRIPTION:
URL:https://trinityboardmills.org/event/bb-company-section-2/2024-02-26/
LOCATION:Killaney Hall
CATEGORIES:BB Featured,Youth & Children
ATTACH;FMTTYPE=image/jpeg:https://trinityboardmills.org/wp-content/uploads/2022/10/BBCompanyEV.jpg
GEO:54.4662977;-5.9128505
END:VEVENT
BEGIN:VEVENT
DTSTART;TZID=UTC:20240227T193000
DTEND;TZID=UTC:20240227T213000
DTSTAMP:20260420T190610
CREATED:20230905T143817Z
LAST-MODIFIED:20240410T181053Z
UID:10008677-1709062200-1709069400@trinityboardmills.org
SUMMARY:Bowling Club
DESCRIPTION:
URL:https://trinityboardmills.org/event/mixed-bowls-3/2024-02-27/
LOCATION:McKee Hall\, BT27 6UP\, United Kingdom
CATEGORIES:Adults
ATTACH;FMTTYPE=image/jpeg:https://trinityboardmills.org/wp-content/uploads/2022/11/MixedBowlsEV.jpg
GEO:54.466933365694;-5.9199475846608
END:VEVENT
BEGIN:VEVENT
DTSTART;TZID=UTC:20240228T193000
DTEND;TZID=UTC:20240228T203000
DTSTAMP:20260420T190610
CREATED:20240112T090621Z
LAST-MODIFIED:20240520T081038Z
UID:10009825-1709148600-1709152200@trinityboardmills.org
SUMMARY:Midweek
DESCRIPTION:Midweek Prayer and Bible Study
URL:https://trinityboardmills.org/event/midweek-3-2-2/2024-02-28/
CATEGORIES:Midweek Featured
ATTACH;FMTTYPE=image/jpeg:https://trinityboardmills.org/wp-content/uploads/2022/11/MidweekEV.jpg
END:VEVENT
BEGIN:VEVENT
DTSTART;TZID=UTC:20240302T183000
DTEND;TZID=UTC:20240302T200000
DTSTAMP:20260420T190610
CREATED:20230825T093938Z
LAST-MODIFIED:20240520T082649Z
UID:10007214-1709404200-1709409600@trinityboardmills.org
SUMMARY:Pulse Junior
DESCRIPTION:
URL:https://trinityboardmills.org/event/pulse-junior-2-2-2/2024-03-02/
LOCATION:Killaney Hall
CATEGORIES:Pulse Featured
ATTACH;FMTTYPE=image/jpeg:https://trinityboardmills.org/wp-content/uploads/2022/11/Pulse-web-2.jpg
GEO:54.4662977;-5.9128505
END:VEVENT
BEGIN:VEVENT
DTSTART;TZID=UTC:20240303T113000
DTEND;TZID=UTC:20240303T123000
DTSTAMP:20260420T190610
CREATED:20221031T111539Z
LAST-MODIFIED:20241217T123050Z
UID:10002966-1709465400-1709469000@trinityboardmills.org
SUMMARY:Morning Worship
DESCRIPTION:
URL:https://trinityboardmills.org/event/morning-service/2024-03-03/
LOCATION:Church Building\, BT27 6UP\, United Kingdom
CATEGORIES:Sunday
ATTACH;FMTTYPE=image/jpeg:https://trinityboardmills.org/wp-content/uploads/2022/11/SundayEV.jpg
GEO:54.466933365694;-5.9199475846608
END:VEVENT
BEGIN:VEVENT
DTSTART;TZID=UTC:20240303T114500
DTEND;TZID=UTC:20240303T123000
DTSTAMP:20260420T190610
CREATED:20221031T111350Z
LAST-MODIFIED:20241217T123139Z
UID:10007383-1709466300-1709469000@trinityboardmills.org
SUMMARY:Sunday CE & Creche
DESCRIPTION:
URL:https://trinityboardmills.org/event/sundayce/2024-03-03/
LOCATION:Kerr Room
CATEGORIES:Children
ATTACH;FMTTYPE=image/jpeg:https://trinityboardmills.org/wp-content/uploads/2022/11/SundayCEEV.jpg
END:VEVENT
BEGIN:VEVENT
DTSTART;TZID=UTC:20240303T183000
DTEND;TZID=UTC:20240303T191500
DTSTAMP:20260420T190610
CREATED:20221031T111652Z
LAST-MODIFIED:20240630T125727Z
UID:10009200-1709490600-1709493300@trinityboardmills.org
SUMMARY:Evening Service
DESCRIPTION:
URL:https://trinityboardmills.org/event/evening-service/2024-03-03/
LOCATION:Church Building\, BT27 6UP\, United Kingdom
CATEGORIES:Sunday
ATTACH;FMTTYPE=image/jpeg:https://trinityboardmills.org/wp-content/uploads/2022/11/EveningServiceEV.jpg
GEO:54.466933365694;-5.9199475846608
END:VEVENT
BEGIN:VEVENT
DTSTART;TZID=UTC:20240304T180000
DTEND;TZID=UTC:20240304T191500
DTSTAMP:20260420T190610
CREATED:20230905T135001Z
LAST-MODIFIED:20240319T105153Z
UID:10007643-1709575200-1709579700@trinityboardmills.org
SUMMARY:BB Anchor Boys
DESCRIPTION:
URL:https://trinityboardmills.org/event/bb-anchor-boys-2/2024-03-04/
LOCATION:Killaney Hall
CATEGORIES:BB Featured,Youth & Children
ATTACH;FMTTYPE=image/jpeg:https://trinityboardmills.org/wp-content/uploads/2022/11/BBExpEV.jpg
GEO:54.4662977;-5.9128505
END:VEVENT
BEGIN:VEVENT
DTSTART;TZID=UTC:20240304T180000
DTEND;TZID=UTC:20240304T191500
DTSTAMP:20260420T190610
CREATED:20230905T135315Z
LAST-MODIFIED:20240319T105601Z
UID:10008421-1709575200-1709579700@trinityboardmills.org
SUMMARY:GB Explorers
DESCRIPTION:
URL:https://trinityboardmills.org/event/gb-explorers-2/2024-03-04/
LOCATION:McKee Hall\, BT27 6UP\, United Kingdom
CATEGORIES:GB Featured,Youth & Children
ATTACH;FMTTYPE=image/jpeg:https://trinityboardmills.org/wp-content/uploads/2022/11/GBJuniorEV.jpg
GEO:54.466933365694;-5.9199475846608
END:VEVENT
BEGIN:VEVENT
DTSTART;TZID=UTC:20240304T190000
DTEND;TZID=UTC:20240304T203000
DTSTAMP:20260420T190610
CREATED:20230905T135123Z
LAST-MODIFIED:20240319T105243Z
UID:10008162-1709578800-1709584200@trinityboardmills.org
SUMMARY:BB Junior Section
DESCRIPTION:
URL:https://trinityboardmills.org/event/bb-junior-section-2/2024-03-04/
LOCATION:Killaney Hall
CATEGORIES:BB Featured,Youth & Children
ATTACH;FMTTYPE=image/jpeg:https://trinityboardmills.org/wp-content/uploads/2022/11/BBSQEV.jpg
GEO:54.4662977;-5.9128505
END:VEVENT
BEGIN:VEVENT
DTSTART;TZID=UTC:20240304T191500
DTEND;TZID=UTC:20240304T204500
DTSTAMP:20260420T190610
CREATED:20230905T142731Z
LAST-MODIFIED:20240319T105629Z
UID:10008937-1709579700-1709585100@trinityboardmills.org
SUMMARY:GB Juniors + Company Section
DESCRIPTION:
URL:https://trinityboardmills.org/event/gb-company-section-2/2024-03-04/
LOCATION:McKee Hall\, BT27 6UP\, United Kingdom
CATEGORIES:GB Featured,Youth & Children
ATTACH;FMTTYPE=image/jpeg:https://trinityboardmills.org/wp-content/uploads/2022/11/GBCompEV.jpg
GEO:54.466933365694;-5.9199475846608
END:VEVENT
END:VCALENDAR