BEGIN:VCALENDAR
VERSION:2.0
PRODID:-//Trinity Presbyterian - ECPv6.15.20//NONSGML v1.0//EN
CALSCALE:GREGORIAN
METHOD:PUBLISH
X-ORIGINAL-URL:https://trinityboardmills.org
X-WR-CALDESC:Events for Trinity Presbyterian
REFRESH-INTERVAL;VALUE=DURATION:PT1H
X-Robots-Tag:noindex
X-PUBLISHED-TTL:PT1H
BEGIN:VTIMEZONE
TZID:UTC
BEGIN:STANDARD
TZOFFSETFROM:+0000
TZOFFSETTO:+0000
TZNAME:UTC
DTSTART:20240101T000000
END:STANDARD
END:VTIMEZONE
BEGIN:VEVENT
DTSTART;TZID=UTC:20251006T180000
DTEND;TZID=UTC:20251006T191500
DTSTAMP:20260420T054356
CREATED:20250820T091546Z
LAST-MODIFIED:20260316T184207Z
UID:10016263-1759773600-1759778100@trinityboardmills.org
SUMMARY:GB Explorers
DESCRIPTION:
URL:https://trinityboardmills.org/event/gb-explorers-2-2-2/2025-10-06/
LOCATION:McKee Hall\, BT27 6UP\, United Kingdom
CATEGORIES:GB Featured,Youth & Children
ATTACH;FMTTYPE=image/jpeg:https://trinityboardmills.org/wp-content/uploads/2022/11/GBJuniorEV.jpg
GEO:54.466933365694;-5.9199475846608
END:VEVENT
BEGIN:VEVENT
DTSTART;TZID=UTC:20251006T190000
DTEND;TZID=UTC:20251006T203000
DTSTAMP:20260420T054356
CREATED:20250820T083746Z
LAST-MODIFIED:20260316T184325Z
UID:10015930-1759777200-1759782600@trinityboardmills.org
SUMMARY:BB Junior Section
DESCRIPTION:
URL:https://trinityboardmills.org/event/bb-junior-section-2-2-2/2025-10-06/
LOCATION:Killaney Hall
CATEGORIES:BB Featured,Youth & Children
ATTACH;FMTTYPE=image/jpeg:https://trinityboardmills.org/wp-content/uploads/2022/11/BBSQEV.jpg
GEO:54.4662977;-5.9128505
END:VEVENT
BEGIN:VEVENT
DTSTART;TZID=UTC:20251006T191500
DTEND;TZID=UTC:20251006T203000
DTSTAMP:20260420T054356
CREATED:20250820T092414Z
LAST-MODIFIED:20260316T184139Z
UID:10016520-1759778100-1759782600@trinityboardmills.org
SUMMARY:GB Junior Section
DESCRIPTION:
URL:https://trinityboardmills.org/event/gb-junior-section-2/2025-10-06/
LOCATION:McKee Hall\, BT27 6UP\, United Kingdom
CATEGORIES:GB Featured,Youth & Children
ATTACH;FMTTYPE=image/jpeg:https://trinityboardmills.org/wp-content/uploads/2022/11/GBCompEV.jpg
GEO:54.466933365694;-5.9199475846608
END:VEVENT
BEGIN:VEVENT
DTSTART;TZID=UTC:20251006T191500
DTEND;TZID=UTC:20251006T204500
DTSTAMP:20260420T054356
CREATED:20250820T092749Z
LAST-MODIFIED:20260316T184050Z
UID:10016777-1759778100-1759783500@trinityboardmills.org
SUMMARY:GB Company Section
DESCRIPTION:
URL:https://trinityboardmills.org/event/gb-company-section-2-2-2/2025-10-06/
LOCATION:McKee Hall\, BT27 6UP\, United Kingdom
CATEGORIES:GB Featured,Youth & Children
ATTACH;FMTTYPE=image/jpeg:https://trinityboardmills.org/wp-content/uploads/2022/11/GBCompEV.jpg
GEO:54.466933365694;-5.9199475846608
END:VEVENT
BEGIN:VEVENT
DTSTART;TZID=UTC:20251006T191500
DTEND;TZID=UTC:20251006T210000
DTSTAMP:20260420T054356
CREATED:20250820T083950Z
LAST-MODIFIED:20260316T184255Z
UID:10015673-1759778100-1759784400@trinityboardmills.org
SUMMARY:BB Company Section
DESCRIPTION:
URL:https://trinityboardmills.org/event/bb-company-section-2-2-2/2025-10-06/
LOCATION:Killaney Hall
CATEGORIES:BB Featured,Youth & Children
ATTACH;FMTTYPE=image/jpeg:https://trinityboardmills.org/wp-content/uploads/2022/10/BBCompanyEV.jpg
GEO:54.4662977;-5.9128505
END:VEVENT
BEGIN:VEVENT
DTSTART;TZID=UTC:20251007T193000
DTEND;TZID=UTC:20251007T213000
DTSTAMP:20260420T054356
CREATED:20250820T095711Z
LAST-MODIFIED:20260326T092906Z
UID:10017193-1759865400-1759872600@trinityboardmills.org
SUMMARY:Bowling Club
DESCRIPTION:
URL:https://trinityboardmills.org/event/mixed-bowls-3-2-2/2025-10-07/
LOCATION:McKee Hall\, BT27 6UP\, United Kingdom
CATEGORIES:Adults
ATTACH;FMTTYPE=image/jpeg:https://trinityboardmills.org/wp-content/uploads/2022/11/MixedBowlsEV.jpg
GEO:54.466933365694;-5.9199475846608
END:VEVENT
BEGIN:VEVENT
DTSTART;TZID=UTC:20251009T193000
DTEND;TZID=UTC:20251009T213000
DTSTAMP:20260420T054356
CREATED:20230314T092527Z
LAST-MODIFIED:20250901T191117Z
UID:10017570-1760038200-1760045400@trinityboardmills.org
SUMMARY:Trinity Women
DESCRIPTION:Trinity Women meet on the second Thursday of the month. All ladies very welcome. \nContact a member of PW committee or email office@trinityboardmills.org for more details.
URL:https://trinityboardmills.org/event/trinity-women/2025-10-09/
LOCATION:McKee Hall\, BT27 6UP\, United Kingdom
CATEGORIES:Ladies
ATTACH;FMTTYPE=image/png:https://trinityboardmills.org/wp-content/uploads/2022/11/PW-Logo.png
GEO:54.466933365694;-5.9199475846608
END:VEVENT
BEGIN:VEVENT
DTSTART;TZID=UTC:20251012T100000
DTEND;TZID=UTC:20251012T110000
DTSTAMP:20260420T054356
CREATED:20250820T100226Z
LAST-MODIFIED:20250820T100246Z
UID:10017507-1760263200-1760266800@trinityboardmills.org
SUMMARY:Prayer Meeting
DESCRIPTION:Join with us as we pray with the firm expectation that God will move in and through us by His Spirit.
URL:https://trinityboardmills.org/event/prayer-meeting-3/2025-10-12/
LOCATION:Church Building\, BT27 6UP\, United Kingdom
CATEGORIES:Adults
ATTACH;FMTTYPE=image/jpeg:https://trinityboardmills.org/wp-content/uploads/2024/06/Prayer-reduced.jpg
GEO:54.466933365694;-5.9199475846608
END:VEVENT
BEGIN:VEVENT
DTSTART;TZID=UTC:20251012T113000
DTEND;TZID=UTC:20251012T123000
DTSTAMP:20260420T054356
CREATED:20221031T111539Z
LAST-MODIFIED:20241217T123050Z
UID:10003050-1760268600-1760272200@trinityboardmills.org
SUMMARY:Morning Worship
DESCRIPTION:
URL:https://trinityboardmills.org/event/morning-service/2025-10-12/
LOCATION:Church Building\, BT27 6UP\, United Kingdom
CATEGORIES:Sunday
ATTACH;FMTTYPE=image/jpeg:https://trinityboardmills.org/wp-content/uploads/2022/11/SundayEV.jpg
GEO:54.466933365694;-5.9199475846608
END:VEVENT
BEGIN:VEVENT
DTSTART;TZID=UTC:20251012T114500
DTEND;TZID=UTC:20251012T123000
DTSTAMP:20260420T054356
CREATED:20221031T111350Z
LAST-MODIFIED:20241217T123139Z
UID:10007467-1760269500-1760272200@trinityboardmills.org
SUMMARY:Sunday CE & Creche
DESCRIPTION:
URL:https://trinityboardmills.org/event/sundayce/2025-10-12/
LOCATION:Kerr Room
CATEGORIES:Children
ATTACH;FMTTYPE=image/jpeg:https://trinityboardmills.org/wp-content/uploads/2022/11/SundayCEEV.jpg
END:VEVENT
BEGIN:VEVENT
DTSTART;TZID=UTC:20251012T183000
DTEND;TZID=UTC:20251012T191500
DTSTAMP:20260420T054356
CREATED:20240903T080905Z
LAST-MODIFIED:20260405T092003Z
UID:10010962-1760293800-1760296500@trinityboardmills.org
SUMMARY:Evening Service
DESCRIPTION:
URL:https://trinityboardmills.org/event/evening-service-2/2025-10-12/
LOCATION:Church Building\, BT27 6UP\, United Kingdom
CATEGORIES:Sunday
ATTACH;FMTTYPE=image/jpeg:https://trinityboardmills.org/wp-content/uploads/2022/11/EveningServiceEV.jpg
GEO:54.466933365694;-5.9199475846608
END:VEVENT
BEGIN:VEVENT
DTSTART;TZID=UTC:20251012T193000
DTEND;TZID=UTC:20251012T210000
DTSTAMP:20260420T054356
CREATED:20250820T090923Z
LAST-MODIFIED:20250820T090954Z
UID:10016256-1760297400-1760302800@trinityboardmills.org
SUMMARY:Youth Fellowship
DESCRIPTION:
URL:https://trinityboardmills.org/event/youth-fellowship-5-2-2/2025-10-12/
LOCATION:McKee Hall\, BT27 6UP\, United Kingdom
CATEGORIES:YF Featured
ATTACH;FMTTYPE=image/jpeg:https://trinityboardmills.org/wp-content/uploads/2022/11/BreakfastITBEV.jpg
GEO:54.466933365694;-5.9199475846608
END:VEVENT
BEGIN:VEVENT
DTSTART;TZID=UTC:20251013T100000
DTEND;TZID=UTC:20251013T111500
DTSTAMP:20260420T054356
CREATED:20250820T095000Z
LAST-MODIFIED:20251201T113833Z
UID:10014658-1760349600-1760354100@trinityboardmills.org
SUMMARY:Trinity Tots
DESCRIPTION:
URL:https://trinityboardmills.org/event/trinity-tots-2-2-2-2/2025-10-13/
LOCATION:Killaney Hall
CATEGORIES:Trinity Tots Featured
ATTACH;FMTTYPE=image/jpeg:https://trinityboardmills.org/wp-content/uploads/2022/11/CrecheEV.jpg
GEO:54.4662977;-5.9128505
END:VEVENT
BEGIN:VEVENT
DTSTART;TZID=UTC:20251013T180000
DTEND;TZID=UTC:20251013T191500
DTSTAMP:20260420T054356
CREATED:20250820T083650Z
LAST-MODIFIED:20260316T184356Z
UID:10015417-1760378400-1760382900@trinityboardmills.org
SUMMARY:BB Anchor Boys
DESCRIPTION:
URL:https://trinityboardmills.org/event/bb-anchor-boys-2-2-2/2025-10-13/
LOCATION:Killaney Hall
CATEGORIES:BB Featured,Youth & Children
ATTACH;FMTTYPE=image/jpeg:https://trinityboardmills.org/wp-content/uploads/2022/11/BBExpEV.jpg
GEO:54.4662977;-5.9128505
END:VEVENT
BEGIN:VEVENT
DTSTART;TZID=UTC:20251013T180000
DTEND;TZID=UTC:20251013T191500
DTSTAMP:20260420T054356
CREATED:20250820T091546Z
LAST-MODIFIED:20260316T184207Z
UID:10016264-1760378400-1760382900@trinityboardmills.org
SUMMARY:GB Explorers
DESCRIPTION:
URL:https://trinityboardmills.org/event/gb-explorers-2-2-2/2025-10-13/
LOCATION:McKee Hall\, BT27 6UP\, United Kingdom
CATEGORIES:GB Featured,Youth & Children
ATTACH;FMTTYPE=image/jpeg:https://trinityboardmills.org/wp-content/uploads/2022/11/GBJuniorEV.jpg
GEO:54.466933365694;-5.9199475846608
END:VEVENT
BEGIN:VEVENT
DTSTART;TZID=UTC:20251013T190000
DTEND;TZID=UTC:20251013T203000
DTSTAMP:20260420T054356
CREATED:20250820T083746Z
LAST-MODIFIED:20260316T184325Z
UID:10015931-1760382000-1760387400@trinityboardmills.org
SUMMARY:BB Junior Section
DESCRIPTION:
URL:https://trinityboardmills.org/event/bb-junior-section-2-2-2/2025-10-13/
LOCATION:Killaney Hall
CATEGORIES:BB Featured,Youth & Children
ATTACH;FMTTYPE=image/jpeg:https://trinityboardmills.org/wp-content/uploads/2022/11/BBSQEV.jpg
GEO:54.4662977;-5.9128505
END:VEVENT
BEGIN:VEVENT
DTSTART;TZID=UTC:20251013T191500
DTEND;TZID=UTC:20251013T203000
DTSTAMP:20260420T054356
CREATED:20250820T092414Z
LAST-MODIFIED:20260316T184139Z
UID:10016521-1760382900-1760387400@trinityboardmills.org
SUMMARY:GB Junior Section
DESCRIPTION:
URL:https://trinityboardmills.org/event/gb-junior-section-2/2025-10-13/
LOCATION:McKee Hall\, BT27 6UP\, United Kingdom
CATEGORIES:GB Featured,Youth & Children
ATTACH;FMTTYPE=image/jpeg:https://trinityboardmills.org/wp-content/uploads/2022/11/GBCompEV.jpg
GEO:54.466933365694;-5.9199475846608
END:VEVENT
BEGIN:VEVENT
DTSTART;TZID=UTC:20251013T191500
DTEND;TZID=UTC:20251013T204500
DTSTAMP:20260420T054356
CREATED:20250820T092749Z
LAST-MODIFIED:20260316T184050Z
UID:10016778-1760382900-1760388300@trinityboardmills.org
SUMMARY:GB Company Section
DESCRIPTION:
URL:https://trinityboardmills.org/event/gb-company-section-2-2-2/2025-10-13/
LOCATION:McKee Hall\, BT27 6UP\, United Kingdom
CATEGORIES:GB Featured,Youth & Children
ATTACH;FMTTYPE=image/jpeg:https://trinityboardmills.org/wp-content/uploads/2022/11/GBCompEV.jpg
GEO:54.466933365694;-5.9199475846608
END:VEVENT
BEGIN:VEVENT
DTSTART;TZID=UTC:20251013T191500
DTEND;TZID=UTC:20251013T210000
DTSTAMP:20260420T054356
CREATED:20250820T083950Z
LAST-MODIFIED:20260316T184255Z
UID:10015674-1760382900-1760389200@trinityboardmills.org
SUMMARY:BB Company Section
DESCRIPTION:
URL:https://trinityboardmills.org/event/bb-company-section-2-2-2/2025-10-13/
LOCATION:Killaney Hall
CATEGORIES:BB Featured,Youth & Children
ATTACH;FMTTYPE=image/jpeg:https://trinityboardmills.org/wp-content/uploads/2022/10/BBCompanyEV.jpg
GEO:54.4662977;-5.9128505
END:VEVENT
BEGIN:VEVENT
DTSTART;TZID=UTC:20251014T193000
DTEND;TZID=UTC:20251014T213000
DTSTAMP:20260420T054356
CREATED:20250820T095711Z
LAST-MODIFIED:20260326T092906Z
UID:10017194-1760470200-1760477400@trinityboardmills.org
SUMMARY:Bowling Club
DESCRIPTION:
URL:https://trinityboardmills.org/event/mixed-bowls-3-2-2/2025-10-14/
LOCATION:McKee Hall\, BT27 6UP\, United Kingdom
CATEGORIES:Adults
ATTACH;FMTTYPE=image/jpeg:https://trinityboardmills.org/wp-content/uploads/2022/11/MixedBowlsEV.jpg
GEO:54.466933365694;-5.9199475846608
END:VEVENT
BEGIN:VEVENT
DTSTART;TZID=UTC:20251015T193000
DTEND;TZID=UTC:20251015T210000
DTSTAMP:20260420T054356
CREATED:20250407T101721Z
LAST-MODIFIED:20250820T085625Z
UID:10016248-1760556600-1760562000@trinityboardmills.org
SUMMARY:Fellowship Groups (Wed)
DESCRIPTION:This session we will be studying Acts 13-28\, the first and third Wednesday of the month in Killaney Hall.
URL:https://trinityboardmills.org/event/fellowship-groups-wed-4/2025-10-15/
LOCATION:Killaney Hall
CATEGORIES:Fellowship Groups Featured
ATTACH;FMTTYPE=image/jpeg:https://trinityboardmills.org/wp-content/uploads/2022/11/FellowshipGroupEV.jpg
GEO:54.4662977;-5.9128505
END:VEVENT
BEGIN:VEVENT
DTSTART;TZID=UTC:20251016T103000
DTEND;TZID=UTC:20251016T113000
DTSTAMP:20260420T054356
CREATED:20230911T123435Z
LAST-MODIFIED:20260326T081458Z
UID:10017902-1760610600-1760614200@trinityboardmills.org
SUMMARY:Ladies Bible Study
DESCRIPTION:
URL:https://trinityboardmills.org/event/ladies-bible-study-2/2025-10-16/
LOCATION:Killaney Hall
CATEGORIES:Adults,Ladies
ATTACH;FMTTYPE=image/jpeg:https://trinityboardmills.org/wp-content/uploads/2022/11/LadiesBibleStudyEV.jpg
GEO:54.4662977;-5.9128505
END:VEVENT
BEGIN:VEVENT
DTSTART;TZID=UTC:20251016T193000
DTEND;TZID=UTC:20251016T210000
DTSTAMP:20260420T054356
CREATED:20250407T101934Z
LAST-MODIFIED:20250820T085149Z
UID:10016186-1760643000-1760648400@trinityboardmills.org
SUMMARY:Fellowship Groups (Thu)
DESCRIPTION:This session we will be studying Acts 13-28\, the first and third Thursday of the month at Colin and Trish Foreman’s home.
URL:https://trinityboardmills.org/event/fellowship-groups-thu-5/2025-10-16/
CATEGORIES:Fellowship Groups Featured
ATTACH;FMTTYPE=image/jpeg:https://trinityboardmills.org/wp-content/uploads/2022/11/FellowshipGroupsEV.jpg
END:VEVENT
BEGIN:VEVENT
DTSTART;TZID=UTC:20251018T190000
DTEND;TZID=UTC:20251018T210000
DTSTAMP:20260420T054356
CREATED:20250820T095502Z
LAST-MODIFIED:20260414T120959Z
UID:10017132-1760814000-1760821200@trinityboardmills.org
SUMMARY:Pulse Senior
DESCRIPTION:
URL:https://trinityboardmills.org/event/pulse-senior-2-2-2/2025-10-18/
LOCATION:Killaney Hall
CATEGORIES:Pulse Featured,Youth & Children
ATTACH;FMTTYPE=image/jpeg:https://trinityboardmills.org/wp-content/uploads/2023/03/Pulse-web.jpg
GEO:54.4662977;-5.9128505
END:VEVENT
BEGIN:VEVENT
DTSTART;TZID=UTC:20251019T113000
DTEND;TZID=UTC:20251019T123000
DTSTAMP:20260420T054356
CREATED:20221031T111539Z
LAST-MODIFIED:20241217T123050Z
UID:10003051-1760873400-1760877000@trinityboardmills.org
SUMMARY:Morning Worship
DESCRIPTION:
URL:https://trinityboardmills.org/event/morning-service/2025-10-19/
LOCATION:Church Building\, BT27 6UP\, United Kingdom
CATEGORIES:Sunday
ATTACH;FMTTYPE=image/jpeg:https://trinityboardmills.org/wp-content/uploads/2022/11/SundayEV.jpg
GEO:54.466933365694;-5.9199475846608
END:VEVENT
BEGIN:VEVENT
DTSTART;TZID=UTC:20251019T114500
DTEND;TZID=UTC:20251019T123000
DTSTAMP:20260420T054356
CREATED:20221031T111350Z
LAST-MODIFIED:20241217T123139Z
UID:10007468-1760874300-1760877000@trinityboardmills.org
SUMMARY:Sunday CE & Creche
DESCRIPTION:
URL:https://trinityboardmills.org/event/sundayce/2025-10-19/
LOCATION:Kerr Room
CATEGORIES:Children
ATTACH;FMTTYPE=image/jpeg:https://trinityboardmills.org/wp-content/uploads/2022/11/SundayCEEV.jpg
END:VEVENT
BEGIN:VEVENT
DTSTART;TZID=UTC:20251019T183000
DTEND;TZID=UTC:20251019T191500
DTSTAMP:20260420T054356
CREATED:20240903T080905Z
LAST-MODIFIED:20260405T092003Z
UID:10010963-1760898600-1760901300@trinityboardmills.org
SUMMARY:Evening Service
DESCRIPTION:
URL:https://trinityboardmills.org/event/evening-service-2/2025-10-19/
LOCATION:Church Building\, BT27 6UP\, United Kingdom
CATEGORIES:Sunday
ATTACH;FMTTYPE=image/jpeg:https://trinityboardmills.org/wp-content/uploads/2022/11/EveningServiceEV.jpg
GEO:54.466933365694;-5.9199475846608
END:VEVENT
BEGIN:VEVENT
DTSTART;TZID=UTC:20251019T193000
DTEND;TZID=UTC:20251019T210000
DTSTAMP:20260420T054356
CREATED:20250529T194542Z
LAST-MODIFIED:20250820T090429Z
UID:10016253-1760902200-1760907600@trinityboardmills.org
SUMMARY:Youth Fellowship (Fellowship Group format)
DESCRIPTION:This session we will be studying Acts 13-28\, the first and third Sundays of the month in McKee Hall.
URL:https://trinityboardmills.org/event/youth-fellowship-fellowship-group-format-3/2025-10-19/
LOCATION:McKee Hall\, BT27 6UP\, United Kingdom
CATEGORIES:Fellowship Groups Featured,YF Featured
ATTACH;FMTTYPE=image/jpeg:https://trinityboardmills.org/wp-content/uploads/2022/11/BreakfastITBEV.jpg
GEO:54.466933365694;-5.9199475846608
END:VEVENT
BEGIN:VEVENT
DTSTART;TZID=UTC:20251020T100000
DTEND;TZID=UTC:20251020T111500
DTSTAMP:20260420T054356
CREATED:20250820T095000Z
LAST-MODIFIED:20251201T113833Z
UID:10014659-1760954400-1760958900@trinityboardmills.org
SUMMARY:Trinity Tots
DESCRIPTION:
URL:https://trinityboardmills.org/event/trinity-tots-2-2-2-2/2025-10-20/
LOCATION:Killaney Hall
CATEGORIES:Trinity Tots Featured
ATTACH;FMTTYPE=image/jpeg:https://trinityboardmills.org/wp-content/uploads/2022/11/CrecheEV.jpg
GEO:54.4662977;-5.9128505
END:VEVENT
BEGIN:VEVENT
DTSTART;TZID=UTC:20251020T180000
DTEND;TZID=UTC:20251020T191500
DTSTAMP:20260420T054356
CREATED:20250820T083650Z
LAST-MODIFIED:20260316T184356Z
UID:10015418-1760983200-1760987700@trinityboardmills.org
SUMMARY:BB Anchor Boys
DESCRIPTION:
URL:https://trinityboardmills.org/event/bb-anchor-boys-2-2-2/2025-10-20/
LOCATION:Killaney Hall
CATEGORIES:BB Featured,Youth & Children
ATTACH;FMTTYPE=image/jpeg:https://trinityboardmills.org/wp-content/uploads/2022/11/BBExpEV.jpg
GEO:54.4662977;-5.9128505
END:VEVENT
END:VCALENDAR