BEGIN:VCALENDAR
VERSION:2.0
PRODID:-//Trinity Presbyterian - ECPv6.15.20//NONSGML v1.0//EN
CALSCALE:GREGORIAN
METHOD:PUBLISH
X-WR-CALNAME:Trinity Presbyterian
X-ORIGINAL-URL:https://trinityboardmills.org
X-WR-CALDESC:Events for Trinity Presbyterian
REFRESH-INTERVAL;VALUE=DURATION:PT1H
X-Robots-Tag:noindex
X-PUBLISHED-TTL:PT1H
BEGIN:VTIMEZONE
TZID:UTC
BEGIN:STANDARD
TZOFFSETFROM:+0000
TZOFFSETTO:+0000
TZNAME:UTC
DTSTART:20210101T000000
END:STANDARD
END:VTIMEZONE
BEGIN:VEVENT
DTSTART;TZID=UTC:20221109T200000
DTEND;TZID=UTC:20221109T210000
DTSTAMP:20260420T022012
CREATED:20221031T112543Z
LAST-MODIFIED:20221122T171333Z
UID:10004588-1668024000-1668027600@trinityboardmills.org
SUMMARY:Midweek
DESCRIPTION:
URL:https://trinityboardmills.org/event/midweek/2022-11-09/
LOCATION:McKee Hall\, BT27 6UP\, United Kingdom
CATEGORIES:Adults
ATTACH;FMTTYPE=image/jpeg:https://trinityboardmills.org/wp-content/uploads/2022/11/MidweekEV.jpg
GEO:54.466933365694;-5.9199475846608
END:VEVENT
BEGIN:VEVENT
DTSTART;TZID=UTC:20221110T103000
DTEND;TZID=UTC:20221110T113000
DTSTAMP:20260420T022012
CREATED:20221031T113005Z
LAST-MODIFIED:20230515T132001Z
UID:10004325-1668076200-1668079800@trinityboardmills.org
SUMMARY:Ladies Bible Study
DESCRIPTION:
URL:https://trinityboardmills.org/event/ladies-bible-study/2022-11-10/
LOCATION:Killaney Hall
CATEGORIES:Adults,Ladies
ATTACH;FMTTYPE=image/jpeg:https://trinityboardmills.org/wp-content/uploads/2022/11/LadiesBibleStudyEV.jpg
GEO:54.4662977;-5.9128505
END:VEVENT
BEGIN:VEVENT
DTSTART;TZID=UTC:20221113T101500
DTEND;TZID=UTC:20221113T110000
DTSTAMP:20260420T022012
CREATED:20221031T111059Z
LAST-MODIFIED:20230606T131505Z
UID:10000007-1668334500-1668337200@trinityboardmills.org
SUMMARY:Breakfast in The Book
DESCRIPTION:
URL:https://trinityboardmills.org/event/breakfast-in-the-book/2022-11-13/
LOCATION:Killaney Hall
CATEGORIES:Youth & Children
ATTACH;FMTTYPE=image/jpeg:https://trinityboardmills.org/wp-content/uploads/2022/11/BreakfastITBEV.jpg
GEO:54.4662977;-5.9128505
END:VEVENT
BEGIN:VEVENT
DTSTART;TZID=UTC:20221113T113000
DTEND;TZID=UTC:20221113T123000
DTSTAMP:20260420T022012
CREATED:20221031T111539Z
LAST-MODIFIED:20241217T123050Z
UID:10000010-1668339000-1668342600@trinityboardmills.org
SUMMARY:Morning Worship
DESCRIPTION:
URL:https://trinityboardmills.org/event/morning-service/2022-11-13/
LOCATION:Church Building\, BT27 6UP\, United Kingdom
CATEGORIES:Sunday
ATTACH;FMTTYPE=image/jpeg:https://trinityboardmills.org/wp-content/uploads/2022/11/SundayEV.jpg
GEO:54.466933365694;-5.9199475846608
END:VEVENT
BEGIN:VEVENT
DTSTART;TZID=UTC:20221113T114500
DTEND;TZID=UTC:20221113T123000
DTSTAMP:20260420T022012
CREATED:20221031T111350Z
LAST-MODIFIED:20241217T123139Z
UID:10007318-1668339900-1668342600@trinityboardmills.org
SUMMARY:Sunday CE & Creche
DESCRIPTION:
URL:https://trinityboardmills.org/event/sundayce/2022-11-13/
LOCATION:Kerr Room
CATEGORIES:Children
ATTACH;FMTTYPE=image/jpeg:https://trinityboardmills.org/wp-content/uploads/2022/11/SundayCEEV.jpg
END:VEVENT
BEGIN:VEVENT
DTSTART;TZID=UTC:20221117T103000
DTEND;TZID=UTC:20221117T113000
DTSTAMP:20260420T022012
CREATED:20221031T113005Z
LAST-MODIFIED:20230515T132001Z
UID:10004326-1668681000-1668684600@trinityboardmills.org
SUMMARY:Ladies Bible Study
DESCRIPTION:
URL:https://trinityboardmills.org/event/ladies-bible-study/2022-11-17/
LOCATION:Killaney Hall
CATEGORIES:Adults,Ladies
ATTACH;FMTTYPE=image/jpeg:https://trinityboardmills.org/wp-content/uploads/2022/11/LadiesBibleStudyEV.jpg
GEO:54.4662977;-5.9128505
END:VEVENT
BEGIN:VEVENT
DTSTART;TZID=UTC:20221120T101500
DTEND;TZID=UTC:20221120T110000
DTSTAMP:20260420T022012
CREATED:20221031T111059Z
LAST-MODIFIED:20230606T131505Z
UID:10001326-1668939300-1668942000@trinityboardmills.org
SUMMARY:Breakfast in The Book
DESCRIPTION:
URL:https://trinityboardmills.org/event/breakfast-in-the-book/2022-11-20/
LOCATION:Killaney Hall
CATEGORIES:Youth & Children
ATTACH;FMTTYPE=image/jpeg:https://trinityboardmills.org/wp-content/uploads/2022/11/BreakfastITBEV.jpg
GEO:54.4662977;-5.9128505
END:VEVENT
BEGIN:VEVENT
DTSTART;TZID=UTC:20221120T113000
DTEND;TZID=UTC:20221120T123000
DTSTAMP:20260420T022012
CREATED:20221031T111539Z
LAST-MODIFIED:20241217T123050Z
UID:10002899-1668943800-1668947400@trinityboardmills.org
SUMMARY:Morning Worship
DESCRIPTION:
URL:https://trinityboardmills.org/event/morning-service/2022-11-20/
LOCATION:Church Building\, BT27 6UP\, United Kingdom
CATEGORIES:Sunday
ATTACH;FMTTYPE=image/jpeg:https://trinityboardmills.org/wp-content/uploads/2022/11/SundayEV.jpg
GEO:54.466933365694;-5.9199475846608
END:VEVENT
BEGIN:VEVENT
DTSTART;TZID=UTC:20221120T114500
DTEND;TZID=UTC:20221120T123000
DTSTAMP:20260420T022012
CREATED:20221031T111350Z
LAST-MODIFIED:20241217T123139Z
UID:10007319-1668944700-1668947400@trinityboardmills.org
SUMMARY:Sunday CE & Creche
DESCRIPTION:
URL:https://trinityboardmills.org/event/sundayce/2022-11-20/
LOCATION:Kerr Room
CATEGORIES:Children
ATTACH;FMTTYPE=image/jpeg:https://trinityboardmills.org/wp-content/uploads/2022/11/SundayCEEV.jpg
END:VEVENT
BEGIN:VEVENT
DTSTART;TZID=UTC:20221123T200000
DTEND;TZID=UTC:20221123T210000
DTSTAMP:20260420T022012
CREATED:20221031T112543Z
LAST-MODIFIED:20221122T171333Z
UID:10004589-1669233600-1669237200@trinityboardmills.org
SUMMARY:Midweek
DESCRIPTION:
URL:https://trinityboardmills.org/event/midweek/2022-11-23/
LOCATION:McKee Hall\, BT27 6UP\, United Kingdom
CATEGORIES:Adults
ATTACH;FMTTYPE=image/jpeg:https://trinityboardmills.org/wp-content/uploads/2022/11/MidweekEV.jpg
GEO:54.466933365694;-5.9199475846608
END:VEVENT
BEGIN:VEVENT
DTSTART;TZID=UTC:20221124T103000
DTEND;TZID=UTC:20221124T113000
DTSTAMP:20260420T022012
CREATED:20221031T113005Z
LAST-MODIFIED:20230515T132001Z
UID:10004327-1669285800-1669289400@trinityboardmills.org
SUMMARY:Ladies Bible Study
DESCRIPTION:
URL:https://trinityboardmills.org/event/ladies-bible-study/2022-11-24/
LOCATION:Killaney Hall
CATEGORIES:Adults,Ladies
ATTACH;FMTTYPE=image/jpeg:https://trinityboardmills.org/wp-content/uploads/2022/11/LadiesBibleStudyEV.jpg
GEO:54.4662977;-5.9128505
END:VEVENT
BEGIN:VEVENT
DTSTART;TZID=UTC:20221127T101500
DTEND;TZID=UTC:20221127T110000
DTSTAMP:20260420T022012
CREATED:20221031T111059Z
LAST-MODIFIED:20230606T131505Z
UID:10001327-1669544100-1669546800@trinityboardmills.org
SUMMARY:Breakfast in The Book
DESCRIPTION:
URL:https://trinityboardmills.org/event/breakfast-in-the-book/2022-11-27/
LOCATION:Killaney Hall
CATEGORIES:Youth & Children
ATTACH;FMTTYPE=image/jpeg:https://trinityboardmills.org/wp-content/uploads/2022/11/BreakfastITBEV.jpg
GEO:54.4662977;-5.9128505
END:VEVENT
BEGIN:VEVENT
DTSTART;TZID=UTC:20221127T113000
DTEND;TZID=UTC:20221127T123000
DTSTAMP:20260420T022012
CREATED:20221031T111539Z
LAST-MODIFIED:20241217T123050Z
UID:10002900-1669548600-1669552200@trinityboardmills.org
SUMMARY:Morning Worship
DESCRIPTION:
URL:https://trinityboardmills.org/event/morning-service/2022-11-27/
LOCATION:Church Building\, BT27 6UP\, United Kingdom
CATEGORIES:Sunday
ATTACH;FMTTYPE=image/jpeg:https://trinityboardmills.org/wp-content/uploads/2022/11/SundayEV.jpg
GEO:54.466933365694;-5.9199475846608
END:VEVENT
BEGIN:VEVENT
DTSTART;TZID=UTC:20221127T114500
DTEND;TZID=UTC:20221127T123000
DTSTAMP:20260420T022012
CREATED:20221031T111350Z
LAST-MODIFIED:20241217T123139Z
UID:10007320-1669549500-1669552200@trinityboardmills.org
SUMMARY:Sunday CE & Creche
DESCRIPTION:
URL:https://trinityboardmills.org/event/sundayce/2022-11-27/
LOCATION:Kerr Room
CATEGORIES:Children
ATTACH;FMTTYPE=image/jpeg:https://trinityboardmills.org/wp-content/uploads/2022/11/SundayCEEV.jpg
END:VEVENT
BEGIN:VEVENT
DTSTART;TZID=UTC:20221201T103000
DTEND;TZID=UTC:20221201T113000
DTSTAMP:20260420T022012
CREATED:20221031T113005Z
LAST-MODIFIED:20230515T132001Z
UID:10004328-1669890600-1669894200@trinityboardmills.org
SUMMARY:Ladies Bible Study
DESCRIPTION:
URL:https://trinityboardmills.org/event/ladies-bible-study/2022-12-01/
LOCATION:Killaney Hall
CATEGORIES:Adults,Ladies
ATTACH;FMTTYPE=image/jpeg:https://trinityboardmills.org/wp-content/uploads/2022/11/LadiesBibleStudyEV.jpg
GEO:54.4662977;-5.9128505
END:VEVENT
BEGIN:VEVENT
DTSTART;TZID=UTC:20221202T193000
DTEND;TZID=UTC:20221202T210000
DTSTAMP:20260420T022012
CREATED:20221101T102342Z
LAST-MODIFIED:20231122T183037Z
UID:10000018-1670009400-1670014800@trinityboardmills.org
SUMMARY:Trinity Women Craft & Carols
DESCRIPTION:All ladies are very welcome to join in the fun for our Festive evening. \nContact a member of PW committee or email office@trinityboardmills.org for more details.
URL:https://trinityboardmills.org/event/trinity-women-craft-carols/
LOCATION:McKee Hall\, BT27 6UP\, United Kingdom
CATEGORIES:Featured
ATTACH;FMTTYPE=image/jpeg:https://trinityboardmills.org/wp-content/uploads/2022/12/BBN-01.jpg
GEO:54.466933365694;-5.9199475846608
END:VEVENT
BEGIN:VEVENT
DTSTART;TZID=UTC:20221204T101500
DTEND;TZID=UTC:20221204T110000
DTSTAMP:20260420T022012
CREATED:20221031T111059Z
LAST-MODIFIED:20230606T131505Z
UID:10001328-1670148900-1670151600@trinityboardmills.org
SUMMARY:Breakfast in The Book
DESCRIPTION:
URL:https://trinityboardmills.org/event/breakfast-in-the-book/2022-12-04/
LOCATION:Killaney Hall
CATEGORIES:Youth & Children
ATTACH;FMTTYPE=image/jpeg:https://trinityboardmills.org/wp-content/uploads/2022/11/BreakfastITBEV.jpg
GEO:54.4662977;-5.9128505
END:VEVENT
BEGIN:VEVENT
DTSTART;TZID=UTC:20221204T113000
DTEND;TZID=UTC:20221204T123000
DTSTAMP:20260420T022012
CREATED:20221031T111539Z
LAST-MODIFIED:20241217T123050Z
UID:10002901-1670153400-1670157000@trinityboardmills.org
SUMMARY:Morning Worship
DESCRIPTION:
URL:https://trinityboardmills.org/event/morning-service/2022-12-04/
LOCATION:Church Building\, BT27 6UP\, United Kingdom
CATEGORIES:Sunday
ATTACH;FMTTYPE=image/jpeg:https://trinityboardmills.org/wp-content/uploads/2022/11/SundayEV.jpg
GEO:54.466933365694;-5.9199475846608
END:VEVENT
BEGIN:VEVENT
DTSTART;TZID=UTC:20221204T114500
DTEND;TZID=UTC:20221204T123000
DTSTAMP:20260420T022012
CREATED:20221031T111350Z
LAST-MODIFIED:20241217T123139Z
UID:10007321-1670154300-1670157000@trinityboardmills.org
SUMMARY:Sunday CE & Creche
DESCRIPTION:
URL:https://trinityboardmills.org/event/sundayce/2022-12-04/
LOCATION:Kerr Room
CATEGORIES:Children
ATTACH;FMTTYPE=image/jpeg:https://trinityboardmills.org/wp-content/uploads/2022/11/SundayCEEV.jpg
END:VEVENT
BEGIN:VEVENT
DTSTART;TZID=UTC:20221208T103000
DTEND;TZID=UTC:20221208T113000
DTSTAMP:20260420T022012
CREATED:20221031T113005Z
LAST-MODIFIED:20230515T132001Z
UID:10004329-1670495400-1670499000@trinityboardmills.org
SUMMARY:Ladies Bible Study
DESCRIPTION:
URL:https://trinityboardmills.org/event/ladies-bible-study/2022-12-08/
LOCATION:Killaney Hall
CATEGORIES:Adults,Ladies
ATTACH;FMTTYPE=image/jpeg:https://trinityboardmills.org/wp-content/uploads/2022/11/LadiesBibleStudyEV.jpg
GEO:54.4662977;-5.9128505
END:VEVENT
BEGIN:VEVENT
DTSTART;TZID=UTC:20221211T101500
DTEND;TZID=UTC:20221211T110000
DTSTAMP:20260420T022012
CREATED:20221031T111059Z
LAST-MODIFIED:20230606T131505Z
UID:10001329-1670753700-1670756400@trinityboardmills.org
SUMMARY:Breakfast in The Book
DESCRIPTION:
URL:https://trinityboardmills.org/event/breakfast-in-the-book/2022-12-11/
LOCATION:Killaney Hall
CATEGORIES:Youth & Children
ATTACH;FMTTYPE=image/jpeg:https://trinityboardmills.org/wp-content/uploads/2022/11/BreakfastITBEV.jpg
GEO:54.4662977;-5.9128505
END:VEVENT
BEGIN:VEVENT
DTSTART;TZID=UTC:20221211T113000
DTEND;TZID=UTC:20221211T123000
DTSTAMP:20260420T022012
CREATED:20221031T111539Z
LAST-MODIFIED:20241217T123050Z
UID:10002902-1670758200-1670761800@trinityboardmills.org
SUMMARY:Morning Worship
DESCRIPTION:
URL:https://trinityboardmills.org/event/morning-service/2022-12-11/
LOCATION:Church Building\, BT27 6UP\, United Kingdom
CATEGORIES:Sunday
ATTACH;FMTTYPE=image/jpeg:https://trinityboardmills.org/wp-content/uploads/2022/11/SundayEV.jpg
GEO:54.466933365694;-5.9199475846608
END:VEVENT
BEGIN:VEVENT
DTSTART;TZID=UTC:20221211T114500
DTEND;TZID=UTC:20221211T123000
DTSTAMP:20260420T022012
CREATED:20221031T111350Z
LAST-MODIFIED:20241217T123139Z
UID:10007322-1670759100-1670761800@trinityboardmills.org
SUMMARY:Sunday CE & Creche
DESCRIPTION:
URL:https://trinityboardmills.org/event/sundayce/2022-12-11/
LOCATION:Kerr Room
CATEGORIES:Children
ATTACH;FMTTYPE=image/jpeg:https://trinityboardmills.org/wp-content/uploads/2022/11/SundayCEEV.jpg
END:VEVENT
BEGIN:VEVENT
DTSTART;TZID=UTC:20221214T193000
DTEND;TZID=UTC:20221214T203000
DTSTAMP:20260420T022012
CREATED:20221201T112437Z
LAST-MODIFIED:20230606T130129Z
UID:10006220-1671046200-1671049800@trinityboardmills.org
SUMMARY:Midweek
DESCRIPTION:
URL:https://trinityboardmills.org/event/midweek-2/2022-12-14/
LOCATION:McKee Hall\, BT27 6UP\, United Kingdom
CATEGORIES:Adults
ATTACH;FMTTYPE=image/jpeg:https://trinityboardmills.org/wp-content/uploads/2022/11/MidweekEV.jpg
GEO:54.466933365694;-5.9199475846608
END:VEVENT
BEGIN:VEVENT
DTSTART;TZID=UTC:20221218T113000
DTEND;TZID=UTC:20221218T123000
DTSTAMP:20260420T022012
CREATED:20221031T111539Z
LAST-MODIFIED:20241217T123050Z
UID:10002903-1671363000-1671366600@trinityboardmills.org
SUMMARY:Morning Worship
DESCRIPTION:
URL:https://trinityboardmills.org/event/morning-service/2022-12-18/
LOCATION:Church Building\, BT27 6UP\, United Kingdom
CATEGORIES:Sunday
ATTACH;FMTTYPE=image/jpeg:https://trinityboardmills.org/wp-content/uploads/2022/11/SundayEV.jpg
GEO:54.466933365694;-5.9199475846608
END:VEVENT
BEGIN:VEVENT
DTSTART;TZID=UTC:20221225T113000
DTEND;TZID=UTC:20221225T123000
DTSTAMP:20260420T022012
CREATED:20221031T111539Z
LAST-MODIFIED:20241217T123050Z
UID:10009173-1671967800-1671971400@trinityboardmills.org
SUMMARY:Morning Worship
DESCRIPTION:
URL:https://trinityboardmills.org/event/morning-service/2022-12-25/
LOCATION:Church Building\, BT27 6UP\, United Kingdom
CATEGORIES:Sunday
ATTACH;FMTTYPE=image/jpeg:https://trinityboardmills.org/wp-content/uploads/2022/11/SundayEV.jpg
GEO:54.466933365694;-5.9199475846608
END:VEVENT
BEGIN:VEVENT
DTSTART;TZID=UTC:20230101T113000
DTEND;TZID=UTC:20230101T123000
DTSTAMP:20260420T022012
CREATED:20221031T111539Z
LAST-MODIFIED:20241217T123050Z
UID:10002905-1672572600-1672576200@trinityboardmills.org
SUMMARY:Morning Worship
DESCRIPTION:
URL:https://trinityboardmills.org/event/morning-service/2023-01-01/
LOCATION:Church Building\, BT27 6UP\, United Kingdom
CATEGORIES:Sunday
ATTACH;FMTTYPE=image/jpeg:https://trinityboardmills.org/wp-content/uploads/2022/11/SundayEV.jpg
GEO:54.466933365694;-5.9199475846608
END:VEVENT
BEGIN:VEVENT
DTSTART;TZID=UTC:20230105T103000
DTEND;TZID=UTC:20230105T113000
DTSTAMP:20260420T022012
CREATED:20221031T113005Z
LAST-MODIFIED:20230515T132001Z
UID:10004333-1672914600-1672918200@trinityboardmills.org
SUMMARY:Ladies Bible Study
DESCRIPTION:
URL:https://trinityboardmills.org/event/ladies-bible-study/2023-01-05/
LOCATION:Killaney Hall
CATEGORIES:Adults,Ladies
ATTACH;FMTTYPE=image/jpeg:https://trinityboardmills.org/wp-content/uploads/2022/11/LadiesBibleStudyEV.jpg
GEO:54.4662977;-5.9128505
END:VEVENT
BEGIN:VEVENT
DTSTART;TZID=UTC:20230108T101500
DTEND;TZID=UTC:20230108T110000
DTSTAMP:20260420T022012
CREATED:20221031T111059Z
LAST-MODIFIED:20230606T131505Z
UID:10001333-1673172900-1673175600@trinityboardmills.org
SUMMARY:Breakfast in The Book
DESCRIPTION:
URL:https://trinityboardmills.org/event/breakfast-in-the-book/2023-01-08/
LOCATION:Killaney Hall
CATEGORIES:Youth & Children
ATTACH;FMTTYPE=image/jpeg:https://trinityboardmills.org/wp-content/uploads/2022/11/BreakfastITBEV.jpg
GEO:54.4662977;-5.9128505
END:VEVENT
BEGIN:VEVENT
DTSTART;TZID=UTC:20230108T113000
DTEND;TZID=UTC:20230108T123000
DTSTAMP:20260420T022012
CREATED:20221031T111539Z
LAST-MODIFIED:20241217T123050Z
UID:10002906-1673177400-1673181000@trinityboardmills.org
SUMMARY:Morning Worship
DESCRIPTION:
URL:https://trinityboardmills.org/event/morning-service/2023-01-08/
LOCATION:Church Building\, BT27 6UP\, United Kingdom
CATEGORIES:Sunday
ATTACH;FMTTYPE=image/jpeg:https://trinityboardmills.org/wp-content/uploads/2022/11/SundayEV.jpg
GEO:54.466933365694;-5.9199475846608
END:VEVENT
END:VCALENDAR