BEGIN:VCALENDAR
VERSION:2.0
PRODID:-//Trinity Presbyterian - ECPv6.15.20//NONSGML v1.0//EN
CALSCALE:GREGORIAN
METHOD:PUBLISH
X-WR-CALNAME:Trinity Presbyterian
X-ORIGINAL-URL:https://trinityboardmills.org
X-WR-CALDESC:Events for Trinity Presbyterian
REFRESH-INTERVAL;VALUE=DURATION:PT1H
X-Robots-Tag:noindex
X-PUBLISHED-TTL:PT1H
BEGIN:VTIMEZONE
TZID:UTC
BEGIN:STANDARD
TZOFFSETFROM:+0000
TZOFFSETTO:+0000
TZNAME:UTC
DTSTART:20240101T000000
END:STANDARD
END:VTIMEZONE
BEGIN:VEVENT
DTSTART;TZID=UTC:20250618T183000
DTEND;TZID=UTC:20250618T203000
DTSTAMP:20260420T222219
CREATED:20250513T075255Z
LAST-MODIFIED:20250513T075336Z
UID:10015087-1750271400-1750278600@trinityboardmills.org
SUMMARY:Holiday Bible Club
DESCRIPTION:Holiday Bible Club is back! \nFrom 6.30pm – 8.30 pm  Monday 16th to Thursday 19th June and all primary age children P1-P7 are so welcome to join us in the McKee Hall at Trinity Pres. Boardmills. \nThe theme this year is Amazing Treasures and there will be Games\, Quizzes\, Memory Verses\, Songs and Bible Lessons.\nCome along and join in the fun – and you can bring a friend too! \nRegistration will be on the night.
URL:https://trinityboardmills.org/event/hbc-2/2025-06-18/
LOCATION:McKee Hall\, BT27 6UP\, United Kingdom
CATEGORIES:Children,Featured
ATTACH;FMTTYPE=image/png:https://trinityboardmills.org/wp-content/uploads/2023/06/HBC2025_Image.png
GEO:54.466933365694;-5.9199475846608
END:VEVENT
BEGIN:VEVENT
DTSTART;TZID=UTC:20250619T183000
DTEND;TZID=UTC:20250619T203000
DTSTAMP:20260420T222219
CREATED:20250513T075255Z
LAST-MODIFIED:20250513T075336Z
UID:10015088-1750357800-1750365000@trinityboardmills.org
SUMMARY:Holiday Bible Club
DESCRIPTION:Holiday Bible Club is back! \nFrom 6.30pm – 8.30 pm  Monday 16th to Thursday 19th June and all primary age children P1-P7 are so welcome to join us in the McKee Hall at Trinity Pres. Boardmills. \nThe theme this year is Amazing Treasures and there will be Games\, Quizzes\, Memory Verses\, Songs and Bible Lessons.\nCome along and join in the fun – and you can bring a friend too! \nRegistration will be on the night.
URL:https://trinityboardmills.org/event/hbc-2/2025-06-19/
LOCATION:McKee Hall\, BT27 6UP\, United Kingdom
CATEGORIES:Children,Featured
ATTACH;FMTTYPE=image/png:https://trinityboardmills.org/wp-content/uploads/2023/06/HBC2025_Image.png
GEO:54.466933365694;-5.9199475846608
END:VEVENT
BEGIN:VEVENT
DTSTART;TZID=UTC:20250622T113000
DTEND;TZID=UTC:20250622T123000
DTSTAMP:20260420T222219
CREATED:20221031T111539Z
LAST-MODIFIED:20241217T123050Z
UID:10003034-1750591800-1750595400@trinityboardmills.org
SUMMARY:Morning Worship
DESCRIPTION:
URL:https://trinityboardmills.org/event/morning-service/2025-06-22/
LOCATION:Church Building\, BT27 6UP\, United Kingdom
CATEGORIES:Sunday
ATTACH;FMTTYPE=image/jpeg:https://trinityboardmills.org/wp-content/uploads/2022/11/SundayEV.jpg
GEO:54.466933365694;-5.9199475846608
END:VEVENT
BEGIN:VEVENT
DTSTART;TZID=UTC:20250622T114500
DTEND;TZID=UTC:20250622T123000
DTSTAMP:20260420T222219
CREATED:20221031T111350Z
LAST-MODIFIED:20241217T123139Z
UID:10007451-1750592700-1750595400@trinityboardmills.org
SUMMARY:Sunday CE & Creche
DESCRIPTION:
URL:https://trinityboardmills.org/event/sundayce/2025-06-22/
LOCATION:Kerr Room
CATEGORIES:Children
ATTACH;FMTTYPE=image/jpeg:https://trinityboardmills.org/wp-content/uploads/2022/11/SundayCEEV.jpg
END:VEVENT
BEGIN:VEVENT
DTSTART;TZID=UTC:20250622T183000
DTEND;TZID=UTC:20250622T191500
DTSTAMP:20260420T222219
CREATED:20240903T080905Z
LAST-MODIFIED:20260405T092003Z
UID:10018939-1750617000-1750619700@trinityboardmills.org
SUMMARY:Evening Service
DESCRIPTION:
URL:https://trinityboardmills.org/event/evening-service-2/2025-06-22/
LOCATION:Church Building\, BT27 6UP\, United Kingdom
CATEGORIES:Sunday
ATTACH;FMTTYPE=image/jpeg:https://trinityboardmills.org/wp-content/uploads/2022/11/EveningServiceEV.jpg
GEO:54.466933365694;-5.9199475846608
END:VEVENT
BEGIN:VEVENT
DTSTART;TZID=UTC:20250623T100000
DTEND;TZID=UTC:20250623T111500
DTSTAMP:20260420T222219
CREATED:20241211T083050Z
LAST-MODIFIED:20250820T094703Z
UID:10017055-1750672800-1750677300@trinityboardmills.org
SUMMARY:Trinity Tots
DESCRIPTION:
URL:https://trinityboardmills.org/event/trinity-tots-2-2-2/2025-06-23/
LOCATION:Killaney Hall
CATEGORIES:Trinity Tots Featured
ATTACH;FMTTYPE=image/jpeg:https://trinityboardmills.org/wp-content/uploads/2022/11/CrecheEV.jpg
GEO:54.4662977;-5.9128505
END:VEVENT
BEGIN:VEVENT
DTSTART;TZID=UTC:20250623T190000
DTEND;TZID=UTC:20250623T200000
DTSTAMP:20260420T222219
CREATED:20250518T081603Z
LAST-MODIFIED:20250820T084234Z
UID:10015093-1750705200-1750708800@trinityboardmills.org
SUMMARY:Summer Walking Group
DESCRIPTION:This is open to all and it will be happening on every Monday evening commencing 19th May and should take around an hour. Set your own pace of course – and do as much or as little as you wish. Come along\, enjoy the walk and the chat!
URL:https://trinityboardmills.org/event/summer-walking-group-2/2025-06-23/
LOCATION:McKee Hall\, BT27 6UP\, United Kingdom
ATTACH;FMTTYPE=image/png:https://trinityboardmills.org/wp-content/uploads/2022/10/boxAsset-3.png
GEO:54.466933365694;-5.9199475846608
END:VEVENT
BEGIN:VEVENT
DTSTART;TZID=UTC:20250626T103000
DTEND;TZID=UTC:20250626T113000
DTSTAMP:20260420T222219
CREATED:20230911T123435Z
LAST-MODIFIED:20260326T081458Z
UID:10017894-1750933800-1750937400@trinityboardmills.org
SUMMARY:Ladies Bible Study
DESCRIPTION:
URL:https://trinityboardmills.org/event/ladies-bible-study-2/2025-06-26/
LOCATION:Killaney Hall
CATEGORIES:Adults,Ladies
ATTACH;FMTTYPE=image/jpeg:https://trinityboardmills.org/wp-content/uploads/2022/11/LadiesBibleStudyEV.jpg
GEO:54.4662977;-5.9128505
END:VEVENT
BEGIN:VEVENT
DTSTART;TZID=UTC:20250629T113000
DTEND;TZID=UTC:20250629T123000
DTSTAMP:20260420T222219
CREATED:20221031T111539Z
LAST-MODIFIED:20241217T123050Z
UID:10003035-1751196600-1751200200@trinityboardmills.org
SUMMARY:Morning Worship
DESCRIPTION:
URL:https://trinityboardmills.org/event/morning-service/2025-06-29/
LOCATION:Church Building\, BT27 6UP\, United Kingdom
CATEGORIES:Sunday
ATTACH;FMTTYPE=image/jpeg:https://trinityboardmills.org/wp-content/uploads/2022/11/SundayEV.jpg
GEO:54.466933365694;-5.9199475846608
END:VEVENT
BEGIN:VEVENT
DTSTART;TZID=UTC:20250629T114500
DTEND;TZID=UTC:20250629T123000
DTSTAMP:20260420T222219
CREATED:20221031T111350Z
LAST-MODIFIED:20241217T123139Z
UID:10007452-1751197500-1751200200@trinityboardmills.org
SUMMARY:Sunday CE & Creche
DESCRIPTION:
URL:https://trinityboardmills.org/event/sundayce/2025-06-29/
LOCATION:Kerr Room
CATEGORIES:Children
ATTACH;FMTTYPE=image/jpeg:https://trinityboardmills.org/wp-content/uploads/2022/11/SundayCEEV.jpg
END:VEVENT
BEGIN:VEVENT
DTSTART;TZID=UTC:20250629T183000
DTEND;TZID=UTC:20250629T191500
DTSTAMP:20260420T222219
CREATED:20240903T080905Z
LAST-MODIFIED:20260405T092003Z
UID:10018940-1751221800-1751224500@trinityboardmills.org
SUMMARY:Evening Service
DESCRIPTION:
URL:https://trinityboardmills.org/event/evening-service-2/2025-06-29/
LOCATION:Church Building\, BT27 6UP\, United Kingdom
CATEGORIES:Sunday
ATTACH;FMTTYPE=image/jpeg:https://trinityboardmills.org/wp-content/uploads/2022/11/EveningServiceEV.jpg
GEO:54.466933365694;-5.9199475846608
END:VEVENT
BEGIN:VEVENT
DTSTART;TZID=UTC:20250630T100000
DTEND;TZID=UTC:20250630T111500
DTSTAMP:20260420T222219
CREATED:20241211T083050Z
LAST-MODIFIED:20250820T094703Z
UID:10017056-1751277600-1751282100@trinityboardmills.org
SUMMARY:Trinity Tots
DESCRIPTION:
URL:https://trinityboardmills.org/event/trinity-tots-2-2-2/2025-06-30/
LOCATION:Killaney Hall
CATEGORIES:Trinity Tots Featured
ATTACH;FMTTYPE=image/jpeg:https://trinityboardmills.org/wp-content/uploads/2022/11/CrecheEV.jpg
GEO:54.4662977;-5.9128505
END:VEVENT
BEGIN:VEVENT
DTSTART;TZID=UTC:20250630T190000
DTEND;TZID=UTC:20250630T200000
DTSTAMP:20260420T222219
CREATED:20250518T081603Z
LAST-MODIFIED:20250820T084234Z
UID:10015094-1751310000-1751313600@trinityboardmills.org
SUMMARY:Summer Walking Group
DESCRIPTION:This is open to all and it will be happening on every Monday evening commencing 19th May and should take around an hour. Set your own pace of course – and do as much or as little as you wish. Come along\, enjoy the walk and the chat!
URL:https://trinityboardmills.org/event/summer-walking-group-2/2025-06-30/
LOCATION:McKee Hall\, BT27 6UP\, United Kingdom
ATTACH;FMTTYPE=image/png:https://trinityboardmills.org/wp-content/uploads/2022/10/boxAsset-3.png
GEO:54.466933365694;-5.9199475846608
END:VEVENT
BEGIN:VEVENT
DTSTART;TZID=UTC:20250706T113000
DTEND;TZID=UTC:20250706T123000
DTSTAMP:20260420T222219
CREATED:20221031T111539Z
LAST-MODIFIED:20241217T123050Z
UID:10003036-1751801400-1751805000@trinityboardmills.org
SUMMARY:Morning Worship
DESCRIPTION:
URL:https://trinityboardmills.org/event/morning-service/2025-07-06/
LOCATION:Church Building\, BT27 6UP\, United Kingdom
CATEGORIES:Sunday
ATTACH;FMTTYPE=image/jpeg:https://trinityboardmills.org/wp-content/uploads/2022/11/SundayEV.jpg
GEO:54.466933365694;-5.9199475846608
END:VEVENT
BEGIN:VEVENT
DTSTART;TZID=UTC:20250706T114500
DTEND;TZID=UTC:20250706T123000
DTSTAMP:20260420T222219
CREATED:20221031T111350Z
LAST-MODIFIED:20241217T123139Z
UID:10007453-1751802300-1751805000@trinityboardmills.org
SUMMARY:Sunday CE & Creche
DESCRIPTION:
URL:https://trinityboardmills.org/event/sundayce/2025-07-06/
LOCATION:Kerr Room
CATEGORIES:Children
ATTACH;FMTTYPE=image/jpeg:https://trinityboardmills.org/wp-content/uploads/2022/11/SundayCEEV.jpg
END:VEVENT
BEGIN:VEVENT
DTSTART;TZID=UTC:20250706T183000
DTEND;TZID=UTC:20250706T191500
DTSTAMP:20260420T222219
CREATED:20240903T080905Z
LAST-MODIFIED:20260405T092003Z
UID:10018941-1751826600-1751829300@trinityboardmills.org
SUMMARY:Evening Service
DESCRIPTION:
URL:https://trinityboardmills.org/event/evening-service-2/2025-07-06/
LOCATION:Church Building\, BT27 6UP\, United Kingdom
CATEGORIES:Sunday
ATTACH;FMTTYPE=image/jpeg:https://trinityboardmills.org/wp-content/uploads/2022/11/EveningServiceEV.jpg
GEO:54.466933365694;-5.9199475846608
END:VEVENT
BEGIN:VEVENT
DTSTART;TZID=UTC:20250707T100000
DTEND;TZID=UTC:20250707T111500
DTSTAMP:20260420T222219
CREATED:20241211T083050Z
LAST-MODIFIED:20250820T094703Z
UID:10017057-1751882400-1751886900@trinityboardmills.org
SUMMARY:Trinity Tots
DESCRIPTION:
URL:https://trinityboardmills.org/event/trinity-tots-2-2-2/2025-07-07/
LOCATION:Killaney Hall
CATEGORIES:Trinity Tots Featured
ATTACH;FMTTYPE=image/jpeg:https://trinityboardmills.org/wp-content/uploads/2022/11/CrecheEV.jpg
GEO:54.4662977;-5.9128505
END:VEVENT
BEGIN:VEVENT
DTSTART;TZID=UTC:20250707T190000
DTEND;TZID=UTC:20250707T200000
DTSTAMP:20260420T222219
CREATED:20250518T081603Z
LAST-MODIFIED:20250820T084234Z
UID:10015095-1751914800-1751918400@trinityboardmills.org
SUMMARY:Summer Walking Group
DESCRIPTION:This is open to all and it will be happening on every Monday evening commencing 19th May and should take around an hour. Set your own pace of course – and do as much or as little as you wish. Come along\, enjoy the walk and the chat!
URL:https://trinityboardmills.org/event/summer-walking-group-2/2025-07-07/
LOCATION:McKee Hall\, BT27 6UP\, United Kingdom
ATTACH;FMTTYPE=image/png:https://trinityboardmills.org/wp-content/uploads/2022/10/boxAsset-3.png
GEO:54.466933365694;-5.9199475846608
END:VEVENT
BEGIN:VEVENT
DTSTART;TZID=UTC:20250710T103000
DTEND;TZID=UTC:20250710T113000
DTSTAMP:20260420T222219
CREATED:20230911T123435Z
LAST-MODIFIED:20260326T081458Z
UID:10017895-1752143400-1752147000@trinityboardmills.org
SUMMARY:Ladies Bible Study
DESCRIPTION:
URL:https://trinityboardmills.org/event/ladies-bible-study-2/2025-07-10/
LOCATION:Killaney Hall
CATEGORIES:Adults,Ladies
ATTACH;FMTTYPE=image/jpeg:https://trinityboardmills.org/wp-content/uploads/2022/11/LadiesBibleStudyEV.jpg
GEO:54.4662977;-5.9128505
END:VEVENT
BEGIN:VEVENT
DTSTART;TZID=UTC:20250713T113000
DTEND;TZID=UTC:20250713T123000
DTSTAMP:20260420T222219
CREATED:20221031T111539Z
LAST-MODIFIED:20241217T123050Z
UID:10003037-1752406200-1752409800@trinityboardmills.org
SUMMARY:Morning Worship
DESCRIPTION:
URL:https://trinityboardmills.org/event/morning-service/2025-07-13/
LOCATION:Church Building\, BT27 6UP\, United Kingdom
CATEGORIES:Sunday
ATTACH;FMTTYPE=image/jpeg:https://trinityboardmills.org/wp-content/uploads/2022/11/SundayEV.jpg
GEO:54.466933365694;-5.9199475846608
END:VEVENT
BEGIN:VEVENT
DTSTART;TZID=UTC:20250713T114500
DTEND;TZID=UTC:20250713T123000
DTSTAMP:20260420T222219
CREATED:20221031T111350Z
LAST-MODIFIED:20241217T123139Z
UID:10007454-1752407100-1752409800@trinityboardmills.org
SUMMARY:Sunday CE & Creche
DESCRIPTION:
URL:https://trinityboardmills.org/event/sundayce/2025-07-13/
LOCATION:Kerr Room
CATEGORIES:Children
ATTACH;FMTTYPE=image/jpeg:https://trinityboardmills.org/wp-content/uploads/2022/11/SundayCEEV.jpg
END:VEVENT
BEGIN:VEVENT
DTSTART;TZID=UTC:20250713T183000
DTEND;TZID=UTC:20250713T191500
DTSTAMP:20260420T222219
CREATED:20240903T080905Z
LAST-MODIFIED:20260405T092003Z
UID:10018942-1752431400-1752434100@trinityboardmills.org
SUMMARY:Evening Service
DESCRIPTION:
URL:https://trinityboardmills.org/event/evening-service-2/2025-07-13/
LOCATION:Church Building\, BT27 6UP\, United Kingdom
CATEGORIES:Sunday
ATTACH;FMTTYPE=image/jpeg:https://trinityboardmills.org/wp-content/uploads/2022/11/EveningServiceEV.jpg
GEO:54.466933365694;-5.9199475846608
END:VEVENT
BEGIN:VEVENT
DTSTART;TZID=UTC:20250714T100000
DTEND;TZID=UTC:20250714T111500
DTSTAMP:20260420T222219
CREATED:20241211T083050Z
LAST-MODIFIED:20250820T094703Z
UID:10017058-1752487200-1752491700@trinityboardmills.org
SUMMARY:Trinity Tots
DESCRIPTION:
URL:https://trinityboardmills.org/event/trinity-tots-2-2-2/2025-07-14/
LOCATION:Killaney Hall
CATEGORIES:Trinity Tots Featured
ATTACH;FMTTYPE=image/jpeg:https://trinityboardmills.org/wp-content/uploads/2022/11/CrecheEV.jpg
GEO:54.4662977;-5.9128505
END:VEVENT
BEGIN:VEVENT
DTSTART;TZID=UTC:20250714T190000
DTEND;TZID=UTC:20250714T200000
DTSTAMP:20260420T222219
CREATED:20250518T081603Z
LAST-MODIFIED:20250820T084234Z
UID:10015096-1752519600-1752523200@trinityboardmills.org
SUMMARY:Summer Walking Group
DESCRIPTION:This is open to all and it will be happening on every Monday evening commencing 19th May and should take around an hour. Set your own pace of course – and do as much or as little as you wish. Come along\, enjoy the walk and the chat!
URL:https://trinityboardmills.org/event/summer-walking-group-2/2025-07-14/
LOCATION:McKee Hall\, BT27 6UP\, United Kingdom
ATTACH;FMTTYPE=image/png:https://trinityboardmills.org/wp-content/uploads/2022/10/boxAsset-3.png
GEO:54.466933365694;-5.9199475846608
END:VEVENT
BEGIN:VEVENT
DTSTART;TZID=UTC:20250720T113000
DTEND;TZID=UTC:20250720T123000
DTSTAMP:20260420T222219
CREATED:20221031T111539Z
LAST-MODIFIED:20241217T123050Z
UID:10003038-1753011000-1753014600@trinityboardmills.org
SUMMARY:Morning Worship
DESCRIPTION:
URL:https://trinityboardmills.org/event/morning-service/2025-07-20/
LOCATION:Church Building\, BT27 6UP\, United Kingdom
CATEGORIES:Sunday
ATTACH;FMTTYPE=image/jpeg:https://trinityboardmills.org/wp-content/uploads/2022/11/SundayEV.jpg
GEO:54.466933365694;-5.9199475846608
END:VEVENT
BEGIN:VEVENT
DTSTART;TZID=UTC:20250720T114500
DTEND;TZID=UTC:20250720T123000
DTSTAMP:20260420T222219
CREATED:20221031T111350Z
LAST-MODIFIED:20241217T123139Z
UID:10007455-1753011900-1753014600@trinityboardmills.org
SUMMARY:Sunday CE & Creche
DESCRIPTION:
URL:https://trinityboardmills.org/event/sundayce/2025-07-20/
LOCATION:Kerr Room
CATEGORIES:Children
ATTACH;FMTTYPE=image/jpeg:https://trinityboardmills.org/wp-content/uploads/2022/11/SundayCEEV.jpg
END:VEVENT
BEGIN:VEVENT
DTSTART;TZID=UTC:20250720T183000
DTEND;TZID=UTC:20250720T191500
DTSTAMP:20260420T222219
CREATED:20240903T080905Z
LAST-MODIFIED:20260405T092003Z
UID:10018943-1753036200-1753038900@trinityboardmills.org
SUMMARY:Evening Service
DESCRIPTION:
URL:https://trinityboardmills.org/event/evening-service-2/2025-07-20/
LOCATION:Church Building\, BT27 6UP\, United Kingdom
CATEGORIES:Sunday
ATTACH;FMTTYPE=image/jpeg:https://trinityboardmills.org/wp-content/uploads/2022/11/EveningServiceEV.jpg
GEO:54.466933365694;-5.9199475846608
END:VEVENT
BEGIN:VEVENT
DTSTART;TZID=UTC:20250721T100000
DTEND;TZID=UTC:20250721T111500
DTSTAMP:20260420T222219
CREATED:20241211T083050Z
LAST-MODIFIED:20250820T094703Z
UID:10017059-1753092000-1753096500@trinityboardmills.org
SUMMARY:Trinity Tots
DESCRIPTION:
URL:https://trinityboardmills.org/event/trinity-tots-2-2-2/2025-07-21/
LOCATION:Killaney Hall
CATEGORIES:Trinity Tots Featured
ATTACH;FMTTYPE=image/jpeg:https://trinityboardmills.org/wp-content/uploads/2022/11/CrecheEV.jpg
GEO:54.4662977;-5.9128505
END:VEVENT
BEGIN:VEVENT
DTSTART;TZID=UTC:20250721T190000
DTEND;TZID=UTC:20250721T200000
DTSTAMP:20260420T222219
CREATED:20250518T081603Z
LAST-MODIFIED:20250820T084234Z
UID:10015097-1753124400-1753128000@trinityboardmills.org
SUMMARY:Summer Walking Group
DESCRIPTION:This is open to all and it will be happening on every Monday evening commencing 19th May and should take around an hour. Set your own pace of course – and do as much or as little as you wish. Come along\, enjoy the walk and the chat!
URL:https://trinityboardmills.org/event/summer-walking-group-2/2025-07-21/
LOCATION:McKee Hall\, BT27 6UP\, United Kingdom
ATTACH;FMTTYPE=image/png:https://trinityboardmills.org/wp-content/uploads/2022/10/boxAsset-3.png
GEO:54.466933365694;-5.9199475846608
END:VEVENT
BEGIN:VEVENT
DTSTART;TZID=UTC:20250724T103000
DTEND;TZID=UTC:20250724T113000
DTSTAMP:20260420T222219
CREATED:20230911T123435Z
LAST-MODIFIED:20260326T081458Z
UID:10017896-1753353000-1753356600@trinityboardmills.org
SUMMARY:Ladies Bible Study
DESCRIPTION:
URL:https://trinityboardmills.org/event/ladies-bible-study-2/2025-07-24/
LOCATION:Killaney Hall
CATEGORIES:Adults,Ladies
ATTACH;FMTTYPE=image/jpeg:https://trinityboardmills.org/wp-content/uploads/2022/11/LadiesBibleStudyEV.jpg
GEO:54.4662977;-5.9128505
END:VEVENT
END:VCALENDAR