BEGIN:VCALENDAR
VERSION:2.0
PRODID:-//Trinity Presbyterian - ECPv6.15.20//NONSGML v1.0//EN
CALSCALE:GREGORIAN
METHOD:PUBLISH
X-WR-CALNAME:Trinity Presbyterian
X-ORIGINAL-URL:https://trinityboardmills.org
X-WR-CALDESC:Events for Trinity Presbyterian
REFRESH-INTERVAL;VALUE=DURATION:PT1H
X-Robots-Tag:noindex
X-PUBLISHED-TTL:PT1H
BEGIN:VTIMEZONE
TZID:UTC
BEGIN:STANDARD
TZOFFSETFROM:+0000
TZOFFSETTO:+0000
TZNAME:UTC
DTSTART:20210101T000000
END:STANDARD
END:VTIMEZONE
BEGIN:VEVENT
DTSTART;TZID=UTC:20221218T113000
DTEND;TZID=UTC:20221218T123000
DTSTAMP:20260420T051352
CREATED:20221031T111539Z
LAST-MODIFIED:20241217T123050Z
UID:10002903-1671363000-1671366600@trinityboardmills.org
SUMMARY:Morning Worship
DESCRIPTION:
URL:https://trinityboardmills.org/event/morning-service/2022-12-18/
LOCATION:Church Building\, BT27 6UP\, United Kingdom
CATEGORIES:Sunday
ATTACH;FMTTYPE=image/jpeg:https://trinityboardmills.org/wp-content/uploads/2022/11/SundayEV.jpg
GEO:54.466933365694;-5.9199475846608
END:VEVENT
BEGIN:VEVENT
DTSTART;TZID=UTC:20221225T113000
DTEND;TZID=UTC:20221225T123000
DTSTAMP:20260420T051352
CREATED:20221031T111539Z
LAST-MODIFIED:20241217T123050Z
UID:10009173-1671967800-1671971400@trinityboardmills.org
SUMMARY:Morning Worship
DESCRIPTION:
URL:https://trinityboardmills.org/event/morning-service/2022-12-25/
LOCATION:Church Building\, BT27 6UP\, United Kingdom
CATEGORIES:Sunday
ATTACH;FMTTYPE=image/jpeg:https://trinityboardmills.org/wp-content/uploads/2022/11/SundayEV.jpg
GEO:54.466933365694;-5.9199475846608
END:VEVENT
BEGIN:VEVENT
DTSTART;TZID=UTC:20230101T113000
DTEND;TZID=UTC:20230101T123000
DTSTAMP:20260420T051352
CREATED:20221031T111539Z
LAST-MODIFIED:20241217T123050Z
UID:10002905-1672572600-1672576200@trinityboardmills.org
SUMMARY:Morning Worship
DESCRIPTION:
URL:https://trinityboardmills.org/event/morning-service/2023-01-01/
LOCATION:Church Building\, BT27 6UP\, United Kingdom
CATEGORIES:Sunday
ATTACH;FMTTYPE=image/jpeg:https://trinityboardmills.org/wp-content/uploads/2022/11/SundayEV.jpg
GEO:54.466933365694;-5.9199475846608
END:VEVENT
BEGIN:VEVENT
DTSTART;TZID=UTC:20230105T103000
DTEND;TZID=UTC:20230105T113000
DTSTAMP:20260420T051352
CREATED:20221031T113005Z
LAST-MODIFIED:20230515T132001Z
UID:10004333-1672914600-1672918200@trinityboardmills.org
SUMMARY:Ladies Bible Study
DESCRIPTION:
URL:https://trinityboardmills.org/event/ladies-bible-study/2023-01-05/
LOCATION:Killaney Hall
CATEGORIES:Adults,Ladies
ATTACH;FMTTYPE=image/jpeg:https://trinityboardmills.org/wp-content/uploads/2022/11/LadiesBibleStudyEV.jpg
GEO:54.4662977;-5.9128505
END:VEVENT
BEGIN:VEVENT
DTSTART;TZID=UTC:20230108T101500
DTEND;TZID=UTC:20230108T110000
DTSTAMP:20260420T051352
CREATED:20221031T111059Z
LAST-MODIFIED:20230606T131505Z
UID:10001333-1673172900-1673175600@trinityboardmills.org
SUMMARY:Breakfast in The Book
DESCRIPTION:
URL:https://trinityboardmills.org/event/breakfast-in-the-book/2023-01-08/
LOCATION:Killaney Hall
CATEGORIES:Youth & Children
ATTACH;FMTTYPE=image/jpeg:https://trinityboardmills.org/wp-content/uploads/2022/11/BreakfastITBEV.jpg
GEO:54.4662977;-5.9128505
END:VEVENT
BEGIN:VEVENT
DTSTART;TZID=UTC:20230108T113000
DTEND;TZID=UTC:20230108T123000
DTSTAMP:20260420T051352
CREATED:20221031T111539Z
LAST-MODIFIED:20241217T123050Z
UID:10002906-1673177400-1673181000@trinityboardmills.org
SUMMARY:Morning Worship
DESCRIPTION:
URL:https://trinityboardmills.org/event/morning-service/2023-01-08/
LOCATION:Church Building\, BT27 6UP\, United Kingdom
CATEGORIES:Sunday
ATTACH;FMTTYPE=image/jpeg:https://trinityboardmills.org/wp-content/uploads/2022/11/SundayEV.jpg
GEO:54.466933365694;-5.9199475846608
END:VEVENT
BEGIN:VEVENT
DTSTART;TZID=UTC:20230108T114500
DTEND;TZID=UTC:20230108T123000
DTSTAMP:20260420T051352
CREATED:20221031T111350Z
LAST-MODIFIED:20241217T123139Z
UID:10007323-1673178300-1673181000@trinityboardmills.org
SUMMARY:Sunday CE & Creche
DESCRIPTION:
URL:https://trinityboardmills.org/event/sundayce/2023-01-08/
LOCATION:Kerr Room
CATEGORIES:Children
ATTACH;FMTTYPE=image/jpeg:https://trinityboardmills.org/wp-content/uploads/2022/11/SundayCEEV.jpg
END:VEVENT
BEGIN:VEVENT
DTSTART;TZID=UTC:20230111T193000
DTEND;TZID=UTC:20230111T203000
DTSTAMP:20260420T051352
CREATED:20221201T112437Z
LAST-MODIFIED:20230606T130129Z
UID:10006221-1673465400-1673469000@trinityboardmills.org
SUMMARY:Midweek
DESCRIPTION:
URL:https://trinityboardmills.org/event/midweek-2/2023-01-11/
LOCATION:McKee Hall\, BT27 6UP\, United Kingdom
CATEGORIES:Adults
ATTACH;FMTTYPE=image/jpeg:https://trinityboardmills.org/wp-content/uploads/2022/11/MidweekEV.jpg
GEO:54.466933365694;-5.9199475846608
END:VEVENT
BEGIN:VEVENT
DTSTART;TZID=UTC:20230112T103000
DTEND;TZID=UTC:20230112T113000
DTSTAMP:20260420T051352
CREATED:20221031T113005Z
LAST-MODIFIED:20230515T132001Z
UID:10004334-1673519400-1673523000@trinityboardmills.org
SUMMARY:Ladies Bible Study
DESCRIPTION:
URL:https://trinityboardmills.org/event/ladies-bible-study/2023-01-12/
LOCATION:Killaney Hall
CATEGORIES:Adults,Ladies
ATTACH;FMTTYPE=image/jpeg:https://trinityboardmills.org/wp-content/uploads/2022/11/LadiesBibleStudyEV.jpg
GEO:54.4662977;-5.9128505
END:VEVENT
BEGIN:VEVENT
DTSTART;TZID=UTC:20230115T101500
DTEND;TZID=UTC:20230115T110000
DTSTAMP:20260420T051352
CREATED:20221031T111059Z
LAST-MODIFIED:20230606T131505Z
UID:10001334-1673777700-1673780400@trinityboardmills.org
SUMMARY:Breakfast in The Book
DESCRIPTION:
URL:https://trinityboardmills.org/event/breakfast-in-the-book/2023-01-15/
LOCATION:Killaney Hall
CATEGORIES:Youth & Children
ATTACH;FMTTYPE=image/jpeg:https://trinityboardmills.org/wp-content/uploads/2022/11/BreakfastITBEV.jpg
GEO:54.4662977;-5.9128505
END:VEVENT
BEGIN:VEVENT
DTSTART;TZID=UTC:20230115T113000
DTEND;TZID=UTC:20230115T123000
DTSTAMP:20260420T051352
CREATED:20221031T111539Z
LAST-MODIFIED:20241217T123050Z
UID:10002907-1673782200-1673785800@trinityboardmills.org
SUMMARY:Morning Worship
DESCRIPTION:
URL:https://trinityboardmills.org/event/morning-service/2023-01-15/
LOCATION:Church Building\, BT27 6UP\, United Kingdom
CATEGORIES:Sunday
ATTACH;FMTTYPE=image/jpeg:https://trinityboardmills.org/wp-content/uploads/2022/11/SundayEV.jpg
GEO:54.466933365694;-5.9199475846608
END:VEVENT
BEGIN:VEVENT
DTSTART;TZID=UTC:20230115T114500
DTEND;TZID=UTC:20230115T123000
DTSTAMP:20260420T051352
CREATED:20221031T111350Z
LAST-MODIFIED:20241217T123139Z
UID:10007324-1673783100-1673785800@trinityboardmills.org
SUMMARY:Sunday CE & Creche
DESCRIPTION:
URL:https://trinityboardmills.org/event/sundayce/2023-01-15/
LOCATION:Kerr Room
CATEGORIES:Children
ATTACH;FMTTYPE=image/jpeg:https://trinityboardmills.org/wp-content/uploads/2022/11/SundayCEEV.jpg
END:VEVENT
BEGIN:VEVENT
DTSTART;TZID=UTC:20230118T193000
DTEND;TZID=UTC:20230118T210000
DTSTAMP:20260420T051352
CREATED:20230117T102812Z
LAST-MODIFIED:20230227T112730Z
UID:10005253-1674070200-1674075600@trinityboardmills.org
SUMMARY:Fellowship Groups (Wed)
DESCRIPTION:This session we will be studying Christianity Explored\, the first and third Wednesday of the month in Killaney Hall.
URL:https://trinityboardmills.org/event/fellowship-groups-wed-2/2023-01-18/
ATTACH;FMTTYPE=image/jpeg:https://trinityboardmills.org/wp-content/uploads/2022/11/FellowshipGroupEV.jpg
END:VEVENT
BEGIN:VEVENT
DTSTART;TZID=UTC:20230119T193000
DTEND;TZID=UTC:20230119T210000
DTSTAMP:20260420T051352
CREATED:20230117T103001Z
LAST-MODIFIED:20230314T091445Z
UID:10005803-1674156600-1674162000@trinityboardmills.org
SUMMARY:Fellowship Groups (Thu)
DESCRIPTION:This session we will be studying Christianity Explored\, the first and third Thursday of the month at Colin and Trish Foreman’s home. \n  \nThere is also an online ladies group.
URL:https://trinityboardmills.org/event/fellowship-groups-thu-2/2023-01-19/
ATTACH;FMTTYPE=image/jpeg:https://trinityboardmills.org/wp-content/uploads/2022/11/FellowshipGroupsEV.jpg
END:VEVENT
BEGIN:VEVENT
DTSTART;TZID=UTC:20230122T101500
DTEND;TZID=UTC:20230122T110000
DTSTAMP:20260420T051352
CREATED:20221031T111059Z
LAST-MODIFIED:20230606T131505Z
UID:10001335-1674382500-1674385200@trinityboardmills.org
SUMMARY:Breakfast in The Book
DESCRIPTION:
URL:https://trinityboardmills.org/event/breakfast-in-the-book/2023-01-22/
LOCATION:Killaney Hall
CATEGORIES:Youth & Children
ATTACH;FMTTYPE=image/jpeg:https://trinityboardmills.org/wp-content/uploads/2022/11/BreakfastITBEV.jpg
GEO:54.4662977;-5.9128505
END:VEVENT
BEGIN:VEVENT
DTSTART;TZID=UTC:20230122T113000
DTEND;TZID=UTC:20230122T123000
DTSTAMP:20260420T051352
CREATED:20221031T111539Z
LAST-MODIFIED:20241217T123050Z
UID:10002908-1674387000-1674390600@trinityboardmills.org
SUMMARY:Morning Worship
DESCRIPTION:
URL:https://trinityboardmills.org/event/morning-service/2023-01-22/
LOCATION:Church Building\, BT27 6UP\, United Kingdom
CATEGORIES:Sunday
ATTACH;FMTTYPE=image/jpeg:https://trinityboardmills.org/wp-content/uploads/2022/11/SundayEV.jpg
GEO:54.466933365694;-5.9199475846608
END:VEVENT
BEGIN:VEVENT
DTSTART;TZID=UTC:20230122T114500
DTEND;TZID=UTC:20230122T123000
DTSTAMP:20260420T051352
CREATED:20221031T111350Z
LAST-MODIFIED:20241217T123139Z
UID:10007325-1674387900-1674390600@trinityboardmills.org
SUMMARY:Sunday CE & Creche
DESCRIPTION:
URL:https://trinityboardmills.org/event/sundayce/2023-01-22/
LOCATION:Kerr Room
CATEGORIES:Children
ATTACH;FMTTYPE=image/jpeg:https://trinityboardmills.org/wp-content/uploads/2022/11/SundayCEEV.jpg
END:VEVENT
BEGIN:VEVENT
DTSTART;TZID=UTC:20230125T193000
DTEND;TZID=UTC:20230125T203000
DTSTAMP:20260420T051352
CREATED:20221201T115131Z
LAST-MODIFIED:20230606T130026Z
UID:10005741-1674675000-1674678600@trinityboardmills.org
SUMMARY:Midweek
DESCRIPTION:
URL:https://trinityboardmills.org/event/midweek-3/2023-01-25/
ATTACH;FMTTYPE=image/jpeg:https://trinityboardmills.org/wp-content/uploads/2022/11/MidweekEV.jpg
END:VEVENT
BEGIN:VEVENT
DTSTART;TZID=UTC:20230126T103000
DTEND;TZID=UTC:20230126T113000
DTSTAMP:20260420T051352
CREATED:20221031T113005Z
LAST-MODIFIED:20230515T132001Z
UID:10004336-1674729000-1674732600@trinityboardmills.org
SUMMARY:Ladies Bible Study
DESCRIPTION:
URL:https://trinityboardmills.org/event/ladies-bible-study/2023-01-26/
LOCATION:Killaney Hall
CATEGORIES:Adults,Ladies
ATTACH;FMTTYPE=image/jpeg:https://trinityboardmills.org/wp-content/uploads/2022/11/LadiesBibleStudyEV.jpg
GEO:54.4662977;-5.9128505
END:VEVENT
BEGIN:VEVENT
DTSTART;TZID=UTC:20230129T101500
DTEND;TZID=UTC:20230129T110000
DTSTAMP:20260420T051352
CREATED:20221031T111059Z
LAST-MODIFIED:20230606T131505Z
UID:10001336-1674987300-1674990000@trinityboardmills.org
SUMMARY:Breakfast in The Book
DESCRIPTION:
URL:https://trinityboardmills.org/event/breakfast-in-the-book/2023-01-29/
LOCATION:Killaney Hall
CATEGORIES:Youth & Children
ATTACH;FMTTYPE=image/jpeg:https://trinityboardmills.org/wp-content/uploads/2022/11/BreakfastITBEV.jpg
GEO:54.4662977;-5.9128505
END:VEVENT
BEGIN:VEVENT
DTSTART;TZID=UTC:20230129T113000
DTEND;TZID=UTC:20230129T123000
DTSTAMP:20260420T051352
CREATED:20221031T111539Z
LAST-MODIFIED:20241217T123050Z
UID:10002909-1674991800-1674995400@trinityboardmills.org
SUMMARY:Morning Worship
DESCRIPTION:
URL:https://trinityboardmills.org/event/morning-service/2023-01-29/
LOCATION:Church Building\, BT27 6UP\, United Kingdom
CATEGORIES:Sunday
ATTACH;FMTTYPE=image/jpeg:https://trinityboardmills.org/wp-content/uploads/2022/11/SundayEV.jpg
GEO:54.466933365694;-5.9199475846608
END:VEVENT
BEGIN:VEVENT
DTSTART;TZID=UTC:20230129T114500
DTEND;TZID=UTC:20230129T123000
DTSTAMP:20260420T051352
CREATED:20221031T111350Z
LAST-MODIFIED:20241217T123139Z
UID:10007326-1674992700-1674995400@trinityboardmills.org
SUMMARY:Sunday CE & Creche
DESCRIPTION:
URL:https://trinityboardmills.org/event/sundayce/2023-01-29/
LOCATION:Kerr Room
CATEGORIES:Children
ATTACH;FMTTYPE=image/jpeg:https://trinityboardmills.org/wp-content/uploads/2022/11/SundayCEEV.jpg
END:VEVENT
BEGIN:VEVENT
DTSTART;TZID=UTC:20230201T193000
DTEND;TZID=UTC:20230201T210000
DTSTAMP:20260420T051352
CREATED:20230117T102812Z
LAST-MODIFIED:20230227T112730Z
UID:10005254-1675279800-1675285200@trinityboardmills.org
SUMMARY:Fellowship Groups (Wed)
DESCRIPTION:This session we will be studying Christianity Explored\, the first and third Wednesday of the month in Killaney Hall.
URL:https://trinityboardmills.org/event/fellowship-groups-wed-2/2023-02-01/
ATTACH;FMTTYPE=image/jpeg:https://trinityboardmills.org/wp-content/uploads/2022/11/FellowshipGroupEV.jpg
END:VEVENT
BEGIN:VEVENT
DTSTART;TZID=UTC:20230202T103000
DTEND;TZID=UTC:20230202T113000
DTSTAMP:20260420T051352
CREATED:20221031T113005Z
LAST-MODIFIED:20230515T132001Z
UID:10004337-1675333800-1675337400@trinityboardmills.org
SUMMARY:Ladies Bible Study
DESCRIPTION:
URL:https://trinityboardmills.org/event/ladies-bible-study/2023-02-02/
LOCATION:Killaney Hall
CATEGORIES:Adults,Ladies
ATTACH;FMTTYPE=image/jpeg:https://trinityboardmills.org/wp-content/uploads/2022/11/LadiesBibleStudyEV.jpg
GEO:54.4662977;-5.9128505
END:VEVENT
BEGIN:VEVENT
DTSTART;TZID=UTC:20230202T193000
DTEND;TZID=UTC:20230202T210000
DTSTAMP:20260420T051352
CREATED:20230117T103001Z
LAST-MODIFIED:20230314T091445Z
UID:10005804-1675366200-1675371600@trinityboardmills.org
SUMMARY:Fellowship Groups (Thu)
DESCRIPTION:This session we will be studying Christianity Explored\, the first and third Thursday of the month at Colin and Trish Foreman’s home. \n  \nThere is also an online ladies group.
URL:https://trinityboardmills.org/event/fellowship-groups-thu-2/2023-02-02/
ATTACH;FMTTYPE=image/jpeg:https://trinityboardmills.org/wp-content/uploads/2022/11/FellowshipGroupsEV.jpg
END:VEVENT
BEGIN:VEVENT
DTSTART;TZID=UTC:20230205T101500
DTEND;TZID=UTC:20230205T110000
DTSTAMP:20260420T051352
CREATED:20221031T111059Z
LAST-MODIFIED:20230606T131505Z
UID:10001337-1675592100-1675594800@trinityboardmills.org
SUMMARY:Breakfast in The Book
DESCRIPTION:
URL:https://trinityboardmills.org/event/breakfast-in-the-book/2023-02-05/
LOCATION:Killaney Hall
CATEGORIES:Youth & Children
ATTACH;FMTTYPE=image/jpeg:https://trinityboardmills.org/wp-content/uploads/2022/11/BreakfastITBEV.jpg
GEO:54.4662977;-5.9128505
END:VEVENT
BEGIN:VEVENT
DTSTART;TZID=UTC:20230205T113000
DTEND;TZID=UTC:20230205T123000
DTSTAMP:20260420T051352
CREATED:20221031T111539Z
LAST-MODIFIED:20241217T123050Z
UID:10002910-1675596600-1675600200@trinityboardmills.org
SUMMARY:Morning Worship
DESCRIPTION:
URL:https://trinityboardmills.org/event/morning-service/2023-02-05/
LOCATION:Church Building\, BT27 6UP\, United Kingdom
CATEGORIES:Sunday
ATTACH;FMTTYPE=image/jpeg:https://trinityboardmills.org/wp-content/uploads/2022/11/SundayEV.jpg
GEO:54.466933365694;-5.9199475846608
END:VEVENT
BEGIN:VEVENT
DTSTART;TZID=UTC:20230205T114500
DTEND;TZID=UTC:20230205T123000
DTSTAMP:20260420T051352
CREATED:20221031T111350Z
LAST-MODIFIED:20241217T123139Z
UID:10007327-1675597500-1675600200@trinityboardmills.org
SUMMARY:Sunday CE & Creche
DESCRIPTION:
URL:https://trinityboardmills.org/event/sundayce/2023-02-05/
LOCATION:Kerr Room
CATEGORIES:Children
ATTACH;FMTTYPE=image/jpeg:https://trinityboardmills.org/wp-content/uploads/2022/11/SundayCEEV.jpg
END:VEVENT
BEGIN:VEVENT
DTSTART;TZID=UTC:20230208T193000
DTEND;TZID=UTC:20230208T203000
DTSTAMP:20260420T051352
CREATED:20221201T112437Z
LAST-MODIFIED:20230606T130129Z
UID:10006222-1675884600-1675888200@trinityboardmills.org
SUMMARY:Midweek
DESCRIPTION:
URL:https://trinityboardmills.org/event/midweek-2/2023-02-08/
LOCATION:McKee Hall\, BT27 6UP\, United Kingdom
CATEGORIES:Adults
ATTACH;FMTTYPE=image/jpeg:https://trinityboardmills.org/wp-content/uploads/2022/11/MidweekEV.jpg
GEO:54.466933365694;-5.9199475846608
END:VEVENT
BEGIN:VEVENT
DTSTART;TZID=UTC:20230209T103000
DTEND;TZID=UTC:20230209T113000
DTSTAMP:20260420T051352
CREATED:20221031T113005Z
LAST-MODIFIED:20230515T132001Z
UID:10004338-1675938600-1675942200@trinityboardmills.org
SUMMARY:Ladies Bible Study
DESCRIPTION:
URL:https://trinityboardmills.org/event/ladies-bible-study/2023-02-09/
LOCATION:Killaney Hall
CATEGORIES:Adults,Ladies
ATTACH;FMTTYPE=image/jpeg:https://trinityboardmills.org/wp-content/uploads/2022/11/LadiesBibleStudyEV.jpg
GEO:54.4662977;-5.9128505
END:VEVENT
END:VCALENDAR