BEGIN:VCALENDAR
VERSION:2.0
PRODID:-//Trinity Presbyterian - ECPv6.15.20//NONSGML v1.0//EN
CALSCALE:GREGORIAN
METHOD:PUBLISH
X-WR-CALNAME:Trinity Presbyterian
X-ORIGINAL-URL:https://trinityboardmills.org
X-WR-CALDESC:Events for Trinity Presbyterian
REFRESH-INTERVAL;VALUE=DURATION:PT1H
X-Robots-Tag:noindex
X-PUBLISHED-TTL:PT1H
BEGIN:VTIMEZONE
TZID:UTC
BEGIN:STANDARD
TZOFFSETFROM:+0000
TZOFFSETTO:+0000
TZNAME:UTC
DTSTART:20220101T000000
END:STANDARD
END:VTIMEZONE
BEGIN:VEVENT
DTSTART;TZID=UTC:20230219T114500
DTEND;TZID=UTC:20230219T123000
DTSTAMP:20260419T234506
CREATED:20221031T111350Z
LAST-MODIFIED:20241217T123139Z
UID:10007329-1676807100-1676809800@trinityboardmills.org
SUMMARY:Sunday CE & Creche
DESCRIPTION:
URL:https://trinityboardmills.org/event/sundayce/2023-02-19/
LOCATION:Kerr Room
CATEGORIES:Children
ATTACH;FMTTYPE=image/jpeg:https://trinityboardmills.org/wp-content/uploads/2022/11/SundayCEEV.jpg
END:VEVENT
BEGIN:VEVENT
DTSTART;TZID=UTC:20230222T193000
DTEND;TZID=UTC:20230222T203000
DTSTAMP:20260419T234506
CREATED:20221201T115131Z
LAST-MODIFIED:20230606T130026Z
UID:10005742-1677094200-1677097800@trinityboardmills.org
SUMMARY:Midweek
DESCRIPTION:
URL:https://trinityboardmills.org/event/midweek-3/2023-02-22/
ATTACH;FMTTYPE=image/jpeg:https://trinityboardmills.org/wp-content/uploads/2022/11/MidweekEV.jpg
END:VEVENT
BEGIN:VEVENT
DTSTART;TZID=UTC:20230223T103000
DTEND;TZID=UTC:20230223T113000
DTSTAMP:20260419T234506
CREATED:20221031T113005Z
LAST-MODIFIED:20230515T132001Z
UID:10004340-1677148200-1677151800@trinityboardmills.org
SUMMARY:Ladies Bible Study
DESCRIPTION:
URL:https://trinityboardmills.org/event/ladies-bible-study/2023-02-23/
LOCATION:Killaney Hall
CATEGORIES:Adults,Ladies
ATTACH;FMTTYPE=image/jpeg:https://trinityboardmills.org/wp-content/uploads/2022/11/LadiesBibleStudyEV.jpg
GEO:54.4662977;-5.9128505
END:VEVENT
BEGIN:VEVENT
DTSTART;TZID=UTC:20230226T101500
DTEND;TZID=UTC:20230226T110000
DTSTAMP:20260419T234506
CREATED:20221031T111059Z
LAST-MODIFIED:20230606T131505Z
UID:10001340-1677406500-1677409200@trinityboardmills.org
SUMMARY:Breakfast in The Book
DESCRIPTION:
URL:https://trinityboardmills.org/event/breakfast-in-the-book/2023-02-26/
LOCATION:Killaney Hall
CATEGORIES:Youth & Children
ATTACH;FMTTYPE=image/jpeg:https://trinityboardmills.org/wp-content/uploads/2022/11/BreakfastITBEV.jpg
GEO:54.4662977;-5.9128505
END:VEVENT
BEGIN:VEVENT
DTSTART;TZID=UTC:20230226T113000
DTEND;TZID=UTC:20230226T123000
DTSTAMP:20260419T234506
CREATED:20221031T111539Z
LAST-MODIFIED:20241217T123050Z
UID:10002913-1677411000-1677414600@trinityboardmills.org
SUMMARY:Morning Worship
DESCRIPTION:
URL:https://trinityboardmills.org/event/morning-service/2023-02-26/
LOCATION:Church Building\, BT27 6UP\, United Kingdom
CATEGORIES:Sunday
ATTACH;FMTTYPE=image/jpeg:https://trinityboardmills.org/wp-content/uploads/2022/11/SundayEV.jpg
GEO:54.466933365694;-5.9199475846608
END:VEVENT
BEGIN:VEVENT
DTSTART;TZID=UTC:20230226T114500
DTEND;TZID=UTC:20230226T123000
DTSTAMP:20260419T234506
CREATED:20221031T111350Z
LAST-MODIFIED:20241217T123139Z
UID:10007330-1677411900-1677414600@trinityboardmills.org
SUMMARY:Sunday CE & Creche
DESCRIPTION:
URL:https://trinityboardmills.org/event/sundayce/2023-02-26/
LOCATION:Kerr Room
CATEGORIES:Children
ATTACH;FMTTYPE=image/jpeg:https://trinityboardmills.org/wp-content/uploads/2022/11/SundayCEEV.jpg
END:VEVENT
BEGIN:VEVENT
DTSTART;TZID=UTC:20230301T193000
DTEND;TZID=UTC:20230301T210000
DTSTAMP:20260419T234506
CREATED:20230117T102812Z
LAST-MODIFIED:20230227T112730Z
UID:10005256-1677699000-1677704400@trinityboardmills.org
SUMMARY:Fellowship Groups (Wed)
DESCRIPTION:This session we will be studying Christianity Explored\, the first and third Wednesday of the month in Killaney Hall.
URL:https://trinityboardmills.org/event/fellowship-groups-wed-2/2023-03-01/
ATTACH;FMTTYPE=image/jpeg:https://trinityboardmills.org/wp-content/uploads/2022/11/FellowshipGroupEV.jpg
END:VEVENT
BEGIN:VEVENT
DTSTART;TZID=UTC:20230302T103000
DTEND;TZID=UTC:20230302T113000
DTSTAMP:20260419T234506
CREATED:20221031T113005Z
LAST-MODIFIED:20230515T132001Z
UID:10004341-1677753000-1677756600@trinityboardmills.org
SUMMARY:Ladies Bible Study
DESCRIPTION:
URL:https://trinityboardmills.org/event/ladies-bible-study/2023-03-02/
LOCATION:Killaney Hall
CATEGORIES:Adults,Ladies
ATTACH;FMTTYPE=image/jpeg:https://trinityboardmills.org/wp-content/uploads/2022/11/LadiesBibleStudyEV.jpg
GEO:54.4662977;-5.9128505
END:VEVENT
BEGIN:VEVENT
DTSTART;TZID=UTC:20230305T101500
DTEND;TZID=UTC:20230305T110000
DTSTAMP:20260419T234506
CREATED:20221031T111059Z
LAST-MODIFIED:20230606T131505Z
UID:10001341-1678011300-1678014000@trinityboardmills.org
SUMMARY:Breakfast in The Book
DESCRIPTION:
URL:https://trinityboardmills.org/event/breakfast-in-the-book/2023-03-05/
LOCATION:Killaney Hall
CATEGORIES:Youth & Children
ATTACH;FMTTYPE=image/jpeg:https://trinityboardmills.org/wp-content/uploads/2022/11/BreakfastITBEV.jpg
GEO:54.4662977;-5.9128505
END:VEVENT
BEGIN:VEVENT
DTSTART;TZID=UTC:20230305T113000
DTEND;TZID=UTC:20230305T123000
DTSTAMP:20260419T234506
CREATED:20221031T111539Z
LAST-MODIFIED:20241217T123050Z
UID:10002914-1678015800-1678019400@trinityboardmills.org
SUMMARY:Morning Worship
DESCRIPTION:
URL:https://trinityboardmills.org/event/morning-service/2023-03-05/
LOCATION:Church Building\, BT27 6UP\, United Kingdom
CATEGORIES:Sunday
ATTACH;FMTTYPE=image/jpeg:https://trinityboardmills.org/wp-content/uploads/2022/11/SundayEV.jpg
GEO:54.466933365694;-5.9199475846608
END:VEVENT
BEGIN:VEVENT
DTSTART;TZID=UTC:20230305T114500
DTEND;TZID=UTC:20230305T123000
DTSTAMP:20260419T234506
CREATED:20221031T111350Z
LAST-MODIFIED:20241217T123139Z
UID:10007331-1678016700-1678019400@trinityboardmills.org
SUMMARY:Sunday CE & Creche
DESCRIPTION:
URL:https://trinityboardmills.org/event/sundayce/2023-03-05/
LOCATION:Kerr Room
CATEGORIES:Children
ATTACH;FMTTYPE=image/jpeg:https://trinityboardmills.org/wp-content/uploads/2022/11/SundayCEEV.jpg
END:VEVENT
BEGIN:VEVENT
DTSTART;TZID=UTC:20230308T193000
DTEND;TZID=UTC:20230308T203000
DTSTAMP:20260419T234506
CREATED:20221201T112437Z
LAST-MODIFIED:20230606T130129Z
UID:10006223-1678303800-1678307400@trinityboardmills.org
SUMMARY:Midweek
DESCRIPTION:
URL:https://trinityboardmills.org/event/midweek-2/2023-03-08/
LOCATION:McKee Hall\, BT27 6UP\, United Kingdom
CATEGORIES:Adults
ATTACH;FMTTYPE=image/jpeg:https://trinityboardmills.org/wp-content/uploads/2022/11/MidweekEV.jpg
GEO:54.466933365694;-5.9199475846608
END:VEVENT
BEGIN:VEVENT
DTSTART;TZID=UTC:20230309T103000
DTEND;TZID=UTC:20230309T113000
DTSTAMP:20260419T234506
CREATED:20221031T113005Z
LAST-MODIFIED:20230515T132001Z
UID:10004342-1678357800-1678361400@trinityboardmills.org
SUMMARY:Ladies Bible Study
DESCRIPTION:
URL:https://trinityboardmills.org/event/ladies-bible-study/2023-03-09/
LOCATION:Killaney Hall
CATEGORIES:Adults,Ladies
ATTACH;FMTTYPE=image/jpeg:https://trinityboardmills.org/wp-content/uploads/2022/11/LadiesBibleStudyEV.jpg
GEO:54.4662977;-5.9128505
END:VEVENT
BEGIN:VEVENT
DTSTART;TZID=UTC:20230312T101500
DTEND;TZID=UTC:20230312T110000
DTSTAMP:20260419T234506
CREATED:20221031T111059Z
LAST-MODIFIED:20230606T131505Z
UID:10001342-1678616100-1678618800@trinityboardmills.org
SUMMARY:Breakfast in The Book
DESCRIPTION:
URL:https://trinityboardmills.org/event/breakfast-in-the-book/2023-03-12/
LOCATION:Killaney Hall
CATEGORIES:Youth & Children
ATTACH;FMTTYPE=image/jpeg:https://trinityboardmills.org/wp-content/uploads/2022/11/BreakfastITBEV.jpg
GEO:54.4662977;-5.9128505
END:VEVENT
BEGIN:VEVENT
DTSTART;TZID=UTC:20230312T113000
DTEND;TZID=UTC:20230312T123000
DTSTAMP:20260419T234506
CREATED:20221031T111539Z
LAST-MODIFIED:20241217T123050Z
UID:10002915-1678620600-1678624200@trinityboardmills.org
SUMMARY:Morning Worship
DESCRIPTION:
URL:https://trinityboardmills.org/event/morning-service/2023-03-12/
LOCATION:Church Building\, BT27 6UP\, United Kingdom
CATEGORIES:Sunday
ATTACH;FMTTYPE=image/jpeg:https://trinityboardmills.org/wp-content/uploads/2022/11/SundayEV.jpg
GEO:54.466933365694;-5.9199475846608
END:VEVENT
BEGIN:VEVENT
DTSTART;TZID=UTC:20230312T114500
DTEND;TZID=UTC:20230312T123000
DTSTAMP:20260419T234506
CREATED:20221031T111350Z
LAST-MODIFIED:20241217T123139Z
UID:10007332-1678621500-1678624200@trinityboardmills.org
SUMMARY:Sunday CE & Creche
DESCRIPTION:
URL:https://trinityboardmills.org/event/sundayce/2023-03-12/
LOCATION:Kerr Room
CATEGORIES:Children
ATTACH;FMTTYPE=image/jpeg:https://trinityboardmills.org/wp-content/uploads/2022/11/SundayCEEV.jpg
END:VEVENT
BEGIN:VEVENT
DTSTART;TZID=UTC:20230316T103000
DTEND;TZID=UTC:20230316T113000
DTSTAMP:20260419T234506
CREATED:20221031T113005Z
LAST-MODIFIED:20230515T132001Z
UID:10004343-1678962600-1678966200@trinityboardmills.org
SUMMARY:Ladies Bible Study
DESCRIPTION:
URL:https://trinityboardmills.org/event/ladies-bible-study/2023-03-16/
LOCATION:Killaney Hall
CATEGORIES:Adults,Ladies
ATTACH;FMTTYPE=image/jpeg:https://trinityboardmills.org/wp-content/uploads/2022/11/LadiesBibleStudyEV.jpg
GEO:54.4662977;-5.9128505
END:VEVENT
BEGIN:VEVENT
DTSTART;TZID=UTC:20230319T101500
DTEND;TZID=UTC:20230319T110000
DTSTAMP:20260419T234506
CREATED:20221031T111059Z
LAST-MODIFIED:20230606T131505Z
UID:10001343-1679220900-1679223600@trinityboardmills.org
SUMMARY:Breakfast in The Book
DESCRIPTION:
URL:https://trinityboardmills.org/event/breakfast-in-the-book/2023-03-19/
LOCATION:Killaney Hall
CATEGORIES:Youth & Children
ATTACH;FMTTYPE=image/jpeg:https://trinityboardmills.org/wp-content/uploads/2022/11/BreakfastITBEV.jpg
GEO:54.4662977;-5.9128505
END:VEVENT
BEGIN:VEVENT
DTSTART;TZID=UTC:20230319T113000
DTEND;TZID=UTC:20230319T123000
DTSTAMP:20260419T234506
CREATED:20221031T111539Z
LAST-MODIFIED:20241217T123050Z
UID:10002916-1679225400-1679229000@trinityboardmills.org
SUMMARY:Morning Worship
DESCRIPTION:
URL:https://trinityboardmills.org/event/morning-service/2023-03-19/
LOCATION:Church Building\, BT27 6UP\, United Kingdom
CATEGORIES:Sunday
ATTACH;FMTTYPE=image/jpeg:https://trinityboardmills.org/wp-content/uploads/2022/11/SundayEV.jpg
GEO:54.466933365694;-5.9199475846608
END:VEVENT
BEGIN:VEVENT
DTSTART;TZID=UTC:20230319T114500
DTEND;TZID=UTC:20230319T123000
DTSTAMP:20260419T234506
CREATED:20221031T111350Z
LAST-MODIFIED:20241217T123139Z
UID:10007333-1679226300-1679229000@trinityboardmills.org
SUMMARY:Sunday CE & Creche
DESCRIPTION:
URL:https://trinityboardmills.org/event/sundayce/2023-03-19/
LOCATION:Kerr Room
CATEGORIES:Children
ATTACH;FMTTYPE=image/jpeg:https://trinityboardmills.org/wp-content/uploads/2022/11/SundayCEEV.jpg
END:VEVENT
BEGIN:VEVENT
DTSTART;TZID=UTC:20230322T193000
DTEND;TZID=UTC:20230322T203000
DTSTAMP:20260419T234506
CREATED:20221201T115131Z
LAST-MODIFIED:20230606T130026Z
UID:10005743-1679513400-1679517000@trinityboardmills.org
SUMMARY:Midweek
DESCRIPTION:
URL:https://trinityboardmills.org/event/midweek-3/2023-03-22/
ATTACH;FMTTYPE=image/jpeg:https://trinityboardmills.org/wp-content/uploads/2022/11/MidweekEV.jpg
END:VEVENT
BEGIN:VEVENT
DTSTART;TZID=UTC:20230323T103000
DTEND;TZID=UTC:20230323T113000
DTSTAMP:20260419T234506
CREATED:20221031T113005Z
LAST-MODIFIED:20230515T132001Z
UID:10004344-1679567400-1679571000@trinityboardmills.org
SUMMARY:Ladies Bible Study
DESCRIPTION:
URL:https://trinityboardmills.org/event/ladies-bible-study/2023-03-23/
LOCATION:Killaney Hall
CATEGORIES:Adults,Ladies
ATTACH;FMTTYPE=image/jpeg:https://trinityboardmills.org/wp-content/uploads/2022/11/LadiesBibleStudyEV.jpg
GEO:54.4662977;-5.9128505
END:VEVENT
BEGIN:VEVENT
DTSTART;TZID=UTC:20230326T101500
DTEND;TZID=UTC:20230326T110000
DTSTAMP:20260419T234506
CREATED:20221031T111059Z
LAST-MODIFIED:20230606T131505Z
UID:10001344-1679825700-1679828400@trinityboardmills.org
SUMMARY:Breakfast in The Book
DESCRIPTION:
URL:https://trinityboardmills.org/event/breakfast-in-the-book/2023-03-26/
LOCATION:Killaney Hall
CATEGORIES:Youth & Children
ATTACH;FMTTYPE=image/jpeg:https://trinityboardmills.org/wp-content/uploads/2022/11/BreakfastITBEV.jpg
GEO:54.4662977;-5.9128505
END:VEVENT
BEGIN:VEVENT
DTSTART;TZID=UTC:20230326T113000
DTEND;TZID=UTC:20230326T123000
DTSTAMP:20260419T234506
CREATED:20221031T111539Z
LAST-MODIFIED:20241217T123050Z
UID:10002917-1679830200-1679833800@trinityboardmills.org
SUMMARY:Morning Worship
DESCRIPTION:
URL:https://trinityboardmills.org/event/morning-service/2023-03-26/
LOCATION:Church Building\, BT27 6UP\, United Kingdom
CATEGORIES:Sunday
ATTACH;FMTTYPE=image/jpeg:https://trinityboardmills.org/wp-content/uploads/2022/11/SundayEV.jpg
GEO:54.466933365694;-5.9199475846608
END:VEVENT
BEGIN:VEVENT
DTSTART;TZID=UTC:20230326T114500
DTEND;TZID=UTC:20230326T123000
DTSTAMP:20260419T234506
CREATED:20221031T111350Z
LAST-MODIFIED:20241217T123139Z
UID:10007334-1679831100-1679833800@trinityboardmills.org
SUMMARY:Sunday CE & Creche
DESCRIPTION:
URL:https://trinityboardmills.org/event/sundayce/2023-03-26/
LOCATION:Kerr Room
CATEGORIES:Children
ATTACH;FMTTYPE=image/jpeg:https://trinityboardmills.org/wp-content/uploads/2022/11/SundayCEEV.jpg
END:VEVENT
BEGIN:VEVENT
DTSTART;TZID=UTC:20230330T103000
DTEND;TZID=UTC:20230330T113000
DTSTAMP:20260419T234506
CREATED:20221031T113005Z
LAST-MODIFIED:20230515T132001Z
UID:10004345-1680172200-1680175800@trinityboardmills.org
SUMMARY:Ladies Bible Study
DESCRIPTION:
URL:https://trinityboardmills.org/event/ladies-bible-study/2023-03-30/
LOCATION:Killaney Hall
CATEGORIES:Adults,Ladies
ATTACH;FMTTYPE=image/jpeg:https://trinityboardmills.org/wp-content/uploads/2022/11/LadiesBibleStudyEV.jpg
GEO:54.4662977;-5.9128505
END:VEVENT
BEGIN:VEVENT
DTSTART;TZID=UTC:20230402T101500
DTEND;TZID=UTC:20230402T110000
DTSTAMP:20260419T234506
CREATED:20221031T111059Z
LAST-MODIFIED:20230606T131505Z
UID:10001345-1680430500-1680433200@trinityboardmills.org
SUMMARY:Breakfast in The Book
DESCRIPTION:
URL:https://trinityboardmills.org/event/breakfast-in-the-book/2023-04-02/
LOCATION:Killaney Hall
CATEGORIES:Youth & Children
ATTACH;FMTTYPE=image/jpeg:https://trinityboardmills.org/wp-content/uploads/2022/11/BreakfastITBEV.jpg
GEO:54.4662977;-5.9128505
END:VEVENT
BEGIN:VEVENT
DTSTART;TZID=UTC:20230402T113000
DTEND;TZID=UTC:20230402T123000
DTSTAMP:20260419T234506
CREATED:20221031T111539Z
LAST-MODIFIED:20241217T123050Z
UID:10002918-1680435000-1680438600@trinityboardmills.org
SUMMARY:Morning Worship
DESCRIPTION:
URL:https://trinityboardmills.org/event/morning-service/2023-04-02/
LOCATION:Church Building\, BT27 6UP\, United Kingdom
CATEGORIES:Sunday
ATTACH;FMTTYPE=image/jpeg:https://trinityboardmills.org/wp-content/uploads/2022/11/SundayEV.jpg
GEO:54.466933365694;-5.9199475846608
END:VEVENT
BEGIN:VEVENT
DTSTART;TZID=UTC:20230402T114500
DTEND;TZID=UTC:20230402T123000
DTSTAMP:20260419T234506
CREATED:20221031T111350Z
LAST-MODIFIED:20241217T123139Z
UID:10007335-1680435900-1680438600@trinityboardmills.org
SUMMARY:Sunday CE & Creche
DESCRIPTION:
URL:https://trinityboardmills.org/event/sundayce/2023-04-02/
LOCATION:Kerr Room
CATEGORIES:Children
ATTACH;FMTTYPE=image/jpeg:https://trinityboardmills.org/wp-content/uploads/2022/11/SundayCEEV.jpg
END:VEVENT
BEGIN:VEVENT
DTSTART;TZID=UTC:20230405T193000
DTEND;TZID=UTC:20230405T210000
DTSTAMP:20260419T234506
CREATED:20230327T092135Z
LAST-MODIFIED:20230605T075823Z
UID:10005258-1680723000-1680728400@trinityboardmills.org
SUMMARY:Fellowship Groups (Wed)
DESCRIPTION:This session we will be studying Christianity Explored\, the first and third Wednesday of the month in Killaney Hall.
URL:https://trinityboardmills.org/event/fellowship-groups-wed-2-2/2023-04-05/
LOCATION:Killaney Hall
ATTACH;FMTTYPE=image/jpeg:https://trinityboardmills.org/wp-content/uploads/2022/11/FellowshipGroupEV.jpg
GEO:54.4662977;-5.9128505
END:VEVENT
END:VCALENDAR