BEGIN:VCALENDAR
VERSION:2.0
PRODID:-//Trinity Presbyterian - ECPv6.15.20//NONSGML v1.0//EN
CALSCALE:GREGORIAN
METHOD:PUBLISH
X-ORIGINAL-URL:https://trinityboardmills.org
X-WR-CALDESC:Events for Trinity Presbyterian
REFRESH-INTERVAL;VALUE=DURATION:PT1H
X-Robots-Tag:noindex
X-PUBLISHED-TTL:PT1H
BEGIN:VTIMEZONE
TZID:UTC
BEGIN:STANDARD
TZOFFSETFROM:+0000
TZOFFSETTO:+0000
TZNAME:UTC
DTSTART:20230101T000000
END:STANDARD
END:VTIMEZONE
BEGIN:VEVENT
DTSTART;TZID=UTC:20241002T193000
DTEND;TZID=UTC:20241002T210000
DTSTAMP:20260419T142346
CREATED:20240903T144502Z
LAST-MODIFIED:20240906T121121Z
UID:10013280-1727897400-1727902800@trinityboardmills.org
SUMMARY:Fellowship Groups (Wed)
DESCRIPTION:This session we will be using the book “Gather”\, the first and third Wednesday of the month in Killaney Hall.
URL:https://trinityboardmills.org/event/fellowship-groups-wed-2-2-2-2-2/2024-10-02/
LOCATION:Killaney Hall
CATEGORIES:Fellowship Groups Featured
ATTACH;FMTTYPE=image/jpeg:https://trinityboardmills.org/wp-content/uploads/2022/11/FellowshipGroupEV.jpg
GEO:54.4662977;-5.9128505
END:VEVENT
BEGIN:VEVENT
DTSTART;TZID=UTC:20241003T103000
DTEND;TZID=UTC:20241003T113000
DTSTAMP:20260419T142346
CREATED:20230911T123435Z
LAST-MODIFIED:20260326T081458Z
UID:10017879-1727951400-1727955000@trinityboardmills.org
SUMMARY:Ladies Bible Study
DESCRIPTION:
URL:https://trinityboardmills.org/event/ladies-bible-study-2/2024-10-03/
LOCATION:Killaney Hall
CATEGORIES:Adults,Ladies
ATTACH;FMTTYPE=image/jpeg:https://trinityboardmills.org/wp-content/uploads/2022/11/LadiesBibleStudyEV.jpg
GEO:54.4662977;-5.9128505
END:VEVENT
BEGIN:VEVENT
DTSTART;TZID=UTC:20241003T193000
DTEND;TZID=UTC:20241003T210000
DTSTAMP:20260419T142346
CREATED:20240903T145323Z
LAST-MODIFIED:20240906T121036Z
UID:10013294-1727983800-1727989200@trinityboardmills.org
SUMMARY:Fellowship Groups (Thu)
DESCRIPTION:This session we will be using the book “Gather”\, the first and third Thursday of the month at Colin and Trish Foreman’s home.
URL:https://trinityboardmills.org/event/fellowship-groups-thu-4/2024-10-03/
CATEGORIES:Fellowship Groups Featured
ATTACH;FMTTYPE=image/jpeg:https://trinityboardmills.org/wp-content/uploads/2022/11/FellowshipGroupsEV.jpg
END:VEVENT
BEGIN:VEVENT
DTSTART;TZID=UTC:20241005T183000
DTEND;TZID=UTC:20241005T200000
DTSTAMP:20260419T142346
CREATED:20240904T085823Z
LAST-MODIFIED:20240906T120505Z
UID:10007216-1728153000-1728158400@trinityboardmills.org
SUMMARY:Pulse Junior
DESCRIPTION:
URL:https://trinityboardmills.org/event/pulse-junior-2-2-2-2/2024-10-05/
LOCATION:Killaney Hall
CATEGORIES:Pulse Featured
ATTACH;FMTTYPE=image/jpeg:https://trinityboardmills.org/wp-content/uploads/2022/11/Pulse-web-2.jpg
GEO:54.4662977;-5.9128505
END:VEVENT
BEGIN:VEVENT
DTSTART;TZID=UTC:20241006T113000
DTEND;TZID=UTC:20241006T123000
DTSTAMP:20260419T142346
CREATED:20221031T111539Z
LAST-MODIFIED:20241217T123050Z
UID:10002997-1728214200-1728217800@trinityboardmills.org
SUMMARY:Morning Worship
DESCRIPTION:
URL:https://trinityboardmills.org/event/morning-service/2024-10-06/
LOCATION:Church Building\, BT27 6UP\, United Kingdom
CATEGORIES:Sunday
ATTACH;FMTTYPE=image/jpeg:https://trinityboardmills.org/wp-content/uploads/2022/11/SundayEV.jpg
GEO:54.466933365694;-5.9199475846608
END:VEVENT
BEGIN:VEVENT
DTSTART;TZID=UTC:20241006T114500
DTEND;TZID=UTC:20241006T123000
DTSTAMP:20260419T142346
CREATED:20221031T111350Z
LAST-MODIFIED:20241217T123139Z
UID:10007414-1728215100-1728217800@trinityboardmills.org
SUMMARY:Sunday CE & Creche
DESCRIPTION:
URL:https://trinityboardmills.org/event/sundayce/2024-10-06/
LOCATION:Kerr Room
CATEGORIES:Children
ATTACH;FMTTYPE=image/jpeg:https://trinityboardmills.org/wp-content/uploads/2022/11/SundayCEEV.jpg
END:VEVENT
BEGIN:VEVENT
DTSTART;TZID=UTC:20241006T183000
DTEND;TZID=UTC:20241006T191500
DTSTAMP:20260419T142346
CREATED:20240903T080905Z
LAST-MODIFIED:20260405T092003Z
UID:10018905-1728239400-1728242100@trinityboardmills.org
SUMMARY:Evening Service
DESCRIPTION:
URL:https://trinityboardmills.org/event/evening-service-2/2024-10-06/
LOCATION:Church Building\, BT27 6UP\, United Kingdom
CATEGORIES:Sunday
ATTACH;FMTTYPE=image/jpeg:https://trinityboardmills.org/wp-content/uploads/2022/11/EveningServiceEV.jpg
GEO:54.466933365694;-5.9199475846608
END:VEVENT
BEGIN:VEVENT
DTSTART;TZID=UTC:20241007T100000
DTEND;TZID=UTC:20241007T111500
DTSTAMP:20260419T142346
CREATED:20240904T081530Z
LAST-MODIFIED:20240906T122055Z
UID:10013302-1728295200-1728299700@trinityboardmills.org
SUMMARY:Trinity Tots
DESCRIPTION:
URL:https://trinityboardmills.org/event/trinity-tots-2-2/2024-10-07/
LOCATION:Killaney Hall
CATEGORIES:Trinity Tots Featured
ATTACH;FMTTYPE=image/jpeg:https://trinityboardmills.org/wp-content/uploads/2022/11/CrecheEV.jpg
GEO:54.4662977;-5.9128505
END:VEVENT
BEGIN:VEVENT
DTSTART;TZID=UTC:20241007T180000
DTEND;TZID=UTC:20241007T190000
DTSTAMP:20260419T142346
CREATED:20240903T132710Z
LAST-MODIFIED:20250217T125306Z
UID:10012491-1728324000-1728327600@trinityboardmills.org
SUMMARY:GB Explorers
DESCRIPTION:
URL:https://trinityboardmills.org/event/gb-explorers-2-2/2024-10-07/
LOCATION:McKee Hall\, BT27 6UP\, United Kingdom
CATEGORIES:GB Featured,Youth & Children
ATTACH;FMTTYPE=image/jpeg:https://trinityboardmills.org/wp-content/uploads/2022/11/GBJuniorEV.jpg
GEO:54.466933365694;-5.9199475846608
END:VEVENT
BEGIN:VEVENT
DTSTART;TZID=UTC:20241007T180000
DTEND;TZID=UTC:20241007T191500
DTSTAMP:20260419T142346
CREATED:20240903T131246Z
LAST-MODIFIED:20250217T125042Z
UID:10011168-1728324000-1728328500@trinityboardmills.org
SUMMARY:BB Anchor Boys
DESCRIPTION:
URL:https://trinityboardmills.org/event/bb-anchor-boys-2-2/2024-10-07/
LOCATION:Killaney Hall
CATEGORIES:BB Featured,Youth & Children
ATTACH;FMTTYPE=image/jpeg:https://trinityboardmills.org/wp-content/uploads/2022/11/BBExpEV.jpg
GEO:54.4662977;-5.9128505
END:VEVENT
BEGIN:VEVENT
DTSTART;TZID=UTC:20241007T190000
DTEND;TZID=UTC:20241007T203000
DTSTAMP:20260419T142346
CREATED:20240903T131641Z
LAST-MODIFIED:20250217T125134Z
UID:10011686-1728327600-1728333000@trinityboardmills.org
SUMMARY:BB Junior Section
DESCRIPTION:
URL:https://trinityboardmills.org/event/bb-junior-section-2-2/2024-10-07/
LOCATION:Killaney Hall
CATEGORIES:BB Featured,Youth & Children
ATTACH;FMTTYPE=image/jpeg:https://trinityboardmills.org/wp-content/uploads/2022/11/BBSQEV.jpg
GEO:54.4662977;-5.9128505
END:VEVENT
BEGIN:VEVENT
DTSTART;TZID=UTC:20241007T191500
DTEND;TZID=UTC:20241007T203000
DTSTAMP:20260419T142346
CREATED:20240903T132339Z
LAST-MODIFIED:20260208T221141Z
UID:10012232-1728328500-1728333000@trinityboardmills.org
SUMMARY:GB Junior Section
DESCRIPTION:
URL:https://trinityboardmills.org/event/gb-junior-section/2024-10-07/
LOCATION:McKee Hall\, BT27 6UP\, United Kingdom
CATEGORIES:GB Featured,Youth & Children
ATTACH;FMTTYPE=image/jpeg:https://trinityboardmills.org/wp-content/uploads/2022/11/GBCompEV.jpg
GEO:54.466933365694;-5.9199475846608
END:VEVENT
BEGIN:VEVENT
DTSTART;TZID=UTC:20241007T191500
DTEND;TZID=UTC:20241007T204500
DTSTAMP:20260419T142346
CREATED:20240903T132207Z
LAST-MODIFIED:20250217T125436Z
UID:10011972-1728328500-1728333900@trinityboardmills.org
SUMMARY:GB Company Section
DESCRIPTION:
URL:https://trinityboardmills.org/event/gb-company-section-2-2/2024-10-07/
LOCATION:McKee Hall\, BT27 6UP\, United Kingdom
CATEGORIES:GB Featured,Youth & Children
ATTACH;FMTTYPE=image/jpeg:https://trinityboardmills.org/wp-content/uploads/2022/11/GBCompEV.jpg
GEO:54.466933365694;-5.9199475846608
END:VEVENT
BEGIN:VEVENT
DTSTART;TZID=UTC:20241007T191500
DTEND;TZID=UTC:20241007T210000
DTSTAMP:20260419T142346
CREATED:20240903T131449Z
LAST-MODIFIED:20250217T125159Z
UID:10011427-1728328500-1728334800@trinityboardmills.org
SUMMARY:BB Company Section
DESCRIPTION:
URL:https://trinityboardmills.org/event/bb-company-section-2-2/2024-10-07/
LOCATION:Killaney Hall
CATEGORIES:BB Featured,Youth & Children
ATTACH;FMTTYPE=image/jpeg:https://trinityboardmills.org/wp-content/uploads/2022/10/BBCompanyEV.jpg
GEO:54.4662977;-5.9128505
END:VEVENT
BEGIN:VEVENT
DTSTART;TZID=UTC:20241008T193000
DTEND;TZID=UTC:20241008T213000
DTSTAMP:20260419T142346
CREATED:20240904T140649Z
LAST-MODIFIED:20250331T084646Z
UID:10013432-1728415800-1728423000@trinityboardmills.org
SUMMARY:Bowling Club
DESCRIPTION:
URL:https://trinityboardmills.org/event/mixed-bowls-3-2/2024-10-08/
LOCATION:McKee Hall\, BT27 6UP\, United Kingdom
CATEGORIES:Adults
ATTACH;FMTTYPE=image/jpeg:https://trinityboardmills.org/wp-content/uploads/2022/11/MixedBowlsEV.jpg
GEO:54.466933365694;-5.9199475846608
END:VEVENT
BEGIN:VEVENT
DTSTART;TZID=UTC:20241010T193000
DTEND;TZID=UTC:20241010T210000
DTSTAMP:20260419T142346
CREATED:20240930T185923Z
LAST-MODIFIED:20240930T185923Z
UID:10013994-1728588600-1728594000@trinityboardmills.org
SUMMARY:TRINITY WOMEN - LOVE FOR LIFE
DESCRIPTION:Trinity Boardmills would love you to join us as we partner with Love for Life and explore their workshop Birds and Bees. \nThis event is open to all ladies who are parents / carers / aunties / grannies to inform us as we seek to help our children and young people navigate puberty\, the pressures they face and encourage them to develop healthy relationships with others. \nTopics covered in this presentation:\n• Pressures and influences on young people\n• Stages of child development\n• When and how to talk about puberty\, growing up and sex\n• Communication\n• Boundaries \nMore details on the Love for Life website https://www.loveforlife.org.uk/our-programmes/birds-and-bees/
URL:https://trinityboardmills.org/event/trinity-women-love-for-life/
LOCATION:McKee Hall\, BT27 6UP\, United Kingdom
CATEGORIES:Adults,Featured,Ladies
ATTACH;FMTTYPE=image/png:https://trinityboardmills.org/wp-content/uploads/2024/09/BirdsBees_Blue.png
GEO:54.466933365694;-5.9199475846608
END:VEVENT
BEGIN:VEVENT
DTSTART;TZID=UTC:20241013T113000
DTEND;TZID=UTC:20241013T123000
DTSTAMP:20260419T142346
CREATED:20221031T111539Z
LAST-MODIFIED:20241217T123050Z
UID:10002998-1728819000-1728822600@trinityboardmills.org
SUMMARY:Morning Worship
DESCRIPTION:
URL:https://trinityboardmills.org/event/morning-service/2024-10-13/
LOCATION:Church Building\, BT27 6UP\, United Kingdom
CATEGORIES:Sunday
ATTACH;FMTTYPE=image/jpeg:https://trinityboardmills.org/wp-content/uploads/2022/11/SundayEV.jpg
GEO:54.466933365694;-5.9199475846608
END:VEVENT
BEGIN:VEVENT
DTSTART;TZID=UTC:20241013T114500
DTEND;TZID=UTC:20241013T123000
DTSTAMP:20260419T142346
CREATED:20221031T111350Z
LAST-MODIFIED:20241217T123139Z
UID:10007415-1728819900-1728822600@trinityboardmills.org
SUMMARY:Sunday CE & Creche
DESCRIPTION:
URL:https://trinityboardmills.org/event/sundayce/2024-10-13/
LOCATION:Kerr Room
CATEGORIES:Children
ATTACH;FMTTYPE=image/jpeg:https://trinityboardmills.org/wp-content/uploads/2022/11/SundayCEEV.jpg
END:VEVENT
BEGIN:VEVENT
DTSTART;TZID=UTC:20241013T183000
DTEND;TZID=UTC:20241013T191500
DTSTAMP:20260419T142346
CREATED:20240903T080905Z
LAST-MODIFIED:20260405T092003Z
UID:10018906-1728844200-1728846900@trinityboardmills.org
SUMMARY:Evening Service
DESCRIPTION:
URL:https://trinityboardmills.org/event/evening-service-2/2024-10-13/
LOCATION:Church Building\, BT27 6UP\, United Kingdom
CATEGORIES:Sunday
ATTACH;FMTTYPE=image/jpeg:https://trinityboardmills.org/wp-content/uploads/2022/11/EveningServiceEV.jpg
GEO:54.466933365694;-5.9199475846608
END:VEVENT
BEGIN:VEVENT
DTSTART;TZID=UTC:20241013T193000
DTEND;TZID=UTC:20241013T210000
DTSTAMP:20260419T142346
CREATED:20240903T135905Z
LAST-MODIFIED:20240906T120850Z
UID:10013008-1728847800-1728853200@trinityboardmills.org
SUMMARY:Youth Fellowship (Fellowship Group format)
DESCRIPTION:
URL:https://trinityboardmills.org/event/youth-fellowship-fg/2024-10-13/
LOCATION:McKee Hall\, BT27 6UP\, United Kingdom
CATEGORIES:YF Featured
ATTACH;FMTTYPE=image/jpeg:https://trinityboardmills.org/wp-content/uploads/2022/11/BreakfastITBEV.jpg
GEO:54.466933365694;-5.9199475846608
END:VEVENT
BEGIN:VEVENT
DTSTART;TZID=UTC:20241014T100000
DTEND;TZID=UTC:20241014T111500
DTSTAMP:20260419T142346
CREATED:20240904T081530Z
LAST-MODIFIED:20240906T122055Z
UID:10013303-1728900000-1728904500@trinityboardmills.org
SUMMARY:Trinity Tots
DESCRIPTION:
URL:https://trinityboardmills.org/event/trinity-tots-2-2/2024-10-14/
LOCATION:Killaney Hall
CATEGORIES:Trinity Tots Featured
ATTACH;FMTTYPE=image/jpeg:https://trinityboardmills.org/wp-content/uploads/2022/11/CrecheEV.jpg
GEO:54.4662977;-5.9128505
END:VEVENT
BEGIN:VEVENT
DTSTART;TZID=UTC:20241014T180000
DTEND;TZID=UTC:20241014T190000
DTSTAMP:20260419T142346
CREATED:20240903T132710Z
LAST-MODIFIED:20250217T125306Z
UID:10012492-1728928800-1728932400@trinityboardmills.org
SUMMARY:GB Explorers
DESCRIPTION:
URL:https://trinityboardmills.org/event/gb-explorers-2-2/2024-10-14/
LOCATION:McKee Hall\, BT27 6UP\, United Kingdom
CATEGORIES:GB Featured,Youth & Children
ATTACH;FMTTYPE=image/jpeg:https://trinityboardmills.org/wp-content/uploads/2022/11/GBJuniorEV.jpg
GEO:54.466933365694;-5.9199475846608
END:VEVENT
BEGIN:VEVENT
DTSTART;TZID=UTC:20241014T180000
DTEND;TZID=UTC:20241014T191500
DTSTAMP:20260419T142346
CREATED:20240903T131246Z
LAST-MODIFIED:20250217T125042Z
UID:10011169-1728928800-1728933300@trinityboardmills.org
SUMMARY:BB Anchor Boys
DESCRIPTION:
URL:https://trinityboardmills.org/event/bb-anchor-boys-2-2/2024-10-14/
LOCATION:Killaney Hall
CATEGORIES:BB Featured,Youth & Children
ATTACH;FMTTYPE=image/jpeg:https://trinityboardmills.org/wp-content/uploads/2022/11/BBExpEV.jpg
GEO:54.4662977;-5.9128505
END:VEVENT
BEGIN:VEVENT
DTSTART;TZID=UTC:20241014T190000
DTEND;TZID=UTC:20241014T203000
DTSTAMP:20260419T142346
CREATED:20240903T131641Z
LAST-MODIFIED:20250217T125134Z
UID:10011687-1728932400-1728937800@trinityboardmills.org
SUMMARY:BB Junior Section
DESCRIPTION:
URL:https://trinityboardmills.org/event/bb-junior-section-2-2/2024-10-14/
LOCATION:Killaney Hall
CATEGORIES:BB Featured,Youth & Children
ATTACH;FMTTYPE=image/jpeg:https://trinityboardmills.org/wp-content/uploads/2022/11/BBSQEV.jpg
GEO:54.4662977;-5.9128505
END:VEVENT
BEGIN:VEVENT
DTSTART;TZID=UTC:20241014T191500
DTEND;TZID=UTC:20241014T203000
DTSTAMP:20260419T142346
CREATED:20240903T132339Z
LAST-MODIFIED:20260208T221141Z
UID:10012233-1728933300-1728937800@trinityboardmills.org
SUMMARY:GB Junior Section
DESCRIPTION:
URL:https://trinityboardmills.org/event/gb-junior-section/2024-10-14/
LOCATION:McKee Hall\, BT27 6UP\, United Kingdom
CATEGORIES:GB Featured,Youth & Children
ATTACH;FMTTYPE=image/jpeg:https://trinityboardmills.org/wp-content/uploads/2022/11/GBCompEV.jpg
GEO:54.466933365694;-5.9199475846608
END:VEVENT
BEGIN:VEVENT
DTSTART;TZID=UTC:20241014T191500
DTEND;TZID=UTC:20241014T204500
DTSTAMP:20260419T142346
CREATED:20240903T132207Z
LAST-MODIFIED:20250217T125436Z
UID:10011973-1728933300-1728938700@trinityboardmills.org
SUMMARY:GB Company Section
DESCRIPTION:
URL:https://trinityboardmills.org/event/gb-company-section-2-2/2024-10-14/
LOCATION:McKee Hall\, BT27 6UP\, United Kingdom
CATEGORIES:GB Featured,Youth & Children
ATTACH;FMTTYPE=image/jpeg:https://trinityboardmills.org/wp-content/uploads/2022/11/GBCompEV.jpg
GEO:54.466933365694;-5.9199475846608
END:VEVENT
BEGIN:VEVENT
DTSTART;TZID=UTC:20241014T191500
DTEND;TZID=UTC:20241014T210000
DTSTAMP:20260419T142346
CREATED:20240903T131449Z
LAST-MODIFIED:20250217T125159Z
UID:10011428-1728933300-1728939600@trinityboardmills.org
SUMMARY:BB Company Section
DESCRIPTION:
URL:https://trinityboardmills.org/event/bb-company-section-2-2/2024-10-14/
LOCATION:Killaney Hall
CATEGORIES:BB Featured,Youth & Children
ATTACH;FMTTYPE=image/jpeg:https://trinityboardmills.org/wp-content/uploads/2022/10/BBCompanyEV.jpg
GEO:54.4662977;-5.9128505
END:VEVENT
BEGIN:VEVENT
DTSTART;TZID=UTC:20241015T193000
DTEND;TZID=UTC:20241015T213000
DTSTAMP:20260419T142346
CREATED:20240904T140649Z
LAST-MODIFIED:20250331T084646Z
UID:10013433-1729020600-1729027800@trinityboardmills.org
SUMMARY:Bowling Club
DESCRIPTION:
URL:https://trinityboardmills.org/event/mixed-bowls-3-2/2024-10-15/
LOCATION:McKee Hall\, BT27 6UP\, United Kingdom
CATEGORIES:Adults
ATTACH;FMTTYPE=image/jpeg:https://trinityboardmills.org/wp-content/uploads/2022/11/MixedBowlsEV.jpg
GEO:54.466933365694;-5.9199475846608
END:VEVENT
BEGIN:VEVENT
DTSTART;TZID=UTC:20241016T193000
DTEND;TZID=UTC:20241016T210000
DTSTAMP:20260419T142346
CREATED:20240903T144502Z
LAST-MODIFIED:20240906T121121Z
UID:10013281-1729107000-1729112400@trinityboardmills.org
SUMMARY:Fellowship Groups (Wed)
DESCRIPTION:This session we will be using the book “Gather”\, the first and third Wednesday of the month in Killaney Hall.
URL:https://trinityboardmills.org/event/fellowship-groups-wed-2-2-2-2-2/2024-10-16/
LOCATION:Killaney Hall
CATEGORIES:Fellowship Groups Featured
ATTACH;FMTTYPE=image/jpeg:https://trinityboardmills.org/wp-content/uploads/2022/11/FellowshipGroupEV.jpg
GEO:54.4662977;-5.9128505
END:VEVENT
BEGIN:VEVENT
DTSTART;TZID=UTC:20241017T103000
DTEND;TZID=UTC:20241017T113000
DTSTAMP:20260419T142346
CREATED:20230911T123435Z
LAST-MODIFIED:20260326T081458Z
UID:10017880-1729161000-1729164600@trinityboardmills.org
SUMMARY:Ladies Bible Study
DESCRIPTION:
URL:https://trinityboardmills.org/event/ladies-bible-study-2/2024-10-17/
LOCATION:Killaney Hall
CATEGORIES:Adults,Ladies
ATTACH;FMTTYPE=image/jpeg:https://trinityboardmills.org/wp-content/uploads/2022/11/LadiesBibleStudyEV.jpg
GEO:54.4662977;-5.9128505
END:VEVENT
END:VCALENDAR