BEGIN:VCALENDAR
VERSION:2.0
PRODID:-//Trinity Presbyterian - ECPv6.15.20//NONSGML v1.0//EN
CALSCALE:GREGORIAN
METHOD:PUBLISH
X-WR-CALNAME:Trinity Presbyterian
X-ORIGINAL-URL:https://trinityboardmills.org
X-WR-CALDESC:Events for Trinity Presbyterian
REFRESH-INTERVAL;VALUE=DURATION:PT1H
X-Robots-Tag:noindex
X-PUBLISHED-TTL:PT1H
BEGIN:VTIMEZONE
TZID:UTC
BEGIN:STANDARD
TZOFFSETFROM:+0000
TZOFFSETTO:+0000
TZNAME:UTC
DTSTART:20220101T000000
END:STANDARD
END:VTIMEZONE
BEGIN:VEVENT
DTSTART;TZID=UTC:20230416T114500
DTEND;TZID=UTC:20230416T123000
DTSTAMP:20260421T034335
CREATED:20221031T111350Z
LAST-MODIFIED:20241217T123139Z
UID:10007337-1681645500-1681648200@trinityboardmills.org
SUMMARY:Sunday CE & Creche
DESCRIPTION:
URL:https://trinityboardmills.org/event/sundayce/2023-04-16/
LOCATION:Kerr Room
CATEGORIES:Children
ATTACH;FMTTYPE=image/jpeg:https://trinityboardmills.org/wp-content/uploads/2022/11/SundayCEEV.jpg
END:VEVENT
BEGIN:VEVENT
DTSTART;TZID=UTC:20230419T193000
DTEND;TZID=UTC:20230419T210000
DTSTAMP:20260421T034335
CREATED:20230327T092135Z
LAST-MODIFIED:20230605T075823Z
UID:10006595-1681932600-1681938000@trinityboardmills.org
SUMMARY:Fellowship Groups (Wed)
DESCRIPTION:This session we will be studying Christianity Explored\, the first and third Wednesday of the month in Killaney Hall.
URL:https://trinityboardmills.org/event/fellowship-groups-wed-2-2/2023-04-19/
LOCATION:Killaney Hall
ATTACH;FMTTYPE=image/jpeg:https://trinityboardmills.org/wp-content/uploads/2022/11/FellowshipGroupEV.jpg
GEO:54.4662977;-5.9128505
END:VEVENT
BEGIN:VEVENT
DTSTART;TZID=UTC:20230420T103000
DTEND;TZID=UTC:20230420T113000
DTSTAMP:20260421T034335
CREATED:20221031T113005Z
LAST-MODIFIED:20230515T132001Z
UID:10004348-1681986600-1681990200@trinityboardmills.org
SUMMARY:Ladies Bible Study
DESCRIPTION:
URL:https://trinityboardmills.org/event/ladies-bible-study/2023-04-20/
LOCATION:Killaney Hall
CATEGORIES:Adults,Ladies
ATTACH;FMTTYPE=image/jpeg:https://trinityboardmills.org/wp-content/uploads/2022/11/LadiesBibleStudyEV.jpg
GEO:54.4662977;-5.9128505
END:VEVENT
BEGIN:VEVENT
DTSTART;TZID=UTC:20230420T193000
DTEND;TZID=UTC:20230420T210000
DTSTAMP:20260421T034335
CREATED:20230314T091659Z
LAST-MODIFIED:20230605T075645Z
UID:10006470-1682019000-1682024400@trinityboardmills.org
SUMMARY:Fellowship Groups (Thu)
DESCRIPTION:This session we will be studying Christianity Explored\, the first and third Thursday of the month at Colin and Trish Foreman’s home. \n  \nThere is also an online ladies group.
URL:https://trinityboardmills.org/event/fellowship-groups-thu-2-2/2023-04-20/
ATTACH;FMTTYPE=image/jpeg:https://trinityboardmills.org/wp-content/uploads/2022/11/FellowshipGroupsEV.jpg
END:VEVENT
BEGIN:VEVENT
DTSTART;TZID=UTC:20230423T101500
DTEND;TZID=UTC:20230423T110000
DTSTAMP:20260421T034335
CREATED:20221031T111059Z
LAST-MODIFIED:20230606T131505Z
UID:10001348-1682244900-1682247600@trinityboardmills.org
SUMMARY:Breakfast in The Book
DESCRIPTION:
URL:https://trinityboardmills.org/event/breakfast-in-the-book/2023-04-23/
LOCATION:Killaney Hall
CATEGORIES:Youth & Children
ATTACH;FMTTYPE=image/jpeg:https://trinityboardmills.org/wp-content/uploads/2022/11/BreakfastITBEV.jpg
GEO:54.4662977;-5.9128505
END:VEVENT
BEGIN:VEVENT
DTSTART;TZID=UTC:20230423T113000
DTEND;TZID=UTC:20230423T123000
DTSTAMP:20260421T034335
CREATED:20221031T111539Z
LAST-MODIFIED:20241217T123050Z
UID:10002921-1682249400-1682253000@trinityboardmills.org
SUMMARY:Morning Worship
DESCRIPTION:
URL:https://trinityboardmills.org/event/morning-service/2023-04-23/
LOCATION:Church Building\, BT27 6UP\, United Kingdom
CATEGORIES:Sunday
ATTACH;FMTTYPE=image/jpeg:https://trinityboardmills.org/wp-content/uploads/2022/11/SundayEV.jpg
GEO:54.466933365694;-5.9199475846608
END:VEVENT
BEGIN:VEVENT
DTSTART;TZID=UTC:20230423T114500
DTEND;TZID=UTC:20230423T123000
DTSTAMP:20260421T034335
CREATED:20221031T111350Z
LAST-MODIFIED:20241217T123139Z
UID:10007338-1682250300-1682253000@trinityboardmills.org
SUMMARY:Sunday CE & Creche
DESCRIPTION:
URL:https://trinityboardmills.org/event/sundayce/2023-04-23/
LOCATION:Kerr Room
CATEGORIES:Children
ATTACH;FMTTYPE=image/jpeg:https://trinityboardmills.org/wp-content/uploads/2022/11/SundayCEEV.jpg
END:VEVENT
BEGIN:VEVENT
DTSTART;TZID=UTC:20230426T193000
DTEND;TZID=UTC:20230426T203000
DTSTAMP:20260421T034335
CREATED:20221201T115131Z
LAST-MODIFIED:20230606T130026Z
UID:10005744-1682537400-1682541000@trinityboardmills.org
SUMMARY:Midweek
DESCRIPTION:
URL:https://trinityboardmills.org/event/midweek-3/2023-04-26/
ATTACH;FMTTYPE=image/jpeg:https://trinityboardmills.org/wp-content/uploads/2022/11/MidweekEV.jpg
END:VEVENT
BEGIN:VEVENT
DTSTART;TZID=UTC:20230427T103000
DTEND;TZID=UTC:20230427T113000
DTSTAMP:20260421T034335
CREATED:20221031T113005Z
LAST-MODIFIED:20230515T132001Z
UID:10004349-1682591400-1682595000@trinityboardmills.org
SUMMARY:Ladies Bible Study
DESCRIPTION:
URL:https://trinityboardmills.org/event/ladies-bible-study/2023-04-27/
LOCATION:Killaney Hall
CATEGORIES:Adults,Ladies
ATTACH;FMTTYPE=image/jpeg:https://trinityboardmills.org/wp-content/uploads/2022/11/LadiesBibleStudyEV.jpg
GEO:54.4662977;-5.9128505
END:VEVENT
BEGIN:VEVENT
DTSTART;TZID=UTC:20230430T101500
DTEND;TZID=UTC:20230430T110000
DTSTAMP:20260421T034335
CREATED:20221031T111059Z
LAST-MODIFIED:20230606T131505Z
UID:10001349-1682849700-1682852400@trinityboardmills.org
SUMMARY:Breakfast in The Book
DESCRIPTION:
URL:https://trinityboardmills.org/event/breakfast-in-the-book/2023-04-30/
LOCATION:Killaney Hall
CATEGORIES:Youth & Children
ATTACH;FMTTYPE=image/jpeg:https://trinityboardmills.org/wp-content/uploads/2022/11/BreakfastITBEV.jpg
GEO:54.4662977;-5.9128505
END:VEVENT
BEGIN:VEVENT
DTSTART;TZID=UTC:20230430T113000
DTEND;TZID=UTC:20230430T123000
DTSTAMP:20260421T034335
CREATED:20221031T111539Z
LAST-MODIFIED:20241217T123050Z
UID:10002922-1682854200-1682857800@trinityboardmills.org
SUMMARY:Morning Worship
DESCRIPTION:
URL:https://trinityboardmills.org/event/morning-service/2023-04-30/
LOCATION:Church Building\, BT27 6UP\, United Kingdom
CATEGORIES:Sunday
ATTACH;FMTTYPE=image/jpeg:https://trinityboardmills.org/wp-content/uploads/2022/11/SundayEV.jpg
GEO:54.466933365694;-5.9199475846608
END:VEVENT
BEGIN:VEVENT
DTSTART;TZID=UTC:20230430T114500
DTEND;TZID=UTC:20230430T123000
DTSTAMP:20260421T034335
CREATED:20221031T111350Z
LAST-MODIFIED:20241217T123139Z
UID:10007339-1682855100-1682857800@trinityboardmills.org
SUMMARY:Sunday CE & Creche
DESCRIPTION:
URL:https://trinityboardmills.org/event/sundayce/2023-04-30/
LOCATION:Kerr Room
CATEGORIES:Children
ATTACH;FMTTYPE=image/jpeg:https://trinityboardmills.org/wp-content/uploads/2022/11/SundayCEEV.jpg
END:VEVENT
BEGIN:VEVENT
DTSTART;TZID=UTC:20230503T193000
DTEND;TZID=UTC:20230503T210000
DTSTAMP:20260421T034335
CREATED:20230327T092135Z
LAST-MODIFIED:20230605T075823Z
UID:10006596-1683142200-1683147600@trinityboardmills.org
SUMMARY:Fellowship Groups (Wed)
DESCRIPTION:This session we will be studying Christianity Explored\, the first and third Wednesday of the month in Killaney Hall.
URL:https://trinityboardmills.org/event/fellowship-groups-wed-2-2/2023-05-03/
LOCATION:Killaney Hall
ATTACH;FMTTYPE=image/jpeg:https://trinityboardmills.org/wp-content/uploads/2022/11/FellowshipGroupEV.jpg
GEO:54.4662977;-5.9128505
END:VEVENT
BEGIN:VEVENT
DTSTART;TZID=UTC:20230504T103000
DTEND;TZID=UTC:20230504T113000
DTSTAMP:20260421T034335
CREATED:20221031T113005Z
LAST-MODIFIED:20230515T132001Z
UID:10004350-1683196200-1683199800@trinityboardmills.org
SUMMARY:Ladies Bible Study
DESCRIPTION:
URL:https://trinityboardmills.org/event/ladies-bible-study/2023-05-04/
LOCATION:Killaney Hall
CATEGORIES:Adults,Ladies
ATTACH;FMTTYPE=image/jpeg:https://trinityboardmills.org/wp-content/uploads/2022/11/LadiesBibleStudyEV.jpg
GEO:54.4662977;-5.9128505
END:VEVENT
BEGIN:VEVENT
DTSTART;TZID=UTC:20230504T193000
DTEND;TZID=UTC:20230504T210000
DTSTAMP:20260421T034335
CREATED:20230314T091659Z
LAST-MODIFIED:20230605T075645Z
UID:10006471-1683228600-1683234000@trinityboardmills.org
SUMMARY:Fellowship Groups (Thu)
DESCRIPTION:This session we will be studying Christianity Explored\, the first and third Thursday of the month at Colin and Trish Foreman’s home. \n  \nThere is also an online ladies group.
URL:https://trinityboardmills.org/event/fellowship-groups-thu-2-2/2023-05-04/
ATTACH;FMTTYPE=image/jpeg:https://trinityboardmills.org/wp-content/uploads/2022/11/FellowshipGroupsEV.jpg
END:VEVENT
BEGIN:VEVENT
DTSTART;TZID=UTC:20230507T101500
DTEND;TZID=UTC:20230507T110000
DTSTAMP:20260421T034335
CREATED:20221031T111059Z
LAST-MODIFIED:20230606T131505Z
UID:10001350-1683454500-1683457200@trinityboardmills.org
SUMMARY:Breakfast in The Book
DESCRIPTION:
URL:https://trinityboardmills.org/event/breakfast-in-the-book/2023-05-07/
LOCATION:Killaney Hall
CATEGORIES:Youth & Children
ATTACH;FMTTYPE=image/jpeg:https://trinityboardmills.org/wp-content/uploads/2022/11/BreakfastITBEV.jpg
GEO:54.4662977;-5.9128505
END:VEVENT
BEGIN:VEVENT
DTSTART;TZID=UTC:20230507T113000
DTEND;TZID=UTC:20230507T123000
DTSTAMP:20260421T034335
CREATED:20221031T111539Z
LAST-MODIFIED:20241217T123050Z
UID:10002923-1683459000-1683462600@trinityboardmills.org
SUMMARY:Morning Worship
DESCRIPTION:
URL:https://trinityboardmills.org/event/morning-service/2023-05-07/
LOCATION:Church Building\, BT27 6UP\, United Kingdom
CATEGORIES:Sunday
ATTACH;FMTTYPE=image/jpeg:https://trinityboardmills.org/wp-content/uploads/2022/11/SundayEV.jpg
GEO:54.466933365694;-5.9199475846608
END:VEVENT
BEGIN:VEVENT
DTSTART;TZID=UTC:20230507T114500
DTEND;TZID=UTC:20230507T123000
DTSTAMP:20260421T034335
CREATED:20221031T111350Z
LAST-MODIFIED:20241217T123139Z
UID:10007340-1683459900-1683462600@trinityboardmills.org
SUMMARY:Sunday CE & Creche
DESCRIPTION:
URL:https://trinityboardmills.org/event/sundayce/2023-05-07/
LOCATION:Kerr Room
CATEGORIES:Children
ATTACH;FMTTYPE=image/jpeg:https://trinityboardmills.org/wp-content/uploads/2022/11/SundayCEEV.jpg
END:VEVENT
BEGIN:VEVENT
DTSTART;TZID=UTC:20230510T193000
DTEND;TZID=UTC:20230510T203000
DTSTAMP:20260421T034335
CREATED:20221201T112437Z
LAST-MODIFIED:20230606T130129Z
UID:10006225-1683747000-1683750600@trinityboardmills.org
SUMMARY:Midweek
DESCRIPTION:
URL:https://trinityboardmills.org/event/midweek-2/2023-05-10/
LOCATION:McKee Hall\, BT27 6UP\, United Kingdom
CATEGORIES:Adults
ATTACH;FMTTYPE=image/jpeg:https://trinityboardmills.org/wp-content/uploads/2022/11/MidweekEV.jpg
GEO:54.466933365694;-5.9199475846608
END:VEVENT
BEGIN:VEVENT
DTSTART;TZID=UTC:20230514T101500
DTEND;TZID=UTC:20230514T110000
DTSTAMP:20260421T034335
CREATED:20221031T111059Z
LAST-MODIFIED:20230606T131505Z
UID:10001351-1684059300-1684062000@trinityboardmills.org
SUMMARY:Breakfast in The Book
DESCRIPTION:
URL:https://trinityboardmills.org/event/breakfast-in-the-book/2023-05-14/
LOCATION:Killaney Hall
CATEGORIES:Youth & Children
ATTACH;FMTTYPE=image/jpeg:https://trinityboardmills.org/wp-content/uploads/2022/11/BreakfastITBEV.jpg
GEO:54.4662977;-5.9128505
END:VEVENT
BEGIN:VEVENT
DTSTART;TZID=UTC:20230514T113000
DTEND;TZID=UTC:20230514T123000
DTSTAMP:20260421T034335
CREATED:20221031T111539Z
LAST-MODIFIED:20241217T123050Z
UID:10002924-1684063800-1684067400@trinityboardmills.org
SUMMARY:Morning Worship
DESCRIPTION:
URL:https://trinityboardmills.org/event/morning-service/2023-05-14/
LOCATION:Church Building\, BT27 6UP\, United Kingdom
CATEGORIES:Sunday
ATTACH;FMTTYPE=image/jpeg:https://trinityboardmills.org/wp-content/uploads/2022/11/SundayEV.jpg
GEO:54.466933365694;-5.9199475846608
END:VEVENT
BEGIN:VEVENT
DTSTART;TZID=UTC:20230514T114500
DTEND;TZID=UTC:20230514T123000
DTSTAMP:20260421T034335
CREATED:20221031T111350Z
LAST-MODIFIED:20241217T123139Z
UID:10007341-1684064700-1684067400@trinityboardmills.org
SUMMARY:Sunday CE & Creche
DESCRIPTION:
URL:https://trinityboardmills.org/event/sundayce/2023-05-14/
LOCATION:Kerr Room
CATEGORIES:Children
ATTACH;FMTTYPE=image/jpeg:https://trinityboardmills.org/wp-content/uploads/2022/11/SundayCEEV.jpg
END:VEVENT
BEGIN:VEVENT
DTSTART;TZID=UTC:20230517T193000
DTEND;TZID=UTC:20230517T210000
DTSTAMP:20260421T034335
CREATED:20230327T092135Z
LAST-MODIFIED:20230605T075823Z
UID:10006597-1684351800-1684357200@trinityboardmills.org
SUMMARY:Fellowship Groups (Wed)
DESCRIPTION:This session we will be studying Christianity Explored\, the first and third Wednesday of the month in Killaney Hall.
URL:https://trinityboardmills.org/event/fellowship-groups-wed-2-2/2023-05-17/
LOCATION:Killaney Hall
ATTACH;FMTTYPE=image/jpeg:https://trinityboardmills.org/wp-content/uploads/2022/11/FellowshipGroupEV.jpg
GEO:54.4662977;-5.9128505
END:VEVENT
BEGIN:VEVENT
DTSTART;TZID=UTC:20230518T193000
DTEND;TZID=UTC:20230518T210000
DTSTAMP:20260421T034335
CREATED:20230314T091659Z
LAST-MODIFIED:20230605T075645Z
UID:10006472-1684438200-1684443600@trinityboardmills.org
SUMMARY:Fellowship Groups (Thu)
DESCRIPTION:This session we will be studying Christianity Explored\, the first and third Thursday of the month at Colin and Trish Foreman’s home. \n  \nThere is also an online ladies group.
URL:https://trinityboardmills.org/event/fellowship-groups-thu-2-2/2023-05-18/
ATTACH;FMTTYPE=image/jpeg:https://trinityboardmills.org/wp-content/uploads/2022/11/FellowshipGroupsEV.jpg
END:VEVENT
BEGIN:VEVENT
DTSTART;TZID=UTC:20230521T101500
DTEND;TZID=UTC:20230521T110000
DTSTAMP:20260421T034335
CREATED:20221031T111059Z
LAST-MODIFIED:20230606T131505Z
UID:10001352-1684664100-1684666800@trinityboardmills.org
SUMMARY:Breakfast in The Book
DESCRIPTION:
URL:https://trinityboardmills.org/event/breakfast-in-the-book/2023-05-21/
LOCATION:Killaney Hall
CATEGORIES:Youth & Children
ATTACH;FMTTYPE=image/jpeg:https://trinityboardmills.org/wp-content/uploads/2022/11/BreakfastITBEV.jpg
GEO:54.4662977;-5.9128505
END:VEVENT
BEGIN:VEVENT
DTSTART;TZID=UTC:20230521T113000
DTEND;TZID=UTC:20230521T123000
DTSTAMP:20260421T034335
CREATED:20221031T111539Z
LAST-MODIFIED:20241217T123050Z
UID:10002925-1684668600-1684672200@trinityboardmills.org
SUMMARY:Morning Worship
DESCRIPTION:
URL:https://trinityboardmills.org/event/morning-service/2023-05-21/
LOCATION:Church Building\, BT27 6UP\, United Kingdom
CATEGORIES:Sunday
ATTACH;FMTTYPE=image/jpeg:https://trinityboardmills.org/wp-content/uploads/2022/11/SundayEV.jpg
GEO:54.466933365694;-5.9199475846608
END:VEVENT
BEGIN:VEVENT
DTSTART;TZID=UTC:20230521T114500
DTEND;TZID=UTC:20230521T123000
DTSTAMP:20260421T034335
CREATED:20221031T111350Z
LAST-MODIFIED:20241217T123139Z
UID:10007342-1684669500-1684672200@trinityboardmills.org
SUMMARY:Sunday CE & Creche
DESCRIPTION:
URL:https://trinityboardmills.org/event/sundayce/2023-05-21/
LOCATION:Kerr Room
CATEGORIES:Children
ATTACH;FMTTYPE=image/jpeg:https://trinityboardmills.org/wp-content/uploads/2022/11/SundayCEEV.jpg
END:VEVENT
BEGIN:VEVENT
DTSTART;TZID=UTC:20230524T193000
DTEND;TZID=UTC:20230524T203000
DTSTAMP:20260421T034335
CREATED:20221201T115131Z
LAST-MODIFIED:20230606T130026Z
UID:10005745-1684956600-1684960200@trinityboardmills.org
SUMMARY:Midweek
DESCRIPTION:
URL:https://trinityboardmills.org/event/midweek-3/2023-05-24/
ATTACH;FMTTYPE=image/jpeg:https://trinityboardmills.org/wp-content/uploads/2022/11/MidweekEV.jpg
END:VEVENT
BEGIN:VEVENT
DTSTART;TZID=UTC:20230528T101500
DTEND;TZID=UTC:20230528T110000
DTSTAMP:20260421T034335
CREATED:20221031T111059Z
LAST-MODIFIED:20230606T131505Z
UID:10001353-1685268900-1685271600@trinityboardmills.org
SUMMARY:Breakfast in The Book
DESCRIPTION:
URL:https://trinityboardmills.org/event/breakfast-in-the-book/2023-05-28/
LOCATION:Killaney Hall
CATEGORIES:Youth & Children
ATTACH;FMTTYPE=image/jpeg:https://trinityboardmills.org/wp-content/uploads/2022/11/BreakfastITBEV.jpg
GEO:54.4662977;-5.9128505
END:VEVENT
BEGIN:VEVENT
DTSTART;TZID=UTC:20230528T113000
DTEND;TZID=UTC:20230528T123000
DTSTAMP:20260421T034335
CREATED:20221031T111539Z
LAST-MODIFIED:20241217T123050Z
UID:10002926-1685273400-1685277000@trinityboardmills.org
SUMMARY:Morning Worship
DESCRIPTION:
URL:https://trinityboardmills.org/event/morning-service/2023-05-28/
LOCATION:Church Building\, BT27 6UP\, United Kingdom
CATEGORIES:Sunday
ATTACH;FMTTYPE=image/jpeg:https://trinityboardmills.org/wp-content/uploads/2022/11/SundayEV.jpg
GEO:54.466933365694;-5.9199475846608
END:VEVENT
END:VCALENDAR