BEGIN:VCALENDAR
VERSION:2.0
PRODID:-//Trinity Presbyterian - ECPv6.15.20//NONSGML v1.0//EN
CALSCALE:GREGORIAN
METHOD:PUBLISH
X-WR-CALNAME:Trinity Presbyterian
X-ORIGINAL-URL:https://trinityboardmills.org
X-WR-CALDESC:Events for Trinity Presbyterian
REFRESH-INTERVAL;VALUE=DURATION:PT1H
X-Robots-Tag:noindex
X-PUBLISHED-TTL:PT1H
BEGIN:VTIMEZONE
TZID:UTC
BEGIN:STANDARD
TZOFFSETFROM:+0000
TZOFFSETTO:+0000
TZNAME:UTC
DTSTART:20230101T000000
END:STANDARD
END:VTIMEZONE
BEGIN:VEVENT
DTSTART;TZID=UTC:20240806T190000
DTEND;TZID=UTC:20240806T210000
DTSTAMP:20260421T033046
CREATED:20240730T084326Z
LAST-MODIFIED:20240730T084723Z
UID:10010902-1722970800-1722978000@trinityboardmills.org
SUMMARY:Trinity Summer Camp - Teens
DESCRIPTION:This year we are BACK with a full programme for teens in the evening of our summer camp. Join us for 5 evenings of fun\, games and craic!! This event is open for all teens so grab a friend and come on down! \nhttps://trinityboardmills.org/tsc/
URL:https://trinityboardmills.org/event/trinity-summer-camp-teens/2024-08-06/
LOCATION:Killaney Hall
CATEGORIES:Featured,Youth & Children
ATTACH;FMTTYPE=image/jpeg:https://trinityboardmills.org/wp-content/uploads/2023/03/Pulse-web.jpg
GEO:54.4662977;-5.9128505
END:VEVENT
BEGIN:VEVENT
DTSTART;TZID=UTC:20240807T133000
DTEND;TZID=UTC:20240807T160000
DTSTAMP:20260421T033046
CREATED:20240730T083947Z
LAST-MODIFIED:20240730T084033Z
UID:10010893-1723037400-1723046400@trinityboardmills.org
SUMMARY:Trinity Summer Camp
DESCRIPTION:We are excited for a full week of fun\, games and stories at Trinity Summer Camp! This year during the day we are running our primary school aged programme\, all children must have completed P1. There will be football\, games\, craft and bible stories. \nhttps://trinityboardmills.org/tsc/
URL:https://trinityboardmills.org/event/trinity-summer-camp/2024-08-07/
LOCATION:Killaney Hall
CATEGORIES:Children,Featured,Youth & Children
ATTACH;FMTTYPE=image/jpeg:https://trinityboardmills.org/wp-content/uploads/2022/11/CrecheEV.jpg
GEO:54.4662977;-5.9128505
END:VEVENT
BEGIN:VEVENT
DTSTART;TZID=UTC:20240807T190000
DTEND;TZID=UTC:20240807T210000
DTSTAMP:20260421T033046
CREATED:20240730T084326Z
LAST-MODIFIED:20240730T084723Z
UID:10010903-1723057200-1723064400@trinityboardmills.org
SUMMARY:Trinity Summer Camp - Teens
DESCRIPTION:This year we are BACK with a full programme for teens in the evening of our summer camp. Join us for 5 evenings of fun\, games and craic!! This event is open for all teens so grab a friend and come on down! \nhttps://trinityboardmills.org/tsc/
URL:https://trinityboardmills.org/event/trinity-summer-camp-teens/2024-08-07/
LOCATION:Killaney Hall
CATEGORIES:Featured,Youth & Children
ATTACH;FMTTYPE=image/jpeg:https://trinityboardmills.org/wp-content/uploads/2023/03/Pulse-web.jpg
GEO:54.4662977;-5.9128505
END:VEVENT
BEGIN:VEVENT
DTSTART;TZID=UTC:20240808T133000
DTEND;TZID=UTC:20240808T160000
DTSTAMP:20260421T033046
CREATED:20240730T083947Z
LAST-MODIFIED:20240730T084033Z
UID:10010894-1723123800-1723132800@trinityboardmills.org
SUMMARY:Trinity Summer Camp
DESCRIPTION:We are excited for a full week of fun\, games and stories at Trinity Summer Camp! This year during the day we are running our primary school aged programme\, all children must have completed P1. There will be football\, games\, craft and bible stories. \nhttps://trinityboardmills.org/tsc/
URL:https://trinityboardmills.org/event/trinity-summer-camp/2024-08-08/
LOCATION:Killaney Hall
CATEGORIES:Children,Featured,Youth & Children
ATTACH;FMTTYPE=image/jpeg:https://trinityboardmills.org/wp-content/uploads/2022/11/CrecheEV.jpg
GEO:54.4662977;-5.9128505
END:VEVENT
BEGIN:VEVENT
DTSTART;TZID=UTC:20240808T190000
DTEND;TZID=UTC:20240808T210000
DTSTAMP:20260421T033046
CREATED:20240730T084326Z
LAST-MODIFIED:20240730T084723Z
UID:10010904-1723143600-1723150800@trinityboardmills.org
SUMMARY:Trinity Summer Camp - Teens
DESCRIPTION:This year we are BACK with a full programme for teens in the evening of our summer camp. Join us for 5 evenings of fun\, games and craic!! This event is open for all teens so grab a friend and come on down! \nhttps://trinityboardmills.org/tsc/
URL:https://trinityboardmills.org/event/trinity-summer-camp-teens/2024-08-08/
LOCATION:Killaney Hall
CATEGORIES:Featured,Youth & Children
ATTACH;FMTTYPE=image/jpeg:https://trinityboardmills.org/wp-content/uploads/2023/03/Pulse-web.jpg
GEO:54.4662977;-5.9128505
END:VEVENT
BEGIN:VEVENT
DTSTART;TZID=UTC:20240811T113000
DTEND;TZID=UTC:20240811T123000
DTSTAMP:20260421T033046
CREATED:20221031T111539Z
LAST-MODIFIED:20241217T123050Z
UID:10002989-1723375800-1723379400@trinityboardmills.org
SUMMARY:Morning Worship
DESCRIPTION:
URL:https://trinityboardmills.org/event/morning-service/2024-08-11/
LOCATION:Church Building\, BT27 6UP\, United Kingdom
CATEGORIES:Sunday
ATTACH;FMTTYPE=image/jpeg:https://trinityboardmills.org/wp-content/uploads/2022/11/SundayEV.jpg
GEO:54.466933365694;-5.9199475846608
END:VEVENT
BEGIN:VEVENT
DTSTART;TZID=UTC:20240811T114500
DTEND;TZID=UTC:20240811T123000
DTSTAMP:20260421T033046
CREATED:20221031T111350Z
LAST-MODIFIED:20241217T123139Z
UID:10007406-1723376700-1723379400@trinityboardmills.org
SUMMARY:Sunday CE & Creche
DESCRIPTION:
URL:https://trinityboardmills.org/event/sundayce/2024-08-11/
LOCATION:Kerr Room
CATEGORIES:Children
ATTACH;FMTTYPE=image/jpeg:https://trinityboardmills.org/wp-content/uploads/2022/11/SundayCEEV.jpg
END:VEVENT
BEGIN:VEVENT
DTSTART;TZID=UTC:20240818T113000
DTEND;TZID=UTC:20240818T123000
DTSTAMP:20260421T033046
CREATED:20221031T111539Z
LAST-MODIFIED:20241217T123050Z
UID:10002990-1723980600-1723984200@trinityboardmills.org
SUMMARY:Morning Worship
DESCRIPTION:
URL:https://trinityboardmills.org/event/morning-service/2024-08-18/
LOCATION:Church Building\, BT27 6UP\, United Kingdom
CATEGORIES:Sunday
ATTACH;FMTTYPE=image/jpeg:https://trinityboardmills.org/wp-content/uploads/2022/11/SundayEV.jpg
GEO:54.466933365694;-5.9199475846608
END:VEVENT
BEGIN:VEVENT
DTSTART;TZID=UTC:20240818T114500
DTEND;TZID=UTC:20240818T123000
DTSTAMP:20260421T033046
CREATED:20221031T111350Z
LAST-MODIFIED:20241217T123139Z
UID:10007407-1723981500-1723984200@trinityboardmills.org
SUMMARY:Sunday CE & Creche
DESCRIPTION:
URL:https://trinityboardmills.org/event/sundayce/2024-08-18/
LOCATION:Kerr Room
CATEGORIES:Children
ATTACH;FMTTYPE=image/jpeg:https://trinityboardmills.org/wp-content/uploads/2022/11/SundayCEEV.jpg
END:VEVENT
BEGIN:VEVENT
DTSTART;TZID=UTC:20240825T113000
DTEND;TZID=UTC:20240825T123000
DTSTAMP:20260421T033046
CREATED:20221031T111539Z
LAST-MODIFIED:20241217T123050Z
UID:10002991-1724585400-1724589000@trinityboardmills.org
SUMMARY:Morning Worship
DESCRIPTION:
URL:https://trinityboardmills.org/event/morning-service/2024-08-25/
LOCATION:Church Building\, BT27 6UP\, United Kingdom
CATEGORIES:Sunday
ATTACH;FMTTYPE=image/jpeg:https://trinityboardmills.org/wp-content/uploads/2022/11/SundayEV.jpg
GEO:54.466933365694;-5.9199475846608
END:VEVENT
BEGIN:VEVENT
DTSTART;TZID=UTC:20240825T114500
DTEND;TZID=UTC:20240825T123000
DTSTAMP:20260421T033046
CREATED:20221031T111350Z
LAST-MODIFIED:20241217T123139Z
UID:10007408-1724586300-1724589000@trinityboardmills.org
SUMMARY:Sunday CE & Creche
DESCRIPTION:
URL:https://trinityboardmills.org/event/sundayce/2024-08-25/
LOCATION:Kerr Room
CATEGORIES:Children
ATTACH;FMTTYPE=image/jpeg:https://trinityboardmills.org/wp-content/uploads/2022/11/SundayCEEV.jpg
END:VEVENT
BEGIN:VEVENT
DTSTART;TZID=UTC:20240901T113000
DTEND;TZID=UTC:20240901T123000
DTSTAMP:20260421T033046
CREATED:20221031T111539Z
LAST-MODIFIED:20241217T123050Z
UID:10002992-1725190200-1725193800@trinityboardmills.org
SUMMARY:Morning Worship
DESCRIPTION:
URL:https://trinityboardmills.org/event/morning-service/2024-09-01/
LOCATION:Church Building\, BT27 6UP\, United Kingdom
CATEGORIES:Sunday
ATTACH;FMTTYPE=image/jpeg:https://trinityboardmills.org/wp-content/uploads/2022/11/SundayEV.jpg
GEO:54.466933365694;-5.9199475846608
END:VEVENT
BEGIN:VEVENT
DTSTART;TZID=UTC:20240901T114500
DTEND;TZID=UTC:20240901T123000
DTSTAMP:20260421T033046
CREATED:20221031T111350Z
LAST-MODIFIED:20241217T123139Z
UID:10007409-1725191100-1725193800@trinityboardmills.org
SUMMARY:Sunday CE & Creche
DESCRIPTION:
URL:https://trinityboardmills.org/event/sundayce/2024-09-01/
LOCATION:Kerr Room
CATEGORIES:Children
ATTACH;FMTTYPE=image/jpeg:https://trinityboardmills.org/wp-content/uploads/2022/11/SundayCEEV.jpg
END:VEVENT
BEGIN:VEVENT
DTSTART;TZID=UTC:20240908T113000
DTEND;TZID=UTC:20240908T123000
DTSTAMP:20260421T033046
CREATED:20221031T111539Z
LAST-MODIFIED:20241217T123050Z
UID:10002993-1725795000-1725798600@trinityboardmills.org
SUMMARY:Morning Worship
DESCRIPTION:
URL:https://trinityboardmills.org/event/morning-service/2024-09-08/
LOCATION:Church Building\, BT27 6UP\, United Kingdom
CATEGORIES:Sunday
ATTACH;FMTTYPE=image/jpeg:https://trinityboardmills.org/wp-content/uploads/2022/11/SundayEV.jpg
GEO:54.466933365694;-5.9199475846608
END:VEVENT
BEGIN:VEVENT
DTSTART;TZID=UTC:20240908T114500
DTEND;TZID=UTC:20240908T123000
DTSTAMP:20260421T033046
CREATED:20221031T111350Z
LAST-MODIFIED:20241217T123139Z
UID:10007410-1725795900-1725798600@trinityboardmills.org
SUMMARY:Sunday CE & Creche
DESCRIPTION:
URL:https://trinityboardmills.org/event/sundayce/2024-09-08/
LOCATION:Kerr Room
CATEGORIES:Children
ATTACH;FMTTYPE=image/jpeg:https://trinityboardmills.org/wp-content/uploads/2022/11/SundayCEEV.jpg
END:VEVENT
BEGIN:VEVENT
DTSTART;TZID=UTC:20240908T183000
DTEND;TZID=UTC:20240908T191500
DTSTAMP:20260421T033046
CREATED:20240903T080905Z
LAST-MODIFIED:20260405T092003Z
UID:10009216-1725820200-1725822900@trinityboardmills.org
SUMMARY:Evening Service
DESCRIPTION:
URL:https://trinityboardmills.org/event/evening-service-2/2024-09-08/
LOCATION:Church Building\, BT27 6UP\, United Kingdom
CATEGORIES:Sunday
ATTACH;FMTTYPE=image/jpeg:https://trinityboardmills.org/wp-content/uploads/2022/11/EveningServiceEV.jpg
GEO:54.466933365694;-5.9199475846608
END:VEVENT
BEGIN:VEVENT
DTSTART;TZID=UTC:20240909T100000
DTEND;TZID=UTC:20240909T111500
DTSTAMP:20260421T033046
CREATED:20240904T081530Z
LAST-MODIFIED:20240906T122055Z
UID:10006992-1725876000-1725880500@trinityboardmills.org
SUMMARY:Trinity Tots
DESCRIPTION:
URL:https://trinityboardmills.org/event/trinity-tots-2-2/2024-09-09/
LOCATION:Killaney Hall
CATEGORIES:Trinity Tots Featured
ATTACH;FMTTYPE=image/jpeg:https://trinityboardmills.org/wp-content/uploads/2022/11/CrecheEV.jpg
GEO:54.4662977;-5.9128505
END:VEVENT
BEGIN:VEVENT
DTSTART;TZID=UTC:20240912T103000
DTEND;TZID=UTC:20240912T113000
DTSTAMP:20260421T033046
CREATED:20230911T123435Z
LAST-MODIFIED:20260326T081458Z
UID:10004351-1726137000-1726140600@trinityboardmills.org
SUMMARY:Ladies Bible Study
DESCRIPTION:
URL:https://trinityboardmills.org/event/ladies-bible-study-2/2024-09-12/
LOCATION:Killaney Hall
CATEGORIES:Adults,Ladies
ATTACH;FMTTYPE=image/jpeg:https://trinityboardmills.org/wp-content/uploads/2022/11/LadiesBibleStudyEV.jpg
GEO:54.4662977;-5.9128505
END:VEVENT
BEGIN:VEVENT
DTSTART;TZID=UTC:20240912T193000
DTEND;TZID=UTC:20240912T210000
DTSTAMP:20260421T033046
CREATED:20240906T102300Z
LAST-MODIFIED:20240906T121818Z
UID:10013948-1726169400-1726174800@trinityboardmills.org
SUMMARY:Trinity Women - Getting to Know You
DESCRIPTION:Join us for our opening night as we take time to get to know one another better over a cuppa and scone. \nOpen to ladies of all ages from our church family and community.
URL:https://trinityboardmills.org/event/trinity-women-getting-to-know-you/
LOCATION:McKee Hall\, BT27 6UP\, United Kingdom
CATEGORIES:Adults,Ladies
ATTACH;FMTTYPE=image/jpeg:https://trinityboardmills.org/wp-content/uploads/2022/11/TrinityWomenBanner.jpg
GEO:54.466933365694;-5.9199475846608
END:VEVENT
BEGIN:VEVENT
DTSTART;TZID=UTC:20240915T113000
DTEND;TZID=UTC:20240915T123000
DTSTAMP:20260421T033046
CREATED:20221031T111539Z
LAST-MODIFIED:20241217T123050Z
UID:10002994-1726399800-1726403400@trinityboardmills.org
SUMMARY:Morning Worship
DESCRIPTION:
URL:https://trinityboardmills.org/event/morning-service/2024-09-15/
LOCATION:Church Building\, BT27 6UP\, United Kingdom
CATEGORIES:Sunday
ATTACH;FMTTYPE=image/jpeg:https://trinityboardmills.org/wp-content/uploads/2022/11/SundayEV.jpg
GEO:54.466933365694;-5.9199475846608
END:VEVENT
BEGIN:VEVENT
DTSTART;TZID=UTC:20240915T114500
DTEND;TZID=UTC:20240915T123000
DTSTAMP:20260421T033046
CREATED:20221031T111350Z
LAST-MODIFIED:20241217T123139Z
UID:10007411-1726400700-1726403400@trinityboardmills.org
SUMMARY:Sunday CE & Creche
DESCRIPTION:
URL:https://trinityboardmills.org/event/sundayce/2024-09-15/
LOCATION:Kerr Room
CATEGORIES:Children
ATTACH;FMTTYPE=image/jpeg:https://trinityboardmills.org/wp-content/uploads/2022/11/SundayCEEV.jpg
END:VEVENT
BEGIN:VEVENT
DTSTART;TZID=UTC:20240915T183000
DTEND;TZID=UTC:20240915T191500
DTSTAMP:20260421T033046
CREATED:20240903T080905Z
LAST-MODIFIED:20260405T092003Z
UID:10018902-1726425000-1726427700@trinityboardmills.org
SUMMARY:Evening Service
DESCRIPTION:
URL:https://trinityboardmills.org/event/evening-service-2/2024-09-15/
LOCATION:Church Building\, BT27 6UP\, United Kingdom
CATEGORIES:Sunday
ATTACH;FMTTYPE=image/jpeg:https://trinityboardmills.org/wp-content/uploads/2022/11/EveningServiceEV.jpg
GEO:54.466933365694;-5.9199475846608
END:VEVENT
BEGIN:VEVENT
DTSTART;TZID=UTC:20240916T080000
DTEND;TZID=UTC:20240916T170000
DTSTAMP:20260421T033046
CREATED:20240903T131449Z
LAST-MODIFIED:20250217T125159Z
UID:10014026-1726473600-1726506000@trinityboardmills.org
SUMMARY:BB Company Section
DESCRIPTION:
URL:https://trinityboardmills.org/event/bb-company-section-2-2/2024-09-16/1/
LOCATION:Killaney Hall
CATEGORIES:BB Featured,Youth & Children
ATTACH;FMTTYPE=image/jpeg:https://trinityboardmills.org/wp-content/uploads/2022/10/BBCompanyEV.jpg
GEO:54.4662977;-5.9128505
END:VEVENT
BEGIN:VEVENT
DTSTART;TZID=UTC:20240916T100000
DTEND;TZID=UTC:20240916T111500
DTSTAMP:20260421T033046
CREATED:20240904T081530Z
LAST-MODIFIED:20240906T122055Z
UID:10013299-1726480800-1726485300@trinityboardmills.org
SUMMARY:Trinity Tots
DESCRIPTION:
URL:https://trinityboardmills.org/event/trinity-tots-2-2/2024-09-16/
LOCATION:Killaney Hall
CATEGORIES:Trinity Tots Featured
ATTACH;FMTTYPE=image/jpeg:https://trinityboardmills.org/wp-content/uploads/2022/11/CrecheEV.jpg
GEO:54.4662977;-5.9128505
END:VEVENT
BEGIN:VEVENT
DTSTART;TZID=UTC:20240916T180000
DTEND;TZID=UTC:20240916T190000
DTSTAMP:20260421T033046
CREATED:20240903T132710Z
LAST-MODIFIED:20250217T125306Z
UID:10008423-1726509600-1726513200@trinityboardmills.org
SUMMARY:GB Explorers
DESCRIPTION:
URL:https://trinityboardmills.org/event/gb-explorers-2-2/2024-09-16/
LOCATION:McKee Hall\, BT27 6UP\, United Kingdom
CATEGORIES:GB Featured,Youth & Children
ATTACH;FMTTYPE=image/jpeg:https://trinityboardmills.org/wp-content/uploads/2022/11/GBJuniorEV.jpg
GEO:54.466933365694;-5.9199475846608
END:VEVENT
BEGIN:VEVENT
DTSTART;TZID=UTC:20240916T180000
DTEND;TZID=UTC:20240916T191500
DTSTAMP:20260421T033046
CREATED:20240903T131246Z
LAST-MODIFIED:20250217T125042Z
UID:10007645-1726509600-1726514100@trinityboardmills.org
SUMMARY:BB Anchor Boys
DESCRIPTION:
URL:https://trinityboardmills.org/event/bb-anchor-boys-2-2/2024-09-16/
LOCATION:Killaney Hall
CATEGORIES:BB Featured,Youth & Children
ATTACH;FMTTYPE=image/jpeg:https://trinityboardmills.org/wp-content/uploads/2022/11/BBExpEV.jpg
GEO:54.4662977;-5.9128505
END:VEVENT
BEGIN:VEVENT
DTSTART;TZID=UTC:20240916T190000
DTEND;TZID=UTC:20240916T203000
DTSTAMP:20260421T033046
CREATED:20240903T131641Z
LAST-MODIFIED:20250217T125134Z
UID:10008164-1726513200-1726518600@trinityboardmills.org
SUMMARY:BB Junior Section
DESCRIPTION:
URL:https://trinityboardmills.org/event/bb-junior-section-2-2/2024-09-16/
LOCATION:Killaney Hall
CATEGORIES:BB Featured,Youth & Children
ATTACH;FMTTYPE=image/jpeg:https://trinityboardmills.org/wp-content/uploads/2022/11/BBSQEV.jpg
GEO:54.4662977;-5.9128505
END:VEVENT
BEGIN:VEVENT
DTSTART;TZID=UTC:20240916T191500
DTEND;TZID=UTC:20240916T203000
DTSTAMP:20260421T033046
CREATED:20240903T132339Z
LAST-MODIFIED:20260208T221141Z
UID:10012229-1726514100-1726518600@trinityboardmills.org
SUMMARY:GB Junior Section
DESCRIPTION:
URL:https://trinityboardmills.org/event/gb-junior-section/2024-09-16/
LOCATION:McKee Hall\, BT27 6UP\, United Kingdom
CATEGORIES:GB Featured,Youth & Children
ATTACH;FMTTYPE=image/jpeg:https://trinityboardmills.org/wp-content/uploads/2022/11/GBCompEV.jpg
GEO:54.466933365694;-5.9199475846608
END:VEVENT
BEGIN:VEVENT
DTSTART;TZID=UTC:20240916T191500
DTEND;TZID=UTC:20240916T204500
DTSTAMP:20260421T033046
CREATED:20240903T132207Z
LAST-MODIFIED:20250217T125436Z
UID:10008939-1726514100-1726519500@trinityboardmills.org
SUMMARY:GB Company Section
DESCRIPTION:
URL:https://trinityboardmills.org/event/gb-company-section-2-2/2024-09-16/
LOCATION:McKee Hall\, BT27 6UP\, United Kingdom
CATEGORIES:GB Featured,Youth & Children
ATTACH;FMTTYPE=image/jpeg:https://trinityboardmills.org/wp-content/uploads/2022/11/GBCompEV.jpg
GEO:54.466933365694;-5.9199475846608
END:VEVENT
BEGIN:VEVENT
DTSTART;TZID=UTC:20240916T191500
DTEND;TZID=UTC:20240916T210000
DTSTAMP:20260421T033046
CREATED:20240903T131449Z
LAST-MODIFIED:20250217T125159Z
UID:10007904-1726514100-1726520400@trinityboardmills.org
SUMMARY:BB Company Section
DESCRIPTION:
URL:https://trinityboardmills.org/event/bb-company-section-2-2/2024-09-16/2/
LOCATION:Killaney Hall
CATEGORIES:BB Featured,Youth & Children
ATTACH;FMTTYPE=image/jpeg:https://trinityboardmills.org/wp-content/uploads/2022/10/BBCompanyEV.jpg
GEO:54.4662977;-5.9128505
END:VEVENT
END:VCALENDAR