BEGIN:VCALENDAR
VERSION:2.0
PRODID:-//Trinity Presbyterian - ECPv6.15.20//NONSGML v1.0//EN
CALSCALE:GREGORIAN
METHOD:PUBLISH
X-WR-CALNAME:Trinity Presbyterian
X-ORIGINAL-URL:https://trinityboardmills.org
X-WR-CALDESC:Events for Trinity Presbyterian
REFRESH-INTERVAL;VALUE=DURATION:PT1H
X-Robots-Tag:noindex
X-PUBLISHED-TTL:PT1H
BEGIN:VTIMEZONE
TZID:UTC
BEGIN:STANDARD
TZOFFSETFROM:+0000
TZOFFSETTO:+0000
TZNAME:UTC
DTSTART:20240101T000000
END:STANDARD
END:VTIMEZONE
BEGIN:VEVENT
DTSTART;TZID=UTC:20250518T193000
DTEND;TZID=UTC:20250518T210000
DTSTAMP:20260420T220700
CREATED:20250207T135619Z
LAST-MODIFIED:20250207T135648Z
UID:10015032-1747596600-1747602000@trinityboardmills.org
SUMMARY:Youth Fellowship
DESCRIPTION:
URL:https://trinityboardmills.org/event/youth-fellowship-5-2/2025-05-18/
LOCATION:McKee Hall\, BT27 6UP\, United Kingdom
CATEGORIES:YF Featured
ATTACH;FMTTYPE=image/jpeg:https://trinityboardmills.org/wp-content/uploads/2022/11/BreakfastITBEV.jpg
GEO:54.466933365694;-5.9199475846608
END:VEVENT
BEGIN:VEVENT
DTSTART;TZID=UTC:20250519T100000
DTEND;TZID=UTC:20250519T111500
DTSTAMP:20260420T220700
CREATED:20241211T083050Z
LAST-MODIFIED:20250820T094703Z
UID:10017050-1747648800-1747653300@trinityboardmills.org
SUMMARY:Trinity Tots
DESCRIPTION:
URL:https://trinityboardmills.org/event/trinity-tots-2-2-2/2025-05-19/
LOCATION:Killaney Hall
CATEGORIES:Trinity Tots Featured
ATTACH;FMTTYPE=image/jpeg:https://trinityboardmills.org/wp-content/uploads/2022/11/CrecheEV.jpg
GEO:54.4662977;-5.9128505
END:VEVENT
BEGIN:VEVENT
DTSTART;TZID=UTC:20250519T190000
DTEND;TZID=UTC:20250519T200000
DTSTAMP:20260420T220700
CREATED:20250518T081603Z
LAST-MODIFIED:20250820T084234Z
UID:10010889-1747681200-1747684800@trinityboardmills.org
SUMMARY:Summer Walking Group
DESCRIPTION:This is open to all and it will be happening on every Monday evening commencing 19th May and should take around an hour. Set your own pace of course – and do as much or as little as you wish. Come along\, enjoy the walk and the chat!
URL:https://trinityboardmills.org/event/summer-walking-group-2/2025-05-19/
LOCATION:McKee Hall\, BT27 6UP\, United Kingdom
ATTACH;FMTTYPE=image/png:https://trinityboardmills.org/wp-content/uploads/2022/10/boxAsset-3.png
GEO:54.466933365694;-5.9199475846608
END:VEVENT
BEGIN:VEVENT
DTSTART;TZID=UTC:20250521T193000
DTEND;TZID=UTC:20250521T210000
DTSTAMP:20260420T220700
CREATED:20250207T124106Z
LAST-MODIFIED:20250529T194224Z
UID:10014998-1747855800-1747861200@trinityboardmills.org
SUMMARY:Fellowship Groups (Wed)
DESCRIPTION:This session we will be studying Acts 1-12\, the first and third Wednesday of the month in Killaney Hall.
URL:https://trinityboardmills.org/event/fellowship-groups-wed-3-3/2025-05-21/
LOCATION:Killaney Hall
CATEGORIES:Fellowship Groups Featured
ATTACH;FMTTYPE=image/jpeg:https://trinityboardmills.org/wp-content/uploads/2022/11/FellowshipGroupEV.jpg
GEO:54.4662977;-5.9128505
END:VEVENT
BEGIN:VEVENT
DTSTART;TZID=UTC:20250522T193000
DTEND;TZID=UTC:20250522T210000
DTSTAMP:20260420T220700
CREATED:20250207T124243Z
LAST-MODIFIED:20250529T194257Z
UID:10014969-1747942200-1747947600@trinityboardmills.org
SUMMARY:Fellowship Groups (Thu)
DESCRIPTION:This session we will be studying Acts 1-12\, the first and third Thursday of the month at Colin and Trish Foreman’s home.
URL:https://trinityboardmills.org/event/fellowship-groups-thu-3-2-2-3/2025-05-22/
CATEGORIES:Fellowship Groups Featured
ATTACH;FMTTYPE=image/jpeg:https://trinityboardmills.org/wp-content/uploads/2022/11/FellowshipGroupsEV.jpg
END:VEVENT
BEGIN:VEVENT
DTSTART;TZID=UTC:20250525T113000
DTEND;TZID=UTC:20250525T123000
DTSTAMP:20260420T220700
CREATED:20221031T111539Z
LAST-MODIFIED:20241217T123050Z
UID:10003030-1748172600-1748176200@trinityboardmills.org
SUMMARY:Morning Worship
DESCRIPTION:
URL:https://trinityboardmills.org/event/morning-service/2025-05-25/
LOCATION:Church Building\, BT27 6UP\, United Kingdom
CATEGORIES:Sunday
ATTACH;FMTTYPE=image/jpeg:https://trinityboardmills.org/wp-content/uploads/2022/11/SundayEV.jpg
GEO:54.466933365694;-5.9199475846608
END:VEVENT
BEGIN:VEVENT
DTSTART;TZID=UTC:20250525T114500
DTEND;TZID=UTC:20250525T123000
DTSTAMP:20260420T220700
CREATED:20221031T111350Z
LAST-MODIFIED:20241217T123139Z
UID:10007447-1748173500-1748176200@trinityboardmills.org
SUMMARY:Sunday CE & Creche
DESCRIPTION:
URL:https://trinityboardmills.org/event/sundayce/2025-05-25/
LOCATION:Kerr Room
CATEGORIES:Children
ATTACH;FMTTYPE=image/jpeg:https://trinityboardmills.org/wp-content/uploads/2022/11/SundayCEEV.jpg
END:VEVENT
BEGIN:VEVENT
DTSTART;TZID=UTC:20250525T183000
DTEND;TZID=UTC:20250525T191500
DTSTAMP:20260420T220700
CREATED:20240903T080905Z
LAST-MODIFIED:20260405T092003Z
UID:10018935-1748197800-1748200500@trinityboardmills.org
SUMMARY:Evening Service
DESCRIPTION:
URL:https://trinityboardmills.org/event/evening-service-2/2025-05-25/
LOCATION:Church Building\, BT27 6UP\, United Kingdom
CATEGORIES:Sunday
ATTACH;FMTTYPE=image/jpeg:https://trinityboardmills.org/wp-content/uploads/2022/11/EveningServiceEV.jpg
GEO:54.466933365694;-5.9199475846608
END:VEVENT
BEGIN:VEVENT
DTSTART;TZID=UTC:20250525T193000
DTEND;TZID=UTC:20250525T210000
DTSTAMP:20260420T220700
CREATED:20250207T135058Z
LAST-MODIFIED:20250529T194437Z
UID:10015029-1748201400-1748206800@trinityboardmills.org
SUMMARY:Youth Fellowship (Fellowship Group format)
DESCRIPTION:
URL:https://trinityboardmills.org/event/youth-fellowship-fellowship-group-format-2-3/2025-05-25/
LOCATION:McKee Hall\, BT27 6UP\, United Kingdom
CATEGORIES:YF Featured
ATTACH;FMTTYPE=image/jpeg:https://trinityboardmills.org/wp-content/uploads/2022/11/BreakfastITBEV.jpg
GEO:54.466933365694;-5.9199475846608
END:VEVENT
BEGIN:VEVENT
DTSTART;TZID=UTC:20250526T100000
DTEND;TZID=UTC:20250526T111500
DTSTAMP:20260420T220700
CREATED:20241211T083050Z
LAST-MODIFIED:20250820T094703Z
UID:10017051-1748253600-1748258100@trinityboardmills.org
SUMMARY:Trinity Tots
DESCRIPTION:
URL:https://trinityboardmills.org/event/trinity-tots-2-2-2/2025-05-26/
LOCATION:Killaney Hall
CATEGORIES:Trinity Tots Featured
ATTACH;FMTTYPE=image/jpeg:https://trinityboardmills.org/wp-content/uploads/2022/11/CrecheEV.jpg
GEO:54.4662977;-5.9128505
END:VEVENT
BEGIN:VEVENT
DTSTART;TZID=UTC:20250526T190000
DTEND;TZID=UTC:20250526T200000
DTSTAMP:20260420T220700
CREATED:20250518T081603Z
LAST-MODIFIED:20250820T084234Z
UID:10015089-1748286000-1748289600@trinityboardmills.org
SUMMARY:Summer Walking Group
DESCRIPTION:This is open to all and it will be happening on every Monday evening commencing 19th May and should take around an hour. Set your own pace of course – and do as much or as little as you wish. Come along\, enjoy the walk and the chat!
URL:https://trinityboardmills.org/event/summer-walking-group-2/2025-05-26/
LOCATION:McKee Hall\, BT27 6UP\, United Kingdom
ATTACH;FMTTYPE=image/png:https://trinityboardmills.org/wp-content/uploads/2022/10/boxAsset-3.png
GEO:54.466933365694;-5.9199475846608
END:VEVENT
BEGIN:VEVENT
DTSTART;TZID=UTC:20250529T103000
DTEND;TZID=UTC:20250529T113000
DTSTAMP:20260420T220700
CREATED:20230911T123435Z
LAST-MODIFIED:20260326T081458Z
UID:10017892-1748514600-1748518200@trinityboardmills.org
SUMMARY:Ladies Bible Study
DESCRIPTION:
URL:https://trinityboardmills.org/event/ladies-bible-study-2/2025-05-29/
LOCATION:Killaney Hall
CATEGORIES:Adults,Ladies
ATTACH;FMTTYPE=image/jpeg:https://trinityboardmills.org/wp-content/uploads/2022/11/LadiesBibleStudyEV.jpg
GEO:54.4662977;-5.9128505
END:VEVENT
BEGIN:VEVENT
DTSTART;TZID=UTC:20250601T113000
DTEND;TZID=UTC:20250601T123000
DTSTAMP:20260420T220700
CREATED:20221031T111539Z
LAST-MODIFIED:20241217T123050Z
UID:10003031-1748777400-1748781000@trinityboardmills.org
SUMMARY:Morning Worship
DESCRIPTION:
URL:https://trinityboardmills.org/event/morning-service/2025-06-01/
LOCATION:Church Building\, BT27 6UP\, United Kingdom
CATEGORIES:Sunday
ATTACH;FMTTYPE=image/jpeg:https://trinityboardmills.org/wp-content/uploads/2022/11/SundayEV.jpg
GEO:54.466933365694;-5.9199475846608
END:VEVENT
BEGIN:VEVENT
DTSTART;TZID=UTC:20250601T114500
DTEND;TZID=UTC:20250601T123000
DTSTAMP:20260420T220700
CREATED:20221031T111350Z
LAST-MODIFIED:20241217T123139Z
UID:10007448-1748778300-1748781000@trinityboardmills.org
SUMMARY:Sunday CE & Creche
DESCRIPTION:
URL:https://trinityboardmills.org/event/sundayce/2025-06-01/
LOCATION:Kerr Room
CATEGORIES:Children
ATTACH;FMTTYPE=image/jpeg:https://trinityboardmills.org/wp-content/uploads/2022/11/SundayCEEV.jpg
END:VEVENT
BEGIN:VEVENT
DTSTART;TZID=UTC:20250601T183000
DTEND;TZID=UTC:20250601T191500
DTSTAMP:20260420T220700
CREATED:20240903T080905Z
LAST-MODIFIED:20260405T092003Z
UID:10018936-1748802600-1748805300@trinityboardmills.org
SUMMARY:Evening Service
DESCRIPTION:
URL:https://trinityboardmills.org/event/evening-service-2/2025-06-01/
LOCATION:Church Building\, BT27 6UP\, United Kingdom
CATEGORIES:Sunday
ATTACH;FMTTYPE=image/jpeg:https://trinityboardmills.org/wp-content/uploads/2022/11/EveningServiceEV.jpg
GEO:54.466933365694;-5.9199475846608
END:VEVENT
BEGIN:VEVENT
DTSTART;TZID=UTC:20250601T193000
DTEND;TZID=UTC:20250601T210000
DTSTAMP:20260420T220700
CREATED:20250207T135619Z
LAST-MODIFIED:20250207T135648Z
UID:10015033-1748806200-1748811600@trinityboardmills.org
SUMMARY:Youth Fellowship
DESCRIPTION:
URL:https://trinityboardmills.org/event/youth-fellowship-5-2/2025-06-01/
LOCATION:McKee Hall\, BT27 6UP\, United Kingdom
CATEGORIES:YF Featured
ATTACH;FMTTYPE=image/jpeg:https://trinityboardmills.org/wp-content/uploads/2022/11/BreakfastITBEV.jpg
GEO:54.466933365694;-5.9199475846608
END:VEVENT
BEGIN:VEVENT
DTSTART;TZID=UTC:20250602T100000
DTEND;TZID=UTC:20250602T111500
DTSTAMP:20260420T220700
CREATED:20241211T083050Z
LAST-MODIFIED:20250820T094703Z
UID:10017052-1748858400-1748862900@trinityboardmills.org
SUMMARY:Trinity Tots
DESCRIPTION:
URL:https://trinityboardmills.org/event/trinity-tots-2-2-2/2025-06-02/
LOCATION:Killaney Hall
CATEGORIES:Trinity Tots Featured
ATTACH;FMTTYPE=image/jpeg:https://trinityboardmills.org/wp-content/uploads/2022/11/CrecheEV.jpg
GEO:54.4662977;-5.9128505
END:VEVENT
BEGIN:VEVENT
DTSTART;TZID=UTC:20250602T190000
DTEND;TZID=UTC:20250602T200000
DTSTAMP:20260420T220700
CREATED:20250518T081603Z
LAST-MODIFIED:20250820T084234Z
UID:10015090-1748890800-1748894400@trinityboardmills.org
SUMMARY:Summer Walking Group
DESCRIPTION:This is open to all and it will be happening on every Monday evening commencing 19th May and should take around an hour. Set your own pace of course – and do as much or as little as you wish. Come along\, enjoy the walk and the chat!
URL:https://trinityboardmills.org/event/summer-walking-group-2/2025-06-02/
LOCATION:McKee Hall\, BT27 6UP\, United Kingdom
ATTACH;FMTTYPE=image/png:https://trinityboardmills.org/wp-content/uploads/2022/10/boxAsset-3.png
GEO:54.466933365694;-5.9199475846608
END:VEVENT
BEGIN:VEVENT
DTSTART;TZID=UTC:20250608T113000
DTEND;TZID=UTC:20250608T123000
DTSTAMP:20260420T220700
CREATED:20221031T111539Z
LAST-MODIFIED:20241217T123050Z
UID:10003032-1749382200-1749385800@trinityboardmills.org
SUMMARY:Morning Worship
DESCRIPTION:
URL:https://trinityboardmills.org/event/morning-service/2025-06-08/
LOCATION:Church Building\, BT27 6UP\, United Kingdom
CATEGORIES:Sunday
ATTACH;FMTTYPE=image/jpeg:https://trinityboardmills.org/wp-content/uploads/2022/11/SundayEV.jpg
GEO:54.466933365694;-5.9199475846608
END:VEVENT
BEGIN:VEVENT
DTSTART;TZID=UTC:20250608T114500
DTEND;TZID=UTC:20250608T123000
DTSTAMP:20260420T220700
CREATED:20221031T111350Z
LAST-MODIFIED:20241217T123139Z
UID:10007449-1749383100-1749385800@trinityboardmills.org
SUMMARY:Sunday CE & Creche
DESCRIPTION:
URL:https://trinityboardmills.org/event/sundayce/2025-06-08/
LOCATION:Kerr Room
CATEGORIES:Children
ATTACH;FMTTYPE=image/jpeg:https://trinityboardmills.org/wp-content/uploads/2022/11/SundayCEEV.jpg
END:VEVENT
BEGIN:VEVENT
DTSTART;TZID=UTC:20250608T183000
DTEND;TZID=UTC:20250608T191500
DTSTAMP:20260420T220700
CREATED:20240903T080905Z
LAST-MODIFIED:20260405T092003Z
UID:10018937-1749407400-1749410100@trinityboardmills.org
SUMMARY:Evening Service
DESCRIPTION:
URL:https://trinityboardmills.org/event/evening-service-2/2025-06-08/
LOCATION:Church Building\, BT27 6UP\, United Kingdom
CATEGORIES:Sunday
ATTACH;FMTTYPE=image/jpeg:https://trinityboardmills.org/wp-content/uploads/2022/11/EveningServiceEV.jpg
GEO:54.466933365694;-5.9199475846608
END:VEVENT
BEGIN:VEVENT
DTSTART;TZID=UTC:20250609T100000
DTEND;TZID=UTC:20250609T111500
DTSTAMP:20260420T220700
CREATED:20241211T083050Z
LAST-MODIFIED:20250820T094703Z
UID:10017053-1749463200-1749467700@trinityboardmills.org
SUMMARY:Trinity Tots
DESCRIPTION:
URL:https://trinityboardmills.org/event/trinity-tots-2-2-2/2025-06-09/
LOCATION:Killaney Hall
CATEGORIES:Trinity Tots Featured
ATTACH;FMTTYPE=image/jpeg:https://trinityboardmills.org/wp-content/uploads/2022/11/CrecheEV.jpg
GEO:54.4662977;-5.9128505
END:VEVENT
BEGIN:VEVENT
DTSTART;TZID=UTC:20250609T190000
DTEND;TZID=UTC:20250609T200000
DTSTAMP:20260420T220700
CREATED:20250518T081603Z
LAST-MODIFIED:20250820T084234Z
UID:10015091-1749495600-1749499200@trinityboardmills.org
SUMMARY:Summer Walking Group
DESCRIPTION:This is open to all and it will be happening on every Monday evening commencing 19th May and should take around an hour. Set your own pace of course – and do as much or as little as you wish. Come along\, enjoy the walk and the chat!
URL:https://trinityboardmills.org/event/summer-walking-group-2/2025-06-09/
LOCATION:McKee Hall\, BT27 6UP\, United Kingdom
ATTACH;FMTTYPE=image/png:https://trinityboardmills.org/wp-content/uploads/2022/10/boxAsset-3.png
GEO:54.466933365694;-5.9199475846608
END:VEVENT
BEGIN:VEVENT
DTSTART;TZID=UTC:20250612T103000
DTEND;TZID=UTC:20250612T113000
DTSTAMP:20260420T220700
CREATED:20230911T123435Z
LAST-MODIFIED:20260326T081458Z
UID:10017893-1749724200-1749727800@trinityboardmills.org
SUMMARY:Ladies Bible Study
DESCRIPTION:
URL:https://trinityboardmills.org/event/ladies-bible-study-2/2025-06-12/
LOCATION:Killaney Hall
CATEGORIES:Adults,Ladies
ATTACH;FMTTYPE=image/jpeg:https://trinityboardmills.org/wp-content/uploads/2022/11/LadiesBibleStudyEV.jpg
GEO:54.4662977;-5.9128505
END:VEVENT
BEGIN:VEVENT
DTSTART;TZID=UTC:20250615T113000
DTEND;TZID=UTC:20250615T123000
DTSTAMP:20260420T220700
CREATED:20221031T111539Z
LAST-MODIFIED:20241217T123050Z
UID:10003033-1749987000-1749990600@trinityboardmills.org
SUMMARY:Morning Worship
DESCRIPTION:
URL:https://trinityboardmills.org/event/morning-service/2025-06-15/
LOCATION:Church Building\, BT27 6UP\, United Kingdom
CATEGORIES:Sunday
ATTACH;FMTTYPE=image/jpeg:https://trinityboardmills.org/wp-content/uploads/2022/11/SundayEV.jpg
GEO:54.466933365694;-5.9199475846608
END:VEVENT
BEGIN:VEVENT
DTSTART;TZID=UTC:20250615T114500
DTEND;TZID=UTC:20250615T123000
DTSTAMP:20260420T220700
CREATED:20221031T111350Z
LAST-MODIFIED:20241217T123139Z
UID:10007450-1749987900-1749990600@trinityboardmills.org
SUMMARY:Sunday CE & Creche
DESCRIPTION:
URL:https://trinityboardmills.org/event/sundayce/2025-06-15/
LOCATION:Kerr Room
CATEGORIES:Children
ATTACH;FMTTYPE=image/jpeg:https://trinityboardmills.org/wp-content/uploads/2022/11/SundayCEEV.jpg
END:VEVENT
BEGIN:VEVENT
DTSTART;TZID=UTC:20250615T183000
DTEND;TZID=UTC:20250615T191500
DTSTAMP:20260420T220700
CREATED:20240903T080905Z
LAST-MODIFIED:20260405T092003Z
UID:10018938-1750012200-1750014900@trinityboardmills.org
SUMMARY:Evening Service
DESCRIPTION:
URL:https://trinityboardmills.org/event/evening-service-2/2025-06-15/
LOCATION:Church Building\, BT27 6UP\, United Kingdom
CATEGORIES:Sunday
ATTACH;FMTTYPE=image/jpeg:https://trinityboardmills.org/wp-content/uploads/2022/11/EveningServiceEV.jpg
GEO:54.466933365694;-5.9199475846608
END:VEVENT
BEGIN:VEVENT
DTSTART;TZID=UTC:20250616T100000
DTEND;TZID=UTC:20250616T111500
DTSTAMP:20260420T220700
CREATED:20241211T083050Z
LAST-MODIFIED:20250820T094703Z
UID:10017054-1750068000-1750072500@trinityboardmills.org
SUMMARY:Trinity Tots
DESCRIPTION:
URL:https://trinityboardmills.org/event/trinity-tots-2-2-2/2025-06-16/
LOCATION:Killaney Hall
CATEGORIES:Trinity Tots Featured
ATTACH;FMTTYPE=image/jpeg:https://trinityboardmills.org/wp-content/uploads/2022/11/CrecheEV.jpg
GEO:54.4662977;-5.9128505
END:VEVENT
BEGIN:VEVENT
DTSTART;TZID=UTC:20250616T183000
DTEND;TZID=UTC:20250616T203000
DTSTAMP:20260420T220700
CREATED:20250513T075255Z
LAST-MODIFIED:20250513T075336Z
UID:10010882-1750098600-1750105800@trinityboardmills.org
SUMMARY:Holiday Bible Club
DESCRIPTION:Holiday Bible Club is back! \nFrom 6.30pm – 8.30 pm  Monday 16th to Thursday 19th June and all primary age children P1-P7 are so welcome to join us in the McKee Hall at Trinity Pres. Boardmills. \nThe theme this year is Amazing Treasures and there will be Games\, Quizzes\, Memory Verses\, Songs and Bible Lessons.\nCome along and join in the fun – and you can bring a friend too! \nRegistration will be on the night.
URL:https://trinityboardmills.org/event/hbc-2/2025-06-16/
LOCATION:McKee Hall\, BT27 6UP\, United Kingdom
CATEGORIES:Children,Featured
ATTACH;FMTTYPE=image/png:https://trinityboardmills.org/wp-content/uploads/2023/06/HBC2025_Image.png
GEO:54.466933365694;-5.9199475846608
END:VEVENT
BEGIN:VEVENT
DTSTART;TZID=UTC:20250616T190000
DTEND;TZID=UTC:20250616T200000
DTSTAMP:20260420T220700
CREATED:20250518T081603Z
LAST-MODIFIED:20250820T084234Z
UID:10015092-1750100400-1750104000@trinityboardmills.org
SUMMARY:Summer Walking Group
DESCRIPTION:This is open to all and it will be happening on every Monday evening commencing 19th May and should take around an hour. Set your own pace of course – and do as much or as little as you wish. Come along\, enjoy the walk and the chat!
URL:https://trinityboardmills.org/event/summer-walking-group-2/2025-06-16/
LOCATION:McKee Hall\, BT27 6UP\, United Kingdom
ATTACH;FMTTYPE=image/png:https://trinityboardmills.org/wp-content/uploads/2022/10/boxAsset-3.png
GEO:54.466933365694;-5.9199475846608
END:VEVENT
END:VCALENDAR