BEGIN:VCALENDAR
VERSION:2.0
PRODID:-//Trinity Presbyterian - ECPv6.15.20//NONSGML v1.0//EN
CALSCALE:GREGORIAN
METHOD:PUBLISH
X-ORIGINAL-URL:https://trinityboardmills.org
X-WR-CALDESC:Events for Trinity Presbyterian
REFRESH-INTERVAL;VALUE=DURATION:PT1H
X-Robots-Tag:noindex
X-PUBLISHED-TTL:PT1H
BEGIN:VTIMEZONE
TZID:UTC
BEGIN:STANDARD
TZOFFSETFROM:+0000
TZOFFSETTO:+0000
TZNAME:UTC
DTSTART:20250101T000000
END:STANDARD
END:VTIMEZONE
BEGIN:VEVENT
DTSTART;TZID=UTC:20260112T191500
DTEND;TZID=UTC:20260112T203000
DTSTAMP:20260420T040205
CREATED:20250820T092414Z
LAST-MODIFIED:20260316T184139Z
UID:10016534-1768245300-1768249800@trinityboardmills.org
SUMMARY:GB Junior Section
DESCRIPTION:
URL:https://trinityboardmills.org/event/gb-junior-section-2/2026-01-12/
LOCATION:McKee Hall\, BT27 6UP\, United Kingdom
CATEGORIES:GB Featured,Youth & Children
ATTACH;FMTTYPE=image/jpeg:https://trinityboardmills.org/wp-content/uploads/2022/11/GBCompEV.jpg
GEO:54.466933365694;-5.9199475846608
END:VEVENT
BEGIN:VEVENT
DTSTART;TZID=UTC:20260112T191500
DTEND;TZID=UTC:20260112T204500
DTSTAMP:20260420T040205
CREATED:20250820T092749Z
LAST-MODIFIED:20260316T184050Z
UID:10016791-1768245300-1768250700@trinityboardmills.org
SUMMARY:GB Company Section
DESCRIPTION:
URL:https://trinityboardmills.org/event/gb-company-section-2-2-2/2026-01-12/
LOCATION:McKee Hall\, BT27 6UP\, United Kingdom
CATEGORIES:GB Featured,Youth & Children
ATTACH;FMTTYPE=image/jpeg:https://trinityboardmills.org/wp-content/uploads/2022/11/GBCompEV.jpg
GEO:54.466933365694;-5.9199475846608
END:VEVENT
BEGIN:VEVENT
DTSTART;TZID=UTC:20260112T191500
DTEND;TZID=UTC:20260112T210000
DTSTAMP:20260420T040205
CREATED:20250820T083950Z
LAST-MODIFIED:20260316T184255Z
UID:10015687-1768245300-1768251600@trinityboardmills.org
SUMMARY:BB Company Section
DESCRIPTION:
URL:https://trinityboardmills.org/event/bb-company-section-2-2-2/2026-01-12/
LOCATION:Killaney Hall
CATEGORIES:BB Featured,Youth & Children
ATTACH;FMTTYPE=image/jpeg:https://trinityboardmills.org/wp-content/uploads/2022/10/BBCompanyEV.jpg
GEO:54.4662977;-5.9128505
END:VEVENT
BEGIN:VEVENT
DTSTART;TZID=UTC:20260113T193000
DTEND;TZID=UTC:20260113T213000
DTSTAMP:20260420T040205
CREATED:20250820T095711Z
LAST-MODIFIED:20260326T092906Z
UID:10017207-1768332600-1768339800@trinityboardmills.org
SUMMARY:Bowling Club
DESCRIPTION:
URL:https://trinityboardmills.org/event/mixed-bowls-3-2-2/2026-01-13/
LOCATION:McKee Hall\, BT27 6UP\, United Kingdom
CATEGORIES:Adults
ATTACH;FMTTYPE=image/jpeg:https://trinityboardmills.org/wp-content/uploads/2022/11/MixedBowlsEV.jpg
GEO:54.466933365694;-5.9199475846608
END:VEVENT
BEGIN:VEVENT
DTSTART;TZID=UTC:20260117T190000
DTEND;TZID=UTC:20260117T210000
DTSTAMP:20260420T040205
CREATED:20250820T095502Z
LAST-MODIFIED:20260414T120959Z
UID:10017135-1768676400-1768683600@trinityboardmills.org
SUMMARY:Pulse Senior
DESCRIPTION:
URL:https://trinityboardmills.org/event/pulse-senior-2-2-2/2026-01-17/
LOCATION:Killaney Hall
CATEGORIES:Pulse Featured,Youth & Children
ATTACH;FMTTYPE=image/jpeg:https://trinityboardmills.org/wp-content/uploads/2023/03/Pulse-web.jpg
GEO:54.4662977;-5.9128505
END:VEVENT
BEGIN:VEVENT
DTSTART;TZID=UTC:20260118T113000
DTEND;TZID=UTC:20260118T123000
DTSTAMP:20260420T040205
CREATED:20221031T111539Z
LAST-MODIFIED:20241217T123050Z
UID:10003064-1768735800-1768739400@trinityboardmills.org
SUMMARY:Morning Worship
DESCRIPTION:
URL:https://trinityboardmills.org/event/morning-service/2026-01-18/
LOCATION:Church Building\, BT27 6UP\, United Kingdom
CATEGORIES:Sunday
ATTACH;FMTTYPE=image/jpeg:https://trinityboardmills.org/wp-content/uploads/2022/11/SundayEV.jpg
GEO:54.466933365694;-5.9199475846608
END:VEVENT
BEGIN:VEVENT
DTSTART;TZID=UTC:20260118T114500
DTEND;TZID=UTC:20260118T123000
DTSTAMP:20260420T040205
CREATED:20221031T111350Z
LAST-MODIFIED:20241217T123139Z
UID:10007481-1768736700-1768739400@trinityboardmills.org
SUMMARY:Sunday CE & Creche
DESCRIPTION:
URL:https://trinityboardmills.org/event/sundayce/2026-01-18/
LOCATION:Kerr Room
CATEGORIES:Children
ATTACH;FMTTYPE=image/jpeg:https://trinityboardmills.org/wp-content/uploads/2022/11/SundayCEEV.jpg
END:VEVENT
BEGIN:VEVENT
DTSTART;TZID=UTC:20260118T183000
DTEND;TZID=UTC:20260118T191500
DTSTAMP:20260420T040205
CREATED:20240903T080905Z
LAST-MODIFIED:20260405T092003Z
UID:10010976-1768761000-1768763700@trinityboardmills.org
SUMMARY:Evening Service
DESCRIPTION:
URL:https://trinityboardmills.org/event/evening-service-2/2026-01-18/
LOCATION:Church Building\, BT27 6UP\, United Kingdom
CATEGORIES:Sunday
ATTACH;FMTTYPE=image/jpeg:https://trinityboardmills.org/wp-content/uploads/2022/11/EveningServiceEV.jpg
GEO:54.466933365694;-5.9199475846608
END:VEVENT
BEGIN:VEVENT
DTSTART;TZID=UTC:20260119T100000
DTEND;TZID=UTC:20260119T111500
DTSTAMP:20260420T040205
CREATED:20260104T141313Z
LAST-MODIFIED:20260326T092521Z
UID:10014672-1768816800-1768821300@trinityboardmills.org
SUMMARY:Trinity Tots
DESCRIPTION:
URL:https://trinityboardmills.org/event/trinity-tots-2-2-2-2-2/2026-01-19/
LOCATION:Killaney Hall
CATEGORIES:Trinity Tots Featured
ATTACH;FMTTYPE=image/jpeg:https://trinityboardmills.org/wp-content/uploads/2022/11/CrecheEV.jpg
GEO:54.4662977;-5.9128505
END:VEVENT
BEGIN:VEVENT
DTSTART;TZID=UTC:20260119T180000
DTEND;TZID=UTC:20260119T191500
DTSTAMP:20260420T040205
CREATED:20250820T083650Z
LAST-MODIFIED:20260316T184356Z
UID:10015431-1768845600-1768850100@trinityboardmills.org
SUMMARY:BB Anchor Boys
DESCRIPTION:
URL:https://trinityboardmills.org/event/bb-anchor-boys-2-2-2/2026-01-19/
LOCATION:Killaney Hall
CATEGORIES:BB Featured,Youth & Children
ATTACH;FMTTYPE=image/jpeg:https://trinityboardmills.org/wp-content/uploads/2022/11/BBExpEV.jpg
GEO:54.4662977;-5.9128505
END:VEVENT
BEGIN:VEVENT
DTSTART;TZID=UTC:20260119T180000
DTEND;TZID=UTC:20260119T191500
DTSTAMP:20260420T040205
CREATED:20250820T091546Z
LAST-MODIFIED:20260316T184207Z
UID:10016278-1768845600-1768850100@trinityboardmills.org
SUMMARY:GB Explorers
DESCRIPTION:
URL:https://trinityboardmills.org/event/gb-explorers-2-2-2/2026-01-19/
LOCATION:McKee Hall\, BT27 6UP\, United Kingdom
CATEGORIES:GB Featured,Youth & Children
ATTACH;FMTTYPE=image/jpeg:https://trinityboardmills.org/wp-content/uploads/2022/11/GBJuniorEV.jpg
GEO:54.466933365694;-5.9199475846608
END:VEVENT
BEGIN:VEVENT
DTSTART;TZID=UTC:20260119T190000
DTEND;TZID=UTC:20260119T203000
DTSTAMP:20260420T040205
CREATED:20250820T083746Z
LAST-MODIFIED:20260316T184325Z
UID:10015945-1768849200-1768854600@trinityboardmills.org
SUMMARY:BB Junior Section
DESCRIPTION:
URL:https://trinityboardmills.org/event/bb-junior-section-2-2-2/2026-01-19/
LOCATION:Killaney Hall
CATEGORIES:BB Featured,Youth & Children
ATTACH;FMTTYPE=image/jpeg:https://trinityboardmills.org/wp-content/uploads/2022/11/BBSQEV.jpg
GEO:54.4662977;-5.9128505
END:VEVENT
BEGIN:VEVENT
DTSTART;TZID=UTC:20260119T191500
DTEND;TZID=UTC:20260119T203000
DTSTAMP:20260420T040205
CREATED:20250820T092414Z
LAST-MODIFIED:20260316T184139Z
UID:10016535-1768850100-1768854600@trinityboardmills.org
SUMMARY:GB Junior Section
DESCRIPTION:
URL:https://trinityboardmills.org/event/gb-junior-section-2/2026-01-19/
LOCATION:McKee Hall\, BT27 6UP\, United Kingdom
CATEGORIES:GB Featured,Youth & Children
ATTACH;FMTTYPE=image/jpeg:https://trinityboardmills.org/wp-content/uploads/2022/11/GBCompEV.jpg
GEO:54.466933365694;-5.9199475846608
END:VEVENT
BEGIN:VEVENT
DTSTART;TZID=UTC:20260119T191500
DTEND;TZID=UTC:20260119T204500
DTSTAMP:20260420T040205
CREATED:20250820T092749Z
LAST-MODIFIED:20260316T184050Z
UID:10016792-1768850100-1768855500@trinityboardmills.org
SUMMARY:GB Company Section
DESCRIPTION:
URL:https://trinityboardmills.org/event/gb-company-section-2-2-2/2026-01-19/
LOCATION:McKee Hall\, BT27 6UP\, United Kingdom
CATEGORIES:GB Featured,Youth & Children
ATTACH;FMTTYPE=image/jpeg:https://trinityboardmills.org/wp-content/uploads/2022/11/GBCompEV.jpg
GEO:54.466933365694;-5.9199475846608
END:VEVENT
BEGIN:VEVENT
DTSTART;TZID=UTC:20260119T191500
DTEND;TZID=UTC:20260119T210000
DTSTAMP:20260420T040205
CREATED:20250820T083950Z
LAST-MODIFIED:20260316T184255Z
UID:10015688-1768850100-1768856400@trinityboardmills.org
SUMMARY:BB Company Section
DESCRIPTION:
URL:https://trinityboardmills.org/event/bb-company-section-2-2-2/2026-01-19/
LOCATION:Killaney Hall
CATEGORIES:BB Featured,Youth & Children
ATTACH;FMTTYPE=image/jpeg:https://trinityboardmills.org/wp-content/uploads/2022/10/BBCompanyEV.jpg
GEO:54.4662977;-5.9128505
END:VEVENT
BEGIN:VEVENT
DTSTART;TZID=UTC:20260120T193000
DTEND;TZID=UTC:20260120T213000
DTSTAMP:20260420T040205
CREATED:20250820T095711Z
LAST-MODIFIED:20260326T092906Z
UID:10017208-1768937400-1768944600@trinityboardmills.org
SUMMARY:Bowling Club
DESCRIPTION:
URL:https://trinityboardmills.org/event/mixed-bowls-3-2-2/2026-01-20/
LOCATION:McKee Hall\, BT27 6UP\, United Kingdom
CATEGORIES:Adults
ATTACH;FMTTYPE=image/jpeg:https://trinityboardmills.org/wp-content/uploads/2022/11/MixedBowlsEV.jpg
GEO:54.466933365694;-5.9199475846608
END:VEVENT
BEGIN:VEVENT
DTSTART;TZID=UTC:20260121T193000
DTEND;TZID=UTC:20260121T210000
DTSTAMP:20260420T040205
CREATED:20260215T094115Z
LAST-MODIFIED:20260215T101205Z
UID:10018744-1769023800-1769029200@trinityboardmills.org
SUMMARY:Fellowship Groups (Wed)
DESCRIPTION:This session we will be studying Welcome\, the first and third Wednesday of the month in Killaney Hall.
URL:https://trinityboardmills.org/event/fellowship-groups-wed-3-3-2-2-2-2/2026-01-21/
LOCATION:Killaney Hall
CATEGORIES:Fellowship Groups Featured
ATTACH;FMTTYPE=image/jpeg:https://trinityboardmills.org/wp-content/uploads/2022/11/FellowshipGroupEV.jpg
GEO:54.4662977;-5.9128505
END:VEVENT
BEGIN:VEVENT
DTSTART;TZID=UTC:20260122T103000
DTEND;TZID=UTC:20260122T113000
DTSTAMP:20260420T040205
CREATED:20230911T123435Z
LAST-MODIFIED:20260326T081458Z
UID:10013759-1769077800-1769081400@trinityboardmills.org
SUMMARY:Ladies Bible Study
DESCRIPTION:
URL:https://trinityboardmills.org/event/ladies-bible-study-2/2026-01-22/
LOCATION:Killaney Hall
CATEGORIES:Adults,Ladies
ATTACH;FMTTYPE=image/jpeg:https://trinityboardmills.org/wp-content/uploads/2022/11/LadiesBibleStudyEV.jpg
GEO:54.4662977;-5.9128505
END:VEVENT
BEGIN:VEVENT
DTSTART;TZID=UTC:20260125T113000
DTEND;TZID=UTC:20260125T123000
DTSTAMP:20260420T040205
CREATED:20221031T111539Z
LAST-MODIFIED:20241217T123050Z
UID:10003065-1769340600-1769344200@trinityboardmills.org
SUMMARY:Morning Worship
DESCRIPTION:
URL:https://trinityboardmills.org/event/morning-service/2026-01-25/
LOCATION:Church Building\, BT27 6UP\, United Kingdom
CATEGORIES:Sunday
ATTACH;FMTTYPE=image/jpeg:https://trinityboardmills.org/wp-content/uploads/2022/11/SundayEV.jpg
GEO:54.466933365694;-5.9199475846608
END:VEVENT
BEGIN:VEVENT
DTSTART;TZID=UTC:20260125T114500
DTEND;TZID=UTC:20260125T123000
DTSTAMP:20260420T040205
CREATED:20221031T111350Z
LAST-MODIFIED:20241217T123139Z
UID:10007482-1769341500-1769344200@trinityboardmills.org
SUMMARY:Sunday CE & Creche
DESCRIPTION:
URL:https://trinityboardmills.org/event/sundayce/2026-01-25/
LOCATION:Kerr Room
CATEGORIES:Children
ATTACH;FMTTYPE=image/jpeg:https://trinityboardmills.org/wp-content/uploads/2022/11/SundayCEEV.jpg
END:VEVENT
BEGIN:VEVENT
DTSTART;TZID=UTC:20260125T183000
DTEND;TZID=UTC:20260125T191500
DTSTAMP:20260420T040205
CREATED:20240903T080905Z
LAST-MODIFIED:20260405T092003Z
UID:10010977-1769365800-1769368500@trinityboardmills.org
SUMMARY:Evening Service
DESCRIPTION:
URL:https://trinityboardmills.org/event/evening-service-2/2026-01-25/
LOCATION:Church Building\, BT27 6UP\, United Kingdom
CATEGORIES:Sunday
ATTACH;FMTTYPE=image/jpeg:https://trinityboardmills.org/wp-content/uploads/2022/11/EveningServiceEV.jpg
GEO:54.466933365694;-5.9199475846608
END:VEVENT
BEGIN:VEVENT
DTSTART;TZID=UTC:20260126T100000
DTEND;TZID=UTC:20260126T111500
DTSTAMP:20260420T040205
CREATED:20260104T141313Z
LAST-MODIFIED:20260326T092521Z
UID:10014673-1769421600-1769426100@trinityboardmills.org
SUMMARY:Trinity Tots
DESCRIPTION:
URL:https://trinityboardmills.org/event/trinity-tots-2-2-2-2-2/2026-01-26/
LOCATION:Killaney Hall
CATEGORIES:Trinity Tots Featured
ATTACH;FMTTYPE=image/jpeg:https://trinityboardmills.org/wp-content/uploads/2022/11/CrecheEV.jpg
GEO:54.4662977;-5.9128505
END:VEVENT
BEGIN:VEVENT
DTSTART;TZID=UTC:20260126T180000
DTEND;TZID=UTC:20260126T191500
DTSTAMP:20260420T040205
CREATED:20250820T083650Z
LAST-MODIFIED:20260316T184356Z
UID:10015432-1769450400-1769454900@trinityboardmills.org
SUMMARY:BB Anchor Boys
DESCRIPTION:
URL:https://trinityboardmills.org/event/bb-anchor-boys-2-2-2/2026-01-26/
LOCATION:Killaney Hall
CATEGORIES:BB Featured,Youth & Children
ATTACH;FMTTYPE=image/jpeg:https://trinityboardmills.org/wp-content/uploads/2022/11/BBExpEV.jpg
GEO:54.4662977;-5.9128505
END:VEVENT
BEGIN:VEVENT
DTSTART;TZID=UTC:20260126T180000
DTEND;TZID=UTC:20260126T191500
DTSTAMP:20260420T040205
CREATED:20250820T091546Z
LAST-MODIFIED:20260316T184207Z
UID:10016279-1769450400-1769454900@trinityboardmills.org
SUMMARY:GB Explorers
DESCRIPTION:
URL:https://trinityboardmills.org/event/gb-explorers-2-2-2/2026-01-26/
LOCATION:McKee Hall\, BT27 6UP\, United Kingdom
CATEGORIES:GB Featured,Youth & Children
ATTACH;FMTTYPE=image/jpeg:https://trinityboardmills.org/wp-content/uploads/2022/11/GBJuniorEV.jpg
GEO:54.466933365694;-5.9199475846608
END:VEVENT
BEGIN:VEVENT
DTSTART;TZID=UTC:20260126T190000
DTEND;TZID=UTC:20260126T203000
DTSTAMP:20260420T040205
CREATED:20250820T083746Z
LAST-MODIFIED:20260316T184325Z
UID:10015946-1769454000-1769459400@trinityboardmills.org
SUMMARY:BB Junior Section
DESCRIPTION:
URL:https://trinityboardmills.org/event/bb-junior-section-2-2-2/2026-01-26/
LOCATION:Killaney Hall
CATEGORIES:BB Featured,Youth & Children
ATTACH;FMTTYPE=image/jpeg:https://trinityboardmills.org/wp-content/uploads/2022/11/BBSQEV.jpg
GEO:54.4662977;-5.9128505
END:VEVENT
BEGIN:VEVENT
DTSTART;TZID=UTC:20260126T191500
DTEND;TZID=UTC:20260126T203000
DTSTAMP:20260420T040205
CREATED:20250820T092414Z
LAST-MODIFIED:20260316T184139Z
UID:10016536-1769454900-1769459400@trinityboardmills.org
SUMMARY:GB Junior Section
DESCRIPTION:
URL:https://trinityboardmills.org/event/gb-junior-section-2/2026-01-26/
LOCATION:McKee Hall\, BT27 6UP\, United Kingdom
CATEGORIES:GB Featured,Youth & Children
ATTACH;FMTTYPE=image/jpeg:https://trinityboardmills.org/wp-content/uploads/2022/11/GBCompEV.jpg
GEO:54.466933365694;-5.9199475846608
END:VEVENT
BEGIN:VEVENT
DTSTART;TZID=UTC:20260126T191500
DTEND;TZID=UTC:20260126T204500
DTSTAMP:20260420T040205
CREATED:20250820T092749Z
LAST-MODIFIED:20260316T184050Z
UID:10016793-1769454900-1769460300@trinityboardmills.org
SUMMARY:GB Company Section
DESCRIPTION:
URL:https://trinityboardmills.org/event/gb-company-section-2-2-2/2026-01-26/
LOCATION:McKee Hall\, BT27 6UP\, United Kingdom
CATEGORIES:GB Featured,Youth & Children
ATTACH;FMTTYPE=image/jpeg:https://trinityboardmills.org/wp-content/uploads/2022/11/GBCompEV.jpg
GEO:54.466933365694;-5.9199475846608
END:VEVENT
BEGIN:VEVENT
DTSTART;TZID=UTC:20260126T191500
DTEND;TZID=UTC:20260126T210000
DTSTAMP:20260420T040205
CREATED:20250820T083950Z
LAST-MODIFIED:20260316T184255Z
UID:10015689-1769454900-1769461200@trinityboardmills.org
SUMMARY:BB Company Section
DESCRIPTION:
URL:https://trinityboardmills.org/event/bb-company-section-2-2-2/2026-01-26/
LOCATION:Killaney Hall
CATEGORIES:BB Featured,Youth & Children
ATTACH;FMTTYPE=image/jpeg:https://trinityboardmills.org/wp-content/uploads/2022/10/BBCompanyEV.jpg
GEO:54.4662977;-5.9128505
END:VEVENT
BEGIN:VEVENT
DTSTART;TZID=UTC:20260127T193000
DTEND;TZID=UTC:20260127T213000
DTSTAMP:20260420T040205
CREATED:20250820T095711Z
LAST-MODIFIED:20260326T092906Z
UID:10017209-1769542200-1769549400@trinityboardmills.org
SUMMARY:Bowling Club
DESCRIPTION:
URL:https://trinityboardmills.org/event/mixed-bowls-3-2-2/2026-01-27/
LOCATION:McKee Hall\, BT27 6UP\, United Kingdom
CATEGORIES:Adults
ATTACH;FMTTYPE=image/jpeg:https://trinityboardmills.org/wp-content/uploads/2022/11/MixedBowlsEV.jpg
GEO:54.466933365694;-5.9199475846608
END:VEVENT
BEGIN:VEVENT
DTSTART;TZID=UTC:20260128T193000
DTEND;TZID=UTC:20260128T203000
DTSTAMP:20260420T040205
CREATED:20250407T073313Z
LAST-MODIFIED:20251201T181414Z
UID:10017452-1769628600-1769632200@trinityboardmills.org
SUMMARY:Prayer Meeting
DESCRIPTION:Join with us as we pray with the firm expectation that God will move in and through us by His Spirit.
URL:https://trinityboardmills.org/event/prayer-meeting-2/2026-01-28/
LOCATION:Church Building\, BT27 6UP\, United Kingdom
CATEGORIES:Adults
ATTACH;FMTTYPE=image/jpeg:https://trinityboardmills.org/wp-content/uploads/2024/06/Prayer-reduced.jpg
GEO:54.466933365694;-5.9199475846608
END:VEVENT
END:VCALENDAR