BEGIN:VCALENDAR
VERSION:2.0
PRODID:-//Trinity Presbyterian - ECPv6.15.20//NONSGML v1.0//EN
CALSCALE:GREGORIAN
METHOD:PUBLISH
X-WR-CALNAME:Trinity Presbyterian
X-ORIGINAL-URL:https://trinityboardmills.org
X-WR-CALDESC:Events for Trinity Presbyterian
REFRESH-INTERVAL;VALUE=DURATION:PT1H
X-Robots-Tag:noindex
X-PUBLISHED-TTL:PT1H
BEGIN:VTIMEZONE
TZID:UTC
BEGIN:STANDARD
TZOFFSETFROM:+0000
TZOFFSETTO:+0000
TZNAME:UTC
DTSTART:20250101T000000
END:STANDARD
END:VTIMEZONE
BEGIN:VEVENT
DTSTART;TZID=UTC:20260803T100000
DTEND;TZID=UTC:20260803T111500
DTSTAMP:20260420T042437
CREATED:20260104T141313Z
LAST-MODIFIED:20260326T092521Z
UID:10014700-1785751200-1785755700@trinityboardmills.org
SUMMARY:Trinity Tots
DESCRIPTION:
URL:https://trinityboardmills.org/event/trinity-tots-2-2-2-2-2/2026-08-03/
LOCATION:Killaney Hall
CATEGORIES:Trinity Tots Featured
ATTACH;FMTTYPE=image/jpeg:https://trinityboardmills.org/wp-content/uploads/2022/11/CrecheEV.jpg
GEO:54.4662977;-5.9128505
END:VEVENT
BEGIN:VEVENT
DTSTART;TZID=UTC:20260806T103000
DTEND;TZID=UTC:20260806T113000
DTSTAMP:20260420T042437
CREATED:20230911T123435Z
LAST-MODIFIED:20260326T081458Z
UID:10013787-1786012200-1786015800@trinityboardmills.org
SUMMARY:Ladies Bible Study
DESCRIPTION:
URL:https://trinityboardmills.org/event/ladies-bible-study-2/2026-08-06/
LOCATION:Killaney Hall
CATEGORIES:Adults,Ladies
ATTACH;FMTTYPE=image/jpeg:https://trinityboardmills.org/wp-content/uploads/2022/11/LadiesBibleStudyEV.jpg
GEO:54.4662977;-5.9128505
END:VEVENT
BEGIN:VEVENT
DTSTART;TZID=UTC:20260809T100000
DTEND;TZID=UTC:20260809T110000
DTSTAMP:20260420T042437
CREATED:20250820T100226Z
LAST-MODIFIED:20250820T100246Z
UID:10017517-1786269600-1786273200@trinityboardmills.org
SUMMARY:Prayer Meeting
DESCRIPTION:Join with us as we pray with the firm expectation that God will move in and through us by His Spirit.
URL:https://trinityboardmills.org/event/prayer-meeting-3/2026-08-09/
LOCATION:Church Building\, BT27 6UP\, United Kingdom
CATEGORIES:Adults
ATTACH;FMTTYPE=image/jpeg:https://trinityboardmills.org/wp-content/uploads/2024/06/Prayer-reduced.jpg
GEO:54.466933365694;-5.9199475846608
END:VEVENT
BEGIN:VEVENT
DTSTART;TZID=UTC:20260809T113000
DTEND;TZID=UTC:20260809T123000
DTSTAMP:20260420T042437
CREATED:20221031T111539Z
LAST-MODIFIED:20241217T123050Z
UID:10003093-1786275000-1786278600@trinityboardmills.org
SUMMARY:Morning Worship
DESCRIPTION:
URL:https://trinityboardmills.org/event/morning-service/2026-08-09/
LOCATION:Church Building\, BT27 6UP\, United Kingdom
CATEGORIES:Sunday
ATTACH;FMTTYPE=image/jpeg:https://trinityboardmills.org/wp-content/uploads/2022/11/SundayEV.jpg
GEO:54.466933365694;-5.9199475846608
END:VEVENT
BEGIN:VEVENT
DTSTART;TZID=UTC:20260809T114500
DTEND;TZID=UTC:20260809T123000
DTSTAMP:20260420T042437
CREATED:20221031T111350Z
LAST-MODIFIED:20241217T123139Z
UID:10007510-1786275900-1786278600@trinityboardmills.org
SUMMARY:Sunday CE & Creche
DESCRIPTION:
URL:https://trinityboardmills.org/event/sundayce/2026-08-09/
LOCATION:Kerr Room
CATEGORIES:Children
ATTACH;FMTTYPE=image/jpeg:https://trinityboardmills.org/wp-content/uploads/2022/11/SundayCEEV.jpg
END:VEVENT
BEGIN:VEVENT
DTSTART;TZID=UTC:20260809T183000
DTEND;TZID=UTC:20260809T191500
DTSTAMP:20260420T042437
CREATED:20240903T080905Z
LAST-MODIFIED:20260405T092003Z
UID:10011005-1786300200-1786302900@trinityboardmills.org
SUMMARY:Evening Service
DESCRIPTION:
URL:https://trinityboardmills.org/event/evening-service-2/2026-08-09/
LOCATION:Church Building\, BT27 6UP\, United Kingdom
CATEGORIES:Sunday
ATTACH;FMTTYPE=image/jpeg:https://trinityboardmills.org/wp-content/uploads/2022/11/EveningServiceEV.jpg
GEO:54.466933365694;-5.9199475846608
END:VEVENT
BEGIN:VEVENT
DTSTART;TZID=UTC:20260810T100000
DTEND;TZID=UTC:20260810T111500
DTSTAMP:20260420T042437
CREATED:20260104T141313Z
LAST-MODIFIED:20260326T092521Z
UID:10014701-1786356000-1786360500@trinityboardmills.org
SUMMARY:Trinity Tots
DESCRIPTION:
URL:https://trinityboardmills.org/event/trinity-tots-2-2-2-2-2/2026-08-10/
LOCATION:Killaney Hall
CATEGORIES:Trinity Tots Featured
ATTACH;FMTTYPE=image/jpeg:https://trinityboardmills.org/wp-content/uploads/2022/11/CrecheEV.jpg
GEO:54.4662977;-5.9128505
END:VEVENT
BEGIN:VEVENT
DTSTART;TZID=UTC:20260813T103000
DTEND;TZID=UTC:20260813T113000
DTSTAMP:20260420T042437
CREATED:20230911T123435Z
LAST-MODIFIED:20260326T081458Z
UID:10013788-1786617000-1786620600@trinityboardmills.org
SUMMARY:Ladies Bible Study
DESCRIPTION:
URL:https://trinityboardmills.org/event/ladies-bible-study-2/2026-08-13/
LOCATION:Killaney Hall
CATEGORIES:Adults,Ladies
ATTACH;FMTTYPE=image/jpeg:https://trinityboardmills.org/wp-content/uploads/2022/11/LadiesBibleStudyEV.jpg
GEO:54.4662977;-5.9128505
END:VEVENT
BEGIN:VEVENT
DTSTART;TZID=UTC:20260813T193000
DTEND;TZID=UTC:20260813T213000
DTSTAMP:20260420T042437
CREATED:20260104T151947Z
LAST-MODIFIED:20260408T132848Z
UID:10017580-1786649400-1786656600@trinityboardmills.org
SUMMARY:Trinity Women
DESCRIPTION:Trinity Women meet on the second Thursday of the month. All ladies very welcome. \nContact a member of PW committee or email office@trinityboardmills.org for more details.
URL:https://trinityboardmills.org/event/trinity-women-2/2026-08-13/
LOCATION:McKee Hall\, BT27 6UP\, United Kingdom
CATEGORIES:Ladies
ATTACH;FMTTYPE=image/png:https://trinityboardmills.org/wp-content/uploads/2022/11/PW-Logo.png
GEO:54.466933365694;-5.9199475846608
END:VEVENT
BEGIN:VEVENT
DTSTART;TZID=UTC:20260815T190000
DTEND;TZID=UTC:20260815T210000
DTSTAMP:20260420T042437
CREATED:20250820T095502Z
LAST-MODIFIED:20260414T120959Z
UID:10017142-1786820400-1786827600@trinityboardmills.org
SUMMARY:Pulse Senior
DESCRIPTION:
URL:https://trinityboardmills.org/event/pulse-senior-2-2-2/2026-08-15/
LOCATION:Killaney Hall
CATEGORIES:Pulse Featured,Youth & Children
ATTACH;FMTTYPE=image/jpeg:https://trinityboardmills.org/wp-content/uploads/2023/03/Pulse-web.jpg
GEO:54.4662977;-5.9128505
END:VEVENT
BEGIN:VEVENT
DTSTART;TZID=UTC:20260816T113000
DTEND;TZID=UTC:20260816T123000
DTSTAMP:20260420T042437
CREATED:20221031T111539Z
LAST-MODIFIED:20241217T123050Z
UID:10003094-1786879800-1786883400@trinityboardmills.org
SUMMARY:Morning Worship
DESCRIPTION:
URL:https://trinityboardmills.org/event/morning-service/2026-08-16/
LOCATION:Church Building\, BT27 6UP\, United Kingdom
CATEGORIES:Sunday
ATTACH;FMTTYPE=image/jpeg:https://trinityboardmills.org/wp-content/uploads/2022/11/SundayEV.jpg
GEO:54.466933365694;-5.9199475846608
END:VEVENT
BEGIN:VEVENT
DTSTART;TZID=UTC:20260816T114500
DTEND;TZID=UTC:20260816T123000
DTSTAMP:20260420T042437
CREATED:20221031T111350Z
LAST-MODIFIED:20241217T123139Z
UID:10007511-1786880700-1786883400@trinityboardmills.org
SUMMARY:Sunday CE & Creche
DESCRIPTION:
URL:https://trinityboardmills.org/event/sundayce/2026-08-16/
LOCATION:Kerr Room
CATEGORIES:Children
ATTACH;FMTTYPE=image/jpeg:https://trinityboardmills.org/wp-content/uploads/2022/11/SundayCEEV.jpg
END:VEVENT
BEGIN:VEVENT
DTSTART;TZID=UTC:20260816T183000
DTEND;TZID=UTC:20260816T191500
DTSTAMP:20260420T042437
CREATED:20240903T080905Z
LAST-MODIFIED:20260405T092003Z
UID:10011006-1786905000-1786907700@trinityboardmills.org
SUMMARY:Evening Service
DESCRIPTION:
URL:https://trinityboardmills.org/event/evening-service-2/2026-08-16/
LOCATION:Church Building\, BT27 6UP\, United Kingdom
CATEGORIES:Sunday
ATTACH;FMTTYPE=image/jpeg:https://trinityboardmills.org/wp-content/uploads/2022/11/EveningServiceEV.jpg
GEO:54.466933365694;-5.9199475846608
END:VEVENT
BEGIN:VEVENT
DTSTART;TZID=UTC:20260817T100000
DTEND;TZID=UTC:20260817T111500
DTSTAMP:20260420T042437
CREATED:20260104T141313Z
LAST-MODIFIED:20260326T092521Z
UID:10014702-1786960800-1786965300@trinityboardmills.org
SUMMARY:Trinity Tots
DESCRIPTION:
URL:https://trinityboardmills.org/event/trinity-tots-2-2-2-2-2/2026-08-17/
LOCATION:Killaney Hall
CATEGORIES:Trinity Tots Featured
ATTACH;FMTTYPE=image/jpeg:https://trinityboardmills.org/wp-content/uploads/2022/11/CrecheEV.jpg
GEO:54.4662977;-5.9128505
END:VEVENT
BEGIN:VEVENT
DTSTART;TZID=UTC:20260820T103000
DTEND;TZID=UTC:20260820T113000
DTSTAMP:20260420T042437
CREATED:20230911T123435Z
LAST-MODIFIED:20260326T081458Z
UID:10013789-1787221800-1787225400@trinityboardmills.org
SUMMARY:Ladies Bible Study
DESCRIPTION:
URL:https://trinityboardmills.org/event/ladies-bible-study-2/2026-08-20/
LOCATION:Killaney Hall
CATEGORIES:Adults,Ladies
ATTACH;FMTTYPE=image/jpeg:https://trinityboardmills.org/wp-content/uploads/2022/11/LadiesBibleStudyEV.jpg
GEO:54.4662977;-5.9128505
END:VEVENT
BEGIN:VEVENT
DTSTART;TZID=UTC:20260823T113000
DTEND;TZID=UTC:20260823T123000
DTSTAMP:20260420T042437
CREATED:20221031T111539Z
LAST-MODIFIED:20241217T123050Z
UID:10003095-1787484600-1787488200@trinityboardmills.org
SUMMARY:Morning Worship
DESCRIPTION:
URL:https://trinityboardmills.org/event/morning-service/2026-08-23/
LOCATION:Church Building\, BT27 6UP\, United Kingdom
CATEGORIES:Sunday
ATTACH;FMTTYPE=image/jpeg:https://trinityboardmills.org/wp-content/uploads/2022/11/SundayEV.jpg
GEO:54.466933365694;-5.9199475846608
END:VEVENT
BEGIN:VEVENT
DTSTART;TZID=UTC:20260823T114500
DTEND;TZID=UTC:20260823T123000
DTSTAMP:20260420T042437
CREATED:20221031T111350Z
LAST-MODIFIED:20241217T123139Z
UID:10007512-1787485500-1787488200@trinityboardmills.org
SUMMARY:Sunday CE & Creche
DESCRIPTION:
URL:https://trinityboardmills.org/event/sundayce/2026-08-23/
LOCATION:Kerr Room
CATEGORIES:Children
ATTACH;FMTTYPE=image/jpeg:https://trinityboardmills.org/wp-content/uploads/2022/11/SundayCEEV.jpg
END:VEVENT
BEGIN:VEVENT
DTSTART;TZID=UTC:20260823T183000
DTEND;TZID=UTC:20260823T191500
DTSTAMP:20260420T042437
CREATED:20240903T080905Z
LAST-MODIFIED:20260405T092003Z
UID:10011007-1787509800-1787512500@trinityboardmills.org
SUMMARY:Evening Service
DESCRIPTION:
URL:https://trinityboardmills.org/event/evening-service-2/2026-08-23/
LOCATION:Church Building\, BT27 6UP\, United Kingdom
CATEGORIES:Sunday
ATTACH;FMTTYPE=image/jpeg:https://trinityboardmills.org/wp-content/uploads/2022/11/EveningServiceEV.jpg
GEO:54.466933365694;-5.9199475846608
END:VEVENT
BEGIN:VEVENT
DTSTART;TZID=UTC:20260824T100000
DTEND;TZID=UTC:20260824T111500
DTSTAMP:20260420T042437
CREATED:20260104T141313Z
LAST-MODIFIED:20260326T092521Z
UID:10014703-1787565600-1787570100@trinityboardmills.org
SUMMARY:Trinity Tots
DESCRIPTION:
URL:https://trinityboardmills.org/event/trinity-tots-2-2-2-2-2/2026-08-24/
LOCATION:Killaney Hall
CATEGORIES:Trinity Tots Featured
ATTACH;FMTTYPE=image/jpeg:https://trinityboardmills.org/wp-content/uploads/2022/11/CrecheEV.jpg
GEO:54.4662977;-5.9128505
END:VEVENT
BEGIN:VEVENT
DTSTART;TZID=UTC:20260826T193000
DTEND;TZID=UTC:20260826T203000
DTSTAMP:20260420T042437
CREATED:20250407T073313Z
LAST-MODIFIED:20251201T181414Z
UID:10017459-1787772600-1787776200@trinityboardmills.org
SUMMARY:Prayer Meeting
DESCRIPTION:Join with us as we pray with the firm expectation that God will move in and through us by His Spirit.
URL:https://trinityboardmills.org/event/prayer-meeting-2/2026-08-26/
LOCATION:Church Building\, BT27 6UP\, United Kingdom
CATEGORIES:Adults
ATTACH;FMTTYPE=image/jpeg:https://trinityboardmills.org/wp-content/uploads/2024/06/Prayer-reduced.jpg
GEO:54.466933365694;-5.9199475846608
END:VEVENT
BEGIN:VEVENT
DTSTART;TZID=UTC:20260827T103000
DTEND;TZID=UTC:20260827T113000
DTSTAMP:20260420T042437
CREATED:20230911T123435Z
LAST-MODIFIED:20260326T081458Z
UID:10013790-1787826600-1787830200@trinityboardmills.org
SUMMARY:Ladies Bible Study
DESCRIPTION:
URL:https://trinityboardmills.org/event/ladies-bible-study-2/2026-08-27/
LOCATION:Killaney Hall
CATEGORIES:Adults,Ladies
ATTACH;FMTTYPE=image/jpeg:https://trinityboardmills.org/wp-content/uploads/2022/11/LadiesBibleStudyEV.jpg
GEO:54.4662977;-5.9128505
END:VEVENT
BEGIN:VEVENT
DTSTART;TZID=UTC:20260830T113000
DTEND;TZID=UTC:20260830T123000
DTSTAMP:20260420T042437
CREATED:20221031T111539Z
LAST-MODIFIED:20241217T123050Z
UID:10003096-1788089400-1788093000@trinityboardmills.org
SUMMARY:Morning Worship
DESCRIPTION:
URL:https://trinityboardmills.org/event/morning-service/2026-08-30/
LOCATION:Church Building\, BT27 6UP\, United Kingdom
CATEGORIES:Sunday
ATTACH;FMTTYPE=image/jpeg:https://trinityboardmills.org/wp-content/uploads/2022/11/SundayEV.jpg
GEO:54.466933365694;-5.9199475846608
END:VEVENT
BEGIN:VEVENT
DTSTART;TZID=UTC:20260830T114500
DTEND;TZID=UTC:20260830T123000
DTSTAMP:20260420T042437
CREATED:20221031T111350Z
LAST-MODIFIED:20241217T123139Z
UID:10007513-1788090300-1788093000@trinityboardmills.org
SUMMARY:Sunday CE & Creche
DESCRIPTION:
URL:https://trinityboardmills.org/event/sundayce/2026-08-30/
LOCATION:Kerr Room
CATEGORIES:Children
ATTACH;FMTTYPE=image/jpeg:https://trinityboardmills.org/wp-content/uploads/2022/11/SundayCEEV.jpg
END:VEVENT
BEGIN:VEVENT
DTSTART;TZID=UTC:20260830T183000
DTEND;TZID=UTC:20260830T191500
DTSTAMP:20260420T042437
CREATED:20240903T080905Z
LAST-MODIFIED:20260405T092003Z
UID:10011008-1788114600-1788117300@trinityboardmills.org
SUMMARY:Evening Service
DESCRIPTION:
URL:https://trinityboardmills.org/event/evening-service-2/2026-08-30/
LOCATION:Church Building\, BT27 6UP\, United Kingdom
CATEGORIES:Sunday
ATTACH;FMTTYPE=image/jpeg:https://trinityboardmills.org/wp-content/uploads/2022/11/EveningServiceEV.jpg
GEO:54.466933365694;-5.9199475846608
END:VEVENT
BEGIN:VEVENT
DTSTART;TZID=UTC:20260831T100000
DTEND;TZID=UTC:20260831T111500
DTSTAMP:20260420T042437
CREATED:20260104T141313Z
LAST-MODIFIED:20260326T092521Z
UID:10014704-1788170400-1788174900@trinityboardmills.org
SUMMARY:Trinity Tots
DESCRIPTION:
URL:https://trinityboardmills.org/event/trinity-tots-2-2-2-2-2/2026-08-31/
LOCATION:Killaney Hall
CATEGORIES:Trinity Tots Featured
ATTACH;FMTTYPE=image/jpeg:https://trinityboardmills.org/wp-content/uploads/2022/11/CrecheEV.jpg
GEO:54.4662977;-5.9128505
END:VEVENT
BEGIN:VEVENT
DTSTART;TZID=UTC:20260903T103000
DTEND;TZID=UTC:20260903T113000
DTSTAMP:20260420T042437
CREATED:20230911T123435Z
LAST-MODIFIED:20260326T081458Z
UID:10013791-1788431400-1788435000@trinityboardmills.org
SUMMARY:Ladies Bible Study
DESCRIPTION:
URL:https://trinityboardmills.org/event/ladies-bible-study-2/2026-09-03/
LOCATION:Killaney Hall
CATEGORIES:Adults,Ladies
ATTACH;FMTTYPE=image/jpeg:https://trinityboardmills.org/wp-content/uploads/2022/11/LadiesBibleStudyEV.jpg
GEO:54.4662977;-5.9128505
END:VEVENT
BEGIN:VEVENT
DTSTART;TZID=UTC:20260905T183000
DTEND;TZID=UTC:20260905T200000
DTSTAMP:20260420T042437
CREATED:20250820T095239Z
LAST-MODIFIED:20260323T091415Z
UID:10017084-1788633000-1788638400@trinityboardmills.org
SUMMARY:Pulse Junior
DESCRIPTION:
URL:https://trinityboardmills.org/event/pulse-junior-2-2-2-2-2-2/2026-09-05/
LOCATION:Killaney Hall
CATEGORIES:Pulse Featured,Youth & Children
ATTACH;FMTTYPE=image/jpeg:https://trinityboardmills.org/wp-content/uploads/2022/11/Pulse-web-2.jpg
GEO:54.4662977;-5.9128505
END:VEVENT
BEGIN:VEVENT
DTSTART;TZID=UTC:20260906T113000
DTEND;TZID=UTC:20260906T123000
DTSTAMP:20260420T042437
CREATED:20221031T111539Z
LAST-MODIFIED:20241217T123050Z
UID:10003097-1788694200-1788697800@trinityboardmills.org
SUMMARY:Morning Worship
DESCRIPTION:
URL:https://trinityboardmills.org/event/morning-service/2026-09-06/
LOCATION:Church Building\, BT27 6UP\, United Kingdom
CATEGORIES:Sunday
ATTACH;FMTTYPE=image/jpeg:https://trinityboardmills.org/wp-content/uploads/2022/11/SundayEV.jpg
GEO:54.466933365694;-5.9199475846608
END:VEVENT
BEGIN:VEVENT
DTSTART;TZID=UTC:20260906T114500
DTEND;TZID=UTC:20260906T123000
DTSTAMP:20260420T042437
CREATED:20221031T111350Z
LAST-MODIFIED:20241217T123139Z
UID:10007514-1788695100-1788697800@trinityboardmills.org
SUMMARY:Sunday CE & Creche
DESCRIPTION:
URL:https://trinityboardmills.org/event/sundayce/2026-09-06/
LOCATION:Kerr Room
CATEGORIES:Children
ATTACH;FMTTYPE=image/jpeg:https://trinityboardmills.org/wp-content/uploads/2022/11/SundayCEEV.jpg
END:VEVENT
BEGIN:VEVENT
DTSTART;TZID=UTC:20260906T183000
DTEND;TZID=UTC:20260906T191500
DTSTAMP:20260420T042437
CREATED:20240903T080905Z
LAST-MODIFIED:20260405T092003Z
UID:10011009-1788719400-1788722100@trinityboardmills.org
SUMMARY:Evening Service
DESCRIPTION:
URL:https://trinityboardmills.org/event/evening-service-2/2026-09-06/
LOCATION:Church Building\, BT27 6UP\, United Kingdom
CATEGORIES:Sunday
ATTACH;FMTTYPE=image/jpeg:https://trinityboardmills.org/wp-content/uploads/2022/11/EveningServiceEV.jpg
GEO:54.466933365694;-5.9199475846608
END:VEVENT
END:VCALENDAR