BEGIN:VCALENDAR
VERSION:2.0
PRODID:-//Trinity Presbyterian - ECPv6.15.20//NONSGML v1.0//EN
CALSCALE:GREGORIAN
METHOD:PUBLISH
X-WR-CALNAME:Trinity Presbyterian
X-ORIGINAL-URL:https://trinityboardmills.org
X-WR-CALDESC:Events for Trinity Presbyterian
REFRESH-INTERVAL;VALUE=DURATION:PT1H
X-Robots-Tag:noindex
X-PUBLISHED-TTL:PT1H
BEGIN:VTIMEZONE
TZID:UTC
BEGIN:STANDARD
TZOFFSETFROM:+0000
TZOFFSETTO:+0000
TZNAME:UTC
DTSTART:20250101T000000
END:STANDARD
END:VTIMEZONE
BEGIN:VEVENT
DTSTART;TZID=UTC:20260514T193000
DTEND;TZID=UTC:20260514T213000
DTSTAMP:20260421T085233
CREATED:20260104T151947Z
LAST-MODIFIED:20260408T132848Z
UID:10017577-1778787000-1778794200@trinityboardmills.org
SUMMARY:Trinity Women
DESCRIPTION:Trinity Women meet on the second Thursday of the month. All ladies very welcome. \nContact a member of PW committee or email office@trinityboardmills.org for more details.
URL:https://trinityboardmills.org/event/trinity-women-2/2026-05-14/
LOCATION:McKee Hall\, BT27 6UP\, United Kingdom
CATEGORIES:Ladies
ATTACH;FMTTYPE=image/png:https://trinityboardmills.org/wp-content/uploads/2022/11/PW-Logo.png
GEO:54.466933365694;-5.9199475846608
END:VEVENT
BEGIN:VEVENT
DTSTART;TZID=UTC:20260611T193000
DTEND;TZID=UTC:20260611T213000
DTSTAMP:20260421T085233
CREATED:20260104T151947Z
LAST-MODIFIED:20260408T132848Z
UID:10017578-1781206200-1781213400@trinityboardmills.org
SUMMARY:Trinity Women
DESCRIPTION:Trinity Women meet on the second Thursday of the month. All ladies very welcome. \nContact a member of PW committee or email office@trinityboardmills.org for more details.
URL:https://trinityboardmills.org/event/trinity-women-2/2026-06-11/
LOCATION:McKee Hall\, BT27 6UP\, United Kingdom
CATEGORIES:Ladies
ATTACH;FMTTYPE=image/png:https://trinityboardmills.org/wp-content/uploads/2022/11/PW-Logo.png
GEO:54.466933365694;-5.9199475846608
END:VEVENT
BEGIN:VEVENT
DTSTART;TZID=UTC:20260709T193000
DTEND;TZID=UTC:20260709T213000
DTSTAMP:20260421T085233
CREATED:20260104T151947Z
LAST-MODIFIED:20260408T132848Z
UID:10017579-1783625400-1783632600@trinityboardmills.org
SUMMARY:Trinity Women
DESCRIPTION:Trinity Women meet on the second Thursday of the month. All ladies very welcome. \nContact a member of PW committee or email office@trinityboardmills.org for more details.
URL:https://trinityboardmills.org/event/trinity-women-2/2026-07-09/
LOCATION:McKee Hall\, BT27 6UP\, United Kingdom
CATEGORIES:Ladies
ATTACH;FMTTYPE=image/png:https://trinityboardmills.org/wp-content/uploads/2022/11/PW-Logo.png
GEO:54.466933365694;-5.9199475846608
END:VEVENT
BEGIN:VEVENT
DTSTART;TZID=UTC:20260813T193000
DTEND;TZID=UTC:20260813T213000
DTSTAMP:20260421T085233
CREATED:20260104T151947Z
LAST-MODIFIED:20260408T132848Z
UID:10017580-1786649400-1786656600@trinityboardmills.org
SUMMARY:Trinity Women
DESCRIPTION:Trinity Women meet on the second Thursday of the month. All ladies very welcome. \nContact a member of PW committee or email office@trinityboardmills.org for more details.
URL:https://trinityboardmills.org/event/trinity-women-2/2026-08-13/
LOCATION:McKee Hall\, BT27 6UP\, United Kingdom
CATEGORIES:Ladies
ATTACH;FMTTYPE=image/png:https://trinityboardmills.org/wp-content/uploads/2022/11/PW-Logo.png
GEO:54.466933365694;-5.9199475846608
END:VEVENT
BEGIN:VEVENT
DTSTART;TZID=UTC:20260910T193000
DTEND;TZID=UTC:20260910T213000
DTSTAMP:20260421T085233
CREATED:20260104T151947Z
LAST-MODIFIED:20260408T132848Z
UID:10017581-1789068600-1789075800@trinityboardmills.org
SUMMARY:Trinity Women
DESCRIPTION:Trinity Women meet on the second Thursday of the month. All ladies very welcome. \nContact a member of PW committee or email office@trinityboardmills.org for more details.
URL:https://trinityboardmills.org/event/trinity-women-2/2026-09-10/
LOCATION:McKee Hall\, BT27 6UP\, United Kingdom
CATEGORIES:Ladies
ATTACH;FMTTYPE=image/png:https://trinityboardmills.org/wp-content/uploads/2022/11/PW-Logo.png
GEO:54.466933365694;-5.9199475846608
END:VEVENT
BEGIN:VEVENT
DTSTART;TZID=UTC:20261008T193000
DTEND;TZID=UTC:20261008T213000
DTSTAMP:20260421T085233
CREATED:20260104T151947Z
LAST-MODIFIED:20260408T132848Z
UID:10017582-1791487800-1791495000@trinityboardmills.org
SUMMARY:Trinity Women
DESCRIPTION:Trinity Women meet on the second Thursday of the month. All ladies very welcome. \nContact a member of PW committee or email office@trinityboardmills.org for more details.
URL:https://trinityboardmills.org/event/trinity-women-2/2026-10-08/
LOCATION:McKee Hall\, BT27 6UP\, United Kingdom
CATEGORIES:Ladies
ATTACH;FMTTYPE=image/png:https://trinityboardmills.org/wp-content/uploads/2022/11/PW-Logo.png
GEO:54.466933365694;-5.9199475846608
END:VEVENT
BEGIN:VEVENT
DTSTART;TZID=UTC:20261112T193000
DTEND;TZID=UTC:20261112T213000
DTSTAMP:20260421T085233
CREATED:20260104T151947Z
LAST-MODIFIED:20260408T132848Z
UID:10017583-1794511800-1794519000@trinityboardmills.org
SUMMARY:Trinity Women
DESCRIPTION:Trinity Women meet on the second Thursday of the month. All ladies very welcome. \nContact a member of PW committee or email office@trinityboardmills.org for more details.
URL:https://trinityboardmills.org/event/trinity-women-2/2026-11-12/
LOCATION:McKee Hall\, BT27 6UP\, United Kingdom
CATEGORIES:Ladies
ATTACH;FMTTYPE=image/png:https://trinityboardmills.org/wp-content/uploads/2022/11/PW-Logo.png
GEO:54.466933365694;-5.9199475846608
END:VEVENT
BEGIN:VEVENT
DTSTART;TZID=UTC:20261210T193000
DTEND;TZID=UTC:20261210T213000
DTSTAMP:20260421T085233
CREATED:20260104T151947Z
LAST-MODIFIED:20260408T132848Z
UID:10017584-1796931000-1796938200@trinityboardmills.org
SUMMARY:Trinity Women
DESCRIPTION:Trinity Women meet on the second Thursday of the month. All ladies very welcome. \nContact a member of PW committee or email office@trinityboardmills.org for more details.
URL:https://trinityboardmills.org/event/trinity-women-2/2026-12-10/
LOCATION:McKee Hall\, BT27 6UP\, United Kingdom
CATEGORIES:Ladies
ATTACH;FMTTYPE=image/png:https://trinityboardmills.org/wp-content/uploads/2022/11/PW-Logo.png
GEO:54.466933365694;-5.9199475846608
END:VEVENT
BEGIN:VEVENT
DTSTART;TZID=UTC:20270114T193000
DTEND;TZID=UTC:20270114T213000
DTSTAMP:20260421T085233
CREATED:20260104T151947Z
LAST-MODIFIED:20260408T132848Z
UID:10017585-1799955000-1799962200@trinityboardmills.org
SUMMARY:Trinity Women
DESCRIPTION:Trinity Women meet on the second Thursday of the month. All ladies very welcome. \nContact a member of PW committee or email office@trinityboardmills.org for more details.
URL:https://trinityboardmills.org/event/trinity-women-2/2027-01-14/
LOCATION:McKee Hall\, BT27 6UP\, United Kingdom
CATEGORIES:Ladies
ATTACH;FMTTYPE=image/png:https://trinityboardmills.org/wp-content/uploads/2022/11/PW-Logo.png
GEO:54.466933365694;-5.9199475846608
END:VEVENT
BEGIN:VEVENT
DTSTART;TZID=UTC:20270211T193000
DTEND;TZID=UTC:20270211T213000
DTSTAMP:20260421T085233
CREATED:20260104T151947Z
LAST-MODIFIED:20260408T132848Z
UID:10017586-1802374200-1802381400@trinityboardmills.org
SUMMARY:Trinity Women
DESCRIPTION:Trinity Women meet on the second Thursday of the month. All ladies very welcome. \nContact a member of PW committee or email office@trinityboardmills.org for more details.
URL:https://trinityboardmills.org/event/trinity-women-2/2027-02-11/
LOCATION:McKee Hall\, BT27 6UP\, United Kingdom
CATEGORIES:Ladies
ATTACH;FMTTYPE=image/png:https://trinityboardmills.org/wp-content/uploads/2022/11/PW-Logo.png
GEO:54.466933365694;-5.9199475846608
END:VEVENT
BEGIN:VEVENT
DTSTART;TZID=UTC:20270311T193000
DTEND;TZID=UTC:20270311T213000
DTSTAMP:20260421T085233
CREATED:20260104T151947Z
LAST-MODIFIED:20260408T132848Z
UID:10017587-1804793400-1804800600@trinityboardmills.org
SUMMARY:Trinity Women
DESCRIPTION:Trinity Women meet on the second Thursday of the month. All ladies very welcome. \nContact a member of PW committee or email office@trinityboardmills.org for more details.
URL:https://trinityboardmills.org/event/trinity-women-2/2027-03-11/
LOCATION:McKee Hall\, BT27 6UP\, United Kingdom
CATEGORIES:Ladies
ATTACH;FMTTYPE=image/png:https://trinityboardmills.org/wp-content/uploads/2022/11/PW-Logo.png
GEO:54.466933365694;-5.9199475846608
END:VEVENT
BEGIN:VEVENT
DTSTART;TZID=UTC:20270408T193000
DTEND;TZID=UTC:20270408T213000
DTSTAMP:20260421T085233
CREATED:20260104T151947Z
LAST-MODIFIED:20260408T132848Z
UID:10017588-1807212600-1807219800@trinityboardmills.org
SUMMARY:Trinity Women
DESCRIPTION:Trinity Women meet on the second Thursday of the month. All ladies very welcome. \nContact a member of PW committee or email office@trinityboardmills.org for more details.
URL:https://trinityboardmills.org/event/trinity-women-2/2027-04-08/
LOCATION:McKee Hall\, BT27 6UP\, United Kingdom
CATEGORIES:Ladies
ATTACH;FMTTYPE=image/png:https://trinityboardmills.org/wp-content/uploads/2022/11/PW-Logo.png
GEO:54.466933365694;-5.9199475846608
END:VEVENT
BEGIN:VEVENT
DTSTART;TZID=UTC:20270513T193000
DTEND;TZID=UTC:20270513T213000
DTSTAMP:20260421T085233
CREATED:20260104T151947Z
LAST-MODIFIED:20260408T132848Z
UID:10017589-1810236600-1810243800@trinityboardmills.org
SUMMARY:Trinity Women
DESCRIPTION:Trinity Women meet on the second Thursday of the month. All ladies very welcome. \nContact a member of PW committee or email office@trinityboardmills.org for more details.
URL:https://trinityboardmills.org/event/trinity-women-2/2027-05-13/
LOCATION:McKee Hall\, BT27 6UP\, United Kingdom
CATEGORIES:Ladies
ATTACH;FMTTYPE=image/png:https://trinityboardmills.org/wp-content/uploads/2022/11/PW-Logo.png
GEO:54.466933365694;-5.9199475846608
END:VEVENT
BEGIN:VEVENT
DTSTART;TZID=UTC:20270610T193000
DTEND;TZID=UTC:20270610T213000
DTSTAMP:20260421T085233
CREATED:20260104T151947Z
LAST-MODIFIED:20260408T132848Z
UID:10017590-1812655800-1812663000@trinityboardmills.org
SUMMARY:Trinity Women
DESCRIPTION:Trinity Women meet on the second Thursday of the month. All ladies very welcome. \nContact a member of PW committee or email office@trinityboardmills.org for more details.
URL:https://trinityboardmills.org/event/trinity-women-2/2027-06-10/
LOCATION:McKee Hall\, BT27 6UP\, United Kingdom
CATEGORIES:Ladies
ATTACH;FMTTYPE=image/png:https://trinityboardmills.org/wp-content/uploads/2022/11/PW-Logo.png
GEO:54.466933365694;-5.9199475846608
END:VEVENT
BEGIN:VEVENT
DTSTART;TZID=UTC:20270708T193000
DTEND;TZID=UTC:20270708T213000
DTSTAMP:20260421T085233
CREATED:20260104T151947Z
LAST-MODIFIED:20260408T132848Z
UID:10017591-1815075000-1815082200@trinityboardmills.org
SUMMARY:Trinity Women
DESCRIPTION:Trinity Women meet on the second Thursday of the month. All ladies very welcome. \nContact a member of PW committee or email office@trinityboardmills.org for more details.
URL:https://trinityboardmills.org/event/trinity-women-2/2027-07-08/
LOCATION:McKee Hall\, BT27 6UP\, United Kingdom
CATEGORIES:Ladies
ATTACH;FMTTYPE=image/png:https://trinityboardmills.org/wp-content/uploads/2022/11/PW-Logo.png
GEO:54.466933365694;-5.9199475846608
END:VEVENT
BEGIN:VEVENT
DTSTART;TZID=UTC:20270812T193000
DTEND;TZID=UTC:20270812T213000
DTSTAMP:20260421T085233
CREATED:20260104T151947Z
LAST-MODIFIED:20260408T132848Z
UID:10017592-1818099000-1818106200@trinityboardmills.org
SUMMARY:Trinity Women
DESCRIPTION:Trinity Women meet on the second Thursday of the month. All ladies very welcome. \nContact a member of PW committee or email office@trinityboardmills.org for more details.
URL:https://trinityboardmills.org/event/trinity-women-2/2027-08-12/
LOCATION:McKee Hall\, BT27 6UP\, United Kingdom
CATEGORIES:Ladies
ATTACH;FMTTYPE=image/png:https://trinityboardmills.org/wp-content/uploads/2022/11/PW-Logo.png
GEO:54.466933365694;-5.9199475846608
END:VEVENT
BEGIN:VEVENT
DTSTART;TZID=UTC:20270909T193000
DTEND;TZID=UTC:20270909T213000
DTSTAMP:20260421T085233
CREATED:20260104T151947Z
LAST-MODIFIED:20260408T132848Z
UID:10017593-1820518200-1820525400@trinityboardmills.org
SUMMARY:Trinity Women
DESCRIPTION:Trinity Women meet on the second Thursday of the month. All ladies very welcome. \nContact a member of PW committee or email office@trinityboardmills.org for more details.
URL:https://trinityboardmills.org/event/trinity-women-2/2027-09-09/
LOCATION:McKee Hall\, BT27 6UP\, United Kingdom
CATEGORIES:Ladies
ATTACH;FMTTYPE=image/png:https://trinityboardmills.org/wp-content/uploads/2022/11/PW-Logo.png
GEO:54.466933365694;-5.9199475846608
END:VEVENT
BEGIN:VEVENT
DTSTART;TZID=UTC:20271014T193000
DTEND;TZID=UTC:20271014T213000
DTSTAMP:20260421T085233
CREATED:20260104T151947Z
LAST-MODIFIED:20260408T132848Z
UID:10017594-1823542200-1823549400@trinityboardmills.org
SUMMARY:Trinity Women
DESCRIPTION:Trinity Women meet on the second Thursday of the month. All ladies very welcome. \nContact a member of PW committee or email office@trinityboardmills.org for more details.
URL:https://trinityboardmills.org/event/trinity-women-2/2027-10-14/
LOCATION:McKee Hall\, BT27 6UP\, United Kingdom
CATEGORIES:Ladies
ATTACH;FMTTYPE=image/png:https://trinityboardmills.org/wp-content/uploads/2022/11/PW-Logo.png
GEO:54.466933365694;-5.9199475846608
END:VEVENT
BEGIN:VEVENT
DTSTART;TZID=UTC:20271111T193000
DTEND;TZID=UTC:20271111T213000
DTSTAMP:20260421T085233
CREATED:20260104T151947Z
LAST-MODIFIED:20260408T132848Z
UID:10017595-1825961400-1825968600@trinityboardmills.org
SUMMARY:Trinity Women
DESCRIPTION:Trinity Women meet on the second Thursday of the month. All ladies very welcome. \nContact a member of PW committee or email office@trinityboardmills.org for more details.
URL:https://trinityboardmills.org/event/trinity-women-2/2027-11-11/
LOCATION:McKee Hall\, BT27 6UP\, United Kingdom
CATEGORIES:Ladies
ATTACH;FMTTYPE=image/png:https://trinityboardmills.org/wp-content/uploads/2022/11/PW-Logo.png
GEO:54.466933365694;-5.9199475846608
END:VEVENT
BEGIN:VEVENT
DTSTART;TZID=UTC:20271209T193000
DTEND;TZID=UTC:20271209T213000
DTSTAMP:20260421T085233
CREATED:20260104T151947Z
LAST-MODIFIED:20260408T132848Z
UID:10017596-1828380600-1828387800@trinityboardmills.org
SUMMARY:Trinity Women
DESCRIPTION:Trinity Women meet on the second Thursday of the month. All ladies very welcome. \nContact a member of PW committee or email office@trinityboardmills.org for more details.
URL:https://trinityboardmills.org/event/trinity-women-2/2027-12-09/
LOCATION:McKee Hall\, BT27 6UP\, United Kingdom
CATEGORIES:Ladies
ATTACH;FMTTYPE=image/png:https://trinityboardmills.org/wp-content/uploads/2022/11/PW-Logo.png
GEO:54.466933365694;-5.9199475846608
END:VEVENT
BEGIN:VEVENT
DTSTART;TZID=UTC:20280113T193000
DTEND;TZID=UTC:20280113T213000
DTSTAMP:20260421T085233
CREATED:20260104T151947Z
LAST-MODIFIED:20260408T132848Z
UID:10017597-1831404600-1831411800@trinityboardmills.org
SUMMARY:Trinity Women
DESCRIPTION:Trinity Women meet on the second Thursday of the month. All ladies very welcome. \nContact a member of PW committee or email office@trinityboardmills.org for more details.
URL:https://trinityboardmills.org/event/trinity-women-2/2028-01-13/
LOCATION:McKee Hall\, BT27 6UP\, United Kingdom
CATEGORIES:Ladies
ATTACH;FMTTYPE=image/png:https://trinityboardmills.org/wp-content/uploads/2022/11/PW-Logo.png
GEO:54.466933365694;-5.9199475846608
END:VEVENT
BEGIN:VEVENT
DTSTART;TZID=UTC:20280210T193000
DTEND;TZID=UTC:20280210T213000
DTSTAMP:20260421T085233
CREATED:20260104T151947Z
LAST-MODIFIED:20260408T132848Z
UID:10017598-1833823800-1833831000@trinityboardmills.org
SUMMARY:Trinity Women
DESCRIPTION:Trinity Women meet on the second Thursday of the month. All ladies very welcome. \nContact a member of PW committee or email office@trinityboardmills.org for more details.
URL:https://trinityboardmills.org/event/trinity-women-2/2028-02-10/
LOCATION:McKee Hall\, BT27 6UP\, United Kingdom
CATEGORIES:Ladies
ATTACH;FMTTYPE=image/png:https://trinityboardmills.org/wp-content/uploads/2022/11/PW-Logo.png
GEO:54.466933365694;-5.9199475846608
END:VEVENT
BEGIN:VEVENT
DTSTART;TZID=UTC:20280309T193000
DTEND;TZID=UTC:20280309T213000
DTSTAMP:20260421T085233
CREATED:20260104T151947Z
LAST-MODIFIED:20260408T132848Z
UID:10017599-1836243000-1836250200@trinityboardmills.org
SUMMARY:Trinity Women
DESCRIPTION:Trinity Women meet on the second Thursday of the month. All ladies very welcome. \nContact a member of PW committee or email office@trinityboardmills.org for more details.
URL:https://trinityboardmills.org/event/trinity-women-2/2028-03-09/
LOCATION:McKee Hall\, BT27 6UP\, United Kingdom
CATEGORIES:Ladies
ATTACH;FMTTYPE=image/png:https://trinityboardmills.org/wp-content/uploads/2022/11/PW-Logo.png
GEO:54.466933365694;-5.9199475846608
END:VEVENT
BEGIN:VEVENT
DTSTART;TZID=UTC:20280413T193000
DTEND;TZID=UTC:20280413T213000
DTSTAMP:20260421T085233
CREATED:20260104T151947Z
LAST-MODIFIED:20260408T132848Z
UID:10017600-1839267000-1839274200@trinityboardmills.org
SUMMARY:Trinity Women
DESCRIPTION:Trinity Women meet on the second Thursday of the month. All ladies very welcome. \nContact a member of PW committee or email office@trinityboardmills.org for more details.
URL:https://trinityboardmills.org/event/trinity-women-2/2028-04-13/
LOCATION:McKee Hall\, BT27 6UP\, United Kingdom
CATEGORIES:Ladies
ATTACH;FMTTYPE=image/png:https://trinityboardmills.org/wp-content/uploads/2022/11/PW-Logo.png
GEO:54.466933365694;-5.9199475846608
END:VEVENT
BEGIN:VEVENT
DTSTART;TZID=UTC:20280511T193000
DTEND;TZID=UTC:20280511T213000
DTSTAMP:20260421T085233
CREATED:20260104T151947Z
LAST-MODIFIED:20260408T132848Z
UID:10017601-1841686200-1841693400@trinityboardmills.org
SUMMARY:Trinity Women
DESCRIPTION:Trinity Women meet on the second Thursday of the month. All ladies very welcome. \nContact a member of PW committee or email office@trinityboardmills.org for more details.
URL:https://trinityboardmills.org/event/trinity-women-2/2028-05-11/
LOCATION:McKee Hall\, BT27 6UP\, United Kingdom
CATEGORIES:Ladies
ATTACH;FMTTYPE=image/png:https://trinityboardmills.org/wp-content/uploads/2022/11/PW-Logo.png
GEO:54.466933365694;-5.9199475846608
END:VEVENT
BEGIN:VEVENT
DTSTART;TZID=UTC:20280608T193000
DTEND;TZID=UTC:20280608T213000
DTSTAMP:20260421T085233
CREATED:20260104T151947Z
LAST-MODIFIED:20260408T132848Z
UID:10017602-1844105400-1844112600@trinityboardmills.org
SUMMARY:Trinity Women
DESCRIPTION:Trinity Women meet on the second Thursday of the month. All ladies very welcome. \nContact a member of PW committee or email office@trinityboardmills.org for more details.
URL:https://trinityboardmills.org/event/trinity-women-2/2028-06-08/
LOCATION:McKee Hall\, BT27 6UP\, United Kingdom
CATEGORIES:Ladies
ATTACH;FMTTYPE=image/png:https://trinityboardmills.org/wp-content/uploads/2022/11/PW-Logo.png
GEO:54.466933365694;-5.9199475846608
END:VEVENT
BEGIN:VEVENT
DTSTART;TZID=UTC:20280713T193000
DTEND;TZID=UTC:20280713T213000
DTSTAMP:20260421T085233
CREATED:20260104T151947Z
LAST-MODIFIED:20260408T132848Z
UID:10017603-1847129400-1847136600@trinityboardmills.org
SUMMARY:Trinity Women
DESCRIPTION:Trinity Women meet on the second Thursday of the month. All ladies very welcome. \nContact a member of PW committee or email office@trinityboardmills.org for more details.
URL:https://trinityboardmills.org/event/trinity-women-2/2028-07-13/
LOCATION:McKee Hall\, BT27 6UP\, United Kingdom
CATEGORIES:Ladies
ATTACH;FMTTYPE=image/png:https://trinityboardmills.org/wp-content/uploads/2022/11/PW-Logo.png
GEO:54.466933365694;-5.9199475846608
END:VEVENT
BEGIN:VEVENT
DTSTART;TZID=UTC:20280810T193000
DTEND;TZID=UTC:20280810T213000
DTSTAMP:20260421T085233
CREATED:20260104T151947Z
LAST-MODIFIED:20260408T132848Z
UID:10017604-1849548600-1849555800@trinityboardmills.org
SUMMARY:Trinity Women
DESCRIPTION:Trinity Women meet on the second Thursday of the month. All ladies very welcome. \nContact a member of PW committee or email office@trinityboardmills.org for more details.
URL:https://trinityboardmills.org/event/trinity-women-2/2028-08-10/
LOCATION:McKee Hall\, BT27 6UP\, United Kingdom
CATEGORIES:Ladies
ATTACH;FMTTYPE=image/png:https://trinityboardmills.org/wp-content/uploads/2022/11/PW-Logo.png
GEO:54.466933365694;-5.9199475846608
END:VEVENT
BEGIN:VEVENT
DTSTART;TZID=UTC:20280914T193000
DTEND;TZID=UTC:20280914T213000
DTSTAMP:20260421T085233
CREATED:20260104T151947Z
LAST-MODIFIED:20260408T132848Z
UID:10017605-1852572600-1852579800@trinityboardmills.org
SUMMARY:Trinity Women
DESCRIPTION:Trinity Women meet on the second Thursday of the month. All ladies very welcome. \nContact a member of PW committee or email office@trinityboardmills.org for more details.
URL:https://trinityboardmills.org/event/trinity-women-2/2028-09-14/
LOCATION:McKee Hall\, BT27 6UP\, United Kingdom
CATEGORIES:Ladies
ATTACH;FMTTYPE=image/png:https://trinityboardmills.org/wp-content/uploads/2022/11/PW-Logo.png
GEO:54.466933365694;-5.9199475846608
END:VEVENT
BEGIN:VEVENT
DTSTART;TZID=UTC:20281012T193000
DTEND;TZID=UTC:20281012T213000
DTSTAMP:20260421T085233
CREATED:20260104T151947Z
LAST-MODIFIED:20260408T132848Z
UID:10017606-1854991800-1854999000@trinityboardmills.org
SUMMARY:Trinity Women
DESCRIPTION:Trinity Women meet on the second Thursday of the month. All ladies very welcome. \nContact a member of PW committee or email office@trinityboardmills.org for more details.
URL:https://trinityboardmills.org/event/trinity-women-2/2028-10-12/
LOCATION:McKee Hall\, BT27 6UP\, United Kingdom
CATEGORIES:Ladies
ATTACH;FMTTYPE=image/png:https://trinityboardmills.org/wp-content/uploads/2022/11/PW-Logo.png
GEO:54.466933365694;-5.9199475846608
END:VEVENT
END:VCALENDAR