BEGIN:VCALENDAR
VERSION:2.0
PRODID:-//Trinity Presbyterian - ECPv6.15.20//NONSGML v1.0//EN
CALSCALE:GREGORIAN
METHOD:PUBLISH
X-WR-CALNAME:Trinity Presbyterian
X-ORIGINAL-URL:https://trinityboardmills.org
X-WR-CALDESC:Events for Trinity Presbyterian
REFRESH-INTERVAL;VALUE=DURATION:PT1H
X-Robots-Tag:noindex
X-PUBLISHED-TTL:PT1H
BEGIN:VTIMEZONE
TZID:UTC
BEGIN:STANDARD
TZOFFSETFROM:+0000
TZOFFSETTO:+0000
TZNAME:UTC
DTSTART:20220101T000000
END:STANDARD
END:VTIMEZONE
BEGIN:VEVENT
DTSTART;TZID=UTC:20230827T113000
DTEND;TZID=UTC:20230827T123000
DTSTAMP:20260422T215102
CREATED:20221031T111539Z
LAST-MODIFIED:20241217T123050Z
UID:10002939-1693135800-1693139400@trinityboardmills.org
SUMMARY:Morning Worship
DESCRIPTION:
URL:https://trinityboardmills.org/event/morning-service/2023-08-27/
LOCATION:Church Building\, BT27 6UP\, United Kingdom
CATEGORIES:Sunday
ATTACH;FMTTYPE=image/jpeg:https://trinityboardmills.org/wp-content/uploads/2022/11/SundayEV.jpg
GEO:54.466933365694;-5.9199475846608
END:VEVENT
BEGIN:VEVENT
DTSTART;TZID=UTC:20230827T114500
DTEND;TZID=UTC:20230827T123000
DTSTAMP:20260422T215102
CREATED:20221031T111350Z
LAST-MODIFIED:20241217T123139Z
UID:10007356-1693136700-1693139400@trinityboardmills.org
SUMMARY:Sunday CE & Creche
DESCRIPTION:
URL:https://trinityboardmills.org/event/sundayce/2023-08-27/
LOCATION:Kerr Room
CATEGORIES:Children
ATTACH;FMTTYPE=image/jpeg:https://trinityboardmills.org/wp-content/uploads/2022/11/SundayCEEV.jpg
END:VEVENT
BEGIN:VEVENT
DTSTART;TZID=UTC:20230903T113000
DTEND;TZID=UTC:20230903T123000
DTSTAMP:20260422T215102
CREATED:20221031T111539Z
LAST-MODIFIED:20241217T123050Z
UID:10002940-1693740600-1693744200@trinityboardmills.org
SUMMARY:Morning Worship
DESCRIPTION:
URL:https://trinityboardmills.org/event/morning-service/2023-09-03/
LOCATION:Church Building\, BT27 6UP\, United Kingdom
CATEGORIES:Sunday
ATTACH;FMTTYPE=image/jpeg:https://trinityboardmills.org/wp-content/uploads/2022/11/SundayEV.jpg
GEO:54.466933365694;-5.9199475846608
END:VEVENT
BEGIN:VEVENT
DTSTART;TZID=UTC:20230903T114500
DTEND;TZID=UTC:20230903T123000
DTSTAMP:20260422T215102
CREATED:20221031T111350Z
LAST-MODIFIED:20241217T123139Z
UID:10007357-1693741500-1693744200@trinityboardmills.org
SUMMARY:Sunday CE & Creche
DESCRIPTION:
URL:https://trinityboardmills.org/event/sundayce/2023-09-03/
LOCATION:Kerr Room
CATEGORIES:Children
ATTACH;FMTTYPE=image/jpeg:https://trinityboardmills.org/wp-content/uploads/2022/11/SundayCEEV.jpg
END:VEVENT
BEGIN:VEVENT
DTSTART;TZID=UTC:20230910T113000
DTEND;TZID=UTC:20230910T123000
DTSTAMP:20260422T215102
CREATED:20221031T111539Z
LAST-MODIFIED:20241217T123050Z
UID:10002941-1694345400-1694349000@trinityboardmills.org
SUMMARY:Morning Worship
DESCRIPTION:
URL:https://trinityboardmills.org/event/morning-service/2023-09-10/
LOCATION:Church Building\, BT27 6UP\, United Kingdom
CATEGORIES:Sunday
ATTACH;FMTTYPE=image/jpeg:https://trinityboardmills.org/wp-content/uploads/2022/11/SundayEV.jpg
GEO:54.466933365694;-5.9199475846608
END:VEVENT
BEGIN:VEVENT
DTSTART;TZID=UTC:20230910T114500
DTEND;TZID=UTC:20230910T123000
DTSTAMP:20260422T215102
CREATED:20221031T111350Z
LAST-MODIFIED:20241217T123139Z
UID:10007358-1694346300-1694349000@trinityboardmills.org
SUMMARY:Sunday CE & Creche
DESCRIPTION:
URL:https://trinityboardmills.org/event/sundayce/2023-09-10/
LOCATION:Kerr Room
CATEGORIES:Children
ATTACH;FMTTYPE=image/jpeg:https://trinityboardmills.org/wp-content/uploads/2022/11/SundayCEEV.jpg
END:VEVENT
BEGIN:VEVENT
DTSTART;TZID=UTC:20230911T180000
DTEND;TZID=UTC:20230911T191500
DTSTAMP:20260422T215102
CREATED:20230905T135315Z
LAST-MODIFIED:20240319T105601Z
UID:10009175-1694455200-1694459700@trinityboardmills.org
SUMMARY:GB Explorers
DESCRIPTION:
URL:https://trinityboardmills.org/event/gb-explorers-2/2023-09-11/
LOCATION:McKee Hall\, BT27 6UP\, United Kingdom
CATEGORIES:GB Featured,Youth & Children
ATTACH;FMTTYPE=image/jpeg:https://trinityboardmills.org/wp-content/uploads/2022/11/GBJuniorEV.jpg
GEO:54.466933365694;-5.9199475846608
END:VEVENT
BEGIN:VEVENT
DTSTART;TZID=UTC:20230911T191500
DTEND;TZID=UTC:20230911T204500
DTSTAMP:20260422T215102
CREATED:20230905T142731Z
LAST-MODIFIED:20240319T105629Z
UID:10009174-1694459700-1694465100@trinityboardmills.org
SUMMARY:GB Juniors + Company Section
DESCRIPTION:
URL:https://trinityboardmills.org/event/gb-company-section-2/2023-09-11/
LOCATION:McKee Hall\, BT27 6UP\, United Kingdom
CATEGORIES:GB Featured,Youth & Children
ATTACH;FMTTYPE=image/jpeg:https://trinityboardmills.org/wp-content/uploads/2022/11/GBCompEV.jpg
GEO:54.466933365694;-5.9199475846608
END:VEVENT
BEGIN:VEVENT
DTSTART;TZID=UTC:20230916T190000
DTEND;TZID=UTC:20230916T210000
DTSTAMP:20260422T215102
CREATED:20230825T093300Z
LAST-MODIFIED:20240520T082608Z
UID:10004283-1694890800-1694898000@trinityboardmills.org
SUMMARY:Pulse Senior
DESCRIPTION:
URL:https://trinityboardmills.org/event/pulse-senior-2/2023-09-16/
LOCATION:Killaney Hall
CATEGORIES:Pulse Featured,Youth & Children
ATTACH;FMTTYPE=image/jpeg:https://trinityboardmills.org/wp-content/uploads/2023/03/Pulse-web.jpg
GEO:54.4662977;-5.9128505
END:VEVENT
BEGIN:VEVENT
DTSTART;TZID=UTC:20230917T113000
DTEND;TZID=UTC:20230917T123000
DTSTAMP:20260422T215102
CREATED:20221031T111539Z
LAST-MODIFIED:20241217T123050Z
UID:10002942-1694950200-1694953800@trinityboardmills.org
SUMMARY:Morning Worship
DESCRIPTION:
URL:https://trinityboardmills.org/event/morning-service/2023-09-17/
LOCATION:Church Building\, BT27 6UP\, United Kingdom
CATEGORIES:Sunday
ATTACH;FMTTYPE=image/jpeg:https://trinityboardmills.org/wp-content/uploads/2022/11/SundayEV.jpg
GEO:54.466933365694;-5.9199475846608
END:VEVENT
BEGIN:VEVENT
DTSTART;TZID=UTC:20230917T114500
DTEND;TZID=UTC:20230917T123000
DTSTAMP:20260422T215102
CREATED:20221031T111350Z
LAST-MODIFIED:20241217T123139Z
UID:10007359-1694951100-1694953800@trinityboardmills.org
SUMMARY:Sunday CE & Creche
DESCRIPTION:
URL:https://trinityboardmills.org/event/sundayce/2023-09-17/
LOCATION:Kerr Room
CATEGORIES:Children
ATTACH;FMTTYPE=image/jpeg:https://trinityboardmills.org/wp-content/uploads/2022/11/SundayCEEV.jpg
END:VEVENT
BEGIN:VEVENT
DTSTART;TZID=UTC:20230917T183000
DTEND;TZID=UTC:20230917T191500
DTSTAMP:20260422T215102
CREATED:20221031T111652Z
LAST-MODIFIED:20240630T125727Z
UID:10009176-1694975400-1694978100@trinityboardmills.org
SUMMARY:Evening Service
DESCRIPTION:
URL:https://trinityboardmills.org/event/evening-service/2023-09-17/
LOCATION:Church Building\, BT27 6UP\, United Kingdom
CATEGORIES:Sunday
ATTACH;FMTTYPE=image/jpeg:https://trinityboardmills.org/wp-content/uploads/2022/11/EveningServiceEV.jpg
GEO:54.466933365694;-5.9199475846608
END:VEVENT
BEGIN:VEVENT
DTSTART;TZID=UTC:20230918T100000
DTEND;TZID=UTC:20230918T111500
DTSTAMP:20260422T215102
CREATED:20230825T094622Z
LAST-MODIFIED:20250701T182019Z
UID:10000570-1695031200-1695035700@trinityboardmills.org
SUMMARY:Trinity Tots
DESCRIPTION:
URL:https://trinityboardmills.org/event/trinity-tots-2/2023-09-18/
LOCATION:Killaney Hall
CATEGORIES:Trinity Tots Featured
ATTACH;FMTTYPE=image/jpeg:https://trinityboardmills.org/wp-content/uploads/2022/11/TrinityTotsEV.jpg
GEO:54.4662977;-5.9128505
END:VEVENT
BEGIN:VEVENT
DTSTART;TZID=UTC:20230918T180000
DTEND;TZID=UTC:20230918T191500
DTSTAMP:20260422T215102
CREATED:20230905T135001Z
LAST-MODIFIED:20240319T105153Z
UID:10006426-1695060000-1695064500@trinityboardmills.org
SUMMARY:BB Anchor Boys
DESCRIPTION:
URL:https://trinityboardmills.org/event/bb-anchor-boys-2/2023-09-18/
LOCATION:Killaney Hall
CATEGORIES:BB Featured,Youth & Children
ATTACH;FMTTYPE=image/jpeg:https://trinityboardmills.org/wp-content/uploads/2022/11/BBExpEV.jpg
GEO:54.4662977;-5.9128505
END:VEVENT
BEGIN:VEVENT
DTSTART;TZID=UTC:20230918T180000
DTEND;TZID=UTC:20230918T191500
DTSTAMP:20260422T215102
CREATED:20230905T135315Z
LAST-MODIFIED:20240319T105601Z
UID:10000296-1695060000-1695064500@trinityboardmills.org
SUMMARY:GB Explorers
DESCRIPTION:
URL:https://trinityboardmills.org/event/gb-explorers-2/2023-09-18/
LOCATION:McKee Hall\, BT27 6UP\, United Kingdom
CATEGORIES:GB Featured,Youth & Children
ATTACH;FMTTYPE=image/jpeg:https://trinityboardmills.org/wp-content/uploads/2022/11/GBJuniorEV.jpg
GEO:54.466933365694;-5.9199475846608
END:VEVENT
BEGIN:VEVENT
DTSTART;TZID=UTC:20230918T190000
DTEND;TZID=UTC:20230918T203000
DTSTAMP:20260422T215102
CREATED:20230905T135123Z
LAST-MODIFIED:20240319T105243Z
UID:10002130-1695063600-1695069000@trinityboardmills.org
SUMMARY:BB Junior Section
DESCRIPTION:
URL:https://trinityboardmills.org/event/bb-junior-section-2/2023-09-18/
LOCATION:Killaney Hall
CATEGORIES:BB Featured,Youth & Children
ATTACH;FMTTYPE=image/jpeg:https://trinityboardmills.org/wp-content/uploads/2022/11/BBSQEV.jpg
GEO:54.4662977;-5.9128505
END:VEVENT
BEGIN:VEVENT
DTSTART;TZID=UTC:20230918T191500
DTEND;TZID=UTC:20230918T204500
DTSTAMP:20260422T215102
CREATED:20230905T142731Z
LAST-MODIFIED:20240319T105629Z
UID:10001606-1695064500-1695069900@trinityboardmills.org
SUMMARY:GB Juniors + Company Section
DESCRIPTION:
URL:https://trinityboardmills.org/event/gb-company-section-2/2023-09-18/
LOCATION:McKee Hall\, BT27 6UP\, United Kingdom
CATEGORIES:GB Featured,Youth & Children
ATTACH;FMTTYPE=image/jpeg:https://trinityboardmills.org/wp-content/uploads/2022/11/GBCompEV.jpg
GEO:54.466933365694;-5.9199475846608
END:VEVENT
BEGIN:VEVENT
DTSTART;TZID=UTC:20230918T191500
DTEND;TZID=UTC:20230918T210000
DTSTAMP:20260422T215102
CREATED:20230905T135426Z
LAST-MODIFIED:20240319T105454Z
UID:10001868-1695064500-1695070800@trinityboardmills.org
SUMMARY:BB Company Section
DESCRIPTION:
URL:https://trinityboardmills.org/event/bb-company-section-2/2023-09-18/
LOCATION:Killaney Hall
CATEGORIES:BB Featured,Youth & Children
ATTACH;FMTTYPE=image/jpeg:https://trinityboardmills.org/wp-content/uploads/2022/10/BBCompanyEV.jpg
GEO:54.4662977;-5.9128505
END:VEVENT
BEGIN:VEVENT
DTSTART;TZID=UTC:20230920T193000
DTEND;TZID=UTC:20230920T203000
DTSTAMP:20260422T215102
CREATED:20230914T191909Z
LAST-MODIFIED:20230914T192017Z
UID:10005257-1695238200-1695241800@trinityboardmills.org
SUMMARY:Fellowship Groups (Wed)
DESCRIPTION:This session we will be using the book “Belong”\, the first and third Wednesday of the month in Killaney Hall.
URL:https://trinityboardmills.org/event/fellowship-groups-wed-2-3/2023-09-20/
LOCATION:Killaney Hall
CATEGORIES:Fellowship Groups Featured
ATTACH;FMTTYPE=image/jpeg:https://trinityboardmills.org/wp-content/uploads/2022/11/FellowshipGroupEV.jpg
GEO:54.4662977;-5.9128505
END:VEVENT
BEGIN:VEVENT
DTSTART;TZID=UTC:20230921T193000
DTEND;TZID=UTC:20230921T203000
DTSTAMP:20260422T215102
CREATED:20230914T190955Z
LAST-MODIFIED:20230914T191148Z
UID:10005806-1695324600-1695328200@trinityboardmills.org
SUMMARY:Fellowship Groups (Thu)
DESCRIPTION:This session we will be using the book “Belong”\, the first and third Thursday of the month at Colin and Trish Foreman’s home.
URL:https://trinityboardmills.org/event/fellowship-groups-thu-2-3/2023-09-21/
CATEGORIES:Fellowship Groups Featured
ATTACH;FMTTYPE=image/jpeg:https://trinityboardmills.org/wp-content/uploads/2022/11/FellowshipGroupsEV.jpg
END:VEVENT
BEGIN:VEVENT
DTSTART;TZID=UTC:20230924T113000
DTEND;TZID=UTC:20230924T123000
DTSTAMP:20260422T215102
CREATED:20221031T111539Z
LAST-MODIFIED:20241217T123050Z
UID:10002943-1695555000-1695558600@trinityboardmills.org
SUMMARY:Morning Worship
DESCRIPTION:
URL:https://trinityboardmills.org/event/morning-service/2023-09-24/
LOCATION:Church Building\, BT27 6UP\, United Kingdom
CATEGORIES:Sunday
ATTACH;FMTTYPE=image/jpeg:https://trinityboardmills.org/wp-content/uploads/2022/11/SundayEV.jpg
GEO:54.466933365694;-5.9199475846608
END:VEVENT
BEGIN:VEVENT
DTSTART;TZID=UTC:20230924T114500
DTEND;TZID=UTC:20230924T123000
DTSTAMP:20260422T215102
CREATED:20221031T111350Z
LAST-MODIFIED:20241217T123139Z
UID:10007360-1695555900-1695558600@trinityboardmills.org
SUMMARY:Sunday CE & Creche
DESCRIPTION:
URL:https://trinityboardmills.org/event/sundayce/2023-09-24/
LOCATION:Kerr Room
CATEGORIES:Children
ATTACH;FMTTYPE=image/jpeg:https://trinityboardmills.org/wp-content/uploads/2022/11/SundayCEEV.jpg
END:VEVENT
BEGIN:VEVENT
DTSTART;TZID=UTC:20230924T183000
DTEND;TZID=UTC:20230924T191500
DTSTAMP:20260422T215102
CREATED:20221031T111652Z
LAST-MODIFIED:20240630T125727Z
UID:10009177-1695580200-1695582900@trinityboardmills.org
SUMMARY:Evening Service
DESCRIPTION:
URL:https://trinityboardmills.org/event/evening-service/2023-09-24/
LOCATION:Church Building\, BT27 6UP\, United Kingdom
CATEGORIES:Sunday
ATTACH;FMTTYPE=image/jpeg:https://trinityboardmills.org/wp-content/uploads/2022/11/EveningServiceEV.jpg
GEO:54.466933365694;-5.9199475846608
END:VEVENT
BEGIN:VEVENT
DTSTART;TZID=UTC:20230924T191500
DTEND;TZID=UTC:20230924T191500
DTSTAMP:20260422T215102
CREATED:20230914T204821Z
LAST-MODIFIED:20230915T075040Z
UID:10001357-1695582900-1695582900@trinityboardmills.org
SUMMARY:Youth Fellowship
DESCRIPTION:
URL:https://trinityboardmills.org/event/yf/2023-09-24/
LOCATION:McKee Hall\, BT27 6UP\, United Kingdom
CATEGORIES:YF Featured
ATTACH;FMTTYPE=image/jpeg:https://trinityboardmills.org/wp-content/uploads/2022/11/BreakfastITBEV.jpg
GEO:54.466933365694;-5.9199475846608
END:VEVENT
BEGIN:VEVENT
DTSTART;TZID=UTC:20230925T180000
DTEND;TZID=UTC:20230925T191500
DTSTAMP:20260422T215102
CREATED:20230905T135001Z
LAST-MODIFIED:20240319T105153Z
UID:10007620-1695664800-1695669300@trinityboardmills.org
SUMMARY:BB Anchor Boys
DESCRIPTION:
URL:https://trinityboardmills.org/event/bb-anchor-boys-2/2023-09-25/
LOCATION:Killaney Hall
CATEGORIES:BB Featured,Youth & Children
ATTACH;FMTTYPE=image/jpeg:https://trinityboardmills.org/wp-content/uploads/2022/11/BBExpEV.jpg
GEO:54.4662977;-5.9128505
END:VEVENT
BEGIN:VEVENT
DTSTART;TZID=UTC:20230925T180000
DTEND;TZID=UTC:20230925T191500
DTSTAMP:20260422T215102
CREATED:20230905T135315Z
LAST-MODIFIED:20240319T105601Z
UID:10008398-1695664800-1695669300@trinityboardmills.org
SUMMARY:GB Explorers
DESCRIPTION:
URL:https://trinityboardmills.org/event/gb-explorers-2/2023-09-25/
LOCATION:McKee Hall\, BT27 6UP\, United Kingdom
CATEGORIES:GB Featured,Youth & Children
ATTACH;FMTTYPE=image/jpeg:https://trinityboardmills.org/wp-content/uploads/2022/11/GBJuniorEV.jpg
GEO:54.466933365694;-5.9199475846608
END:VEVENT
BEGIN:VEVENT
DTSTART;TZID=UTC:20230925T190000
DTEND;TZID=UTC:20230925T203000
DTSTAMP:20260422T215102
CREATED:20230905T135123Z
LAST-MODIFIED:20240319T105243Z
UID:10008139-1695668400-1695673800@trinityboardmills.org
SUMMARY:BB Junior Section
DESCRIPTION:
URL:https://trinityboardmills.org/event/bb-junior-section-2/2023-09-25/
LOCATION:Killaney Hall
CATEGORIES:BB Featured,Youth & Children
ATTACH;FMTTYPE=image/jpeg:https://trinityboardmills.org/wp-content/uploads/2022/11/BBSQEV.jpg
GEO:54.4662977;-5.9128505
END:VEVENT
BEGIN:VEVENT
DTSTART;TZID=UTC:20230925T191500
DTEND;TZID=UTC:20230925T204500
DTSTAMP:20260422T215102
CREATED:20230905T142731Z
LAST-MODIFIED:20240319T105629Z
UID:10008914-1695669300-1695674700@trinityboardmills.org
SUMMARY:GB Juniors + Company Section
DESCRIPTION:
URL:https://trinityboardmills.org/event/gb-company-section-2/2023-09-25/
LOCATION:McKee Hall\, BT27 6UP\, United Kingdom
CATEGORIES:GB Featured,Youth & Children
ATTACH;FMTTYPE=image/jpeg:https://trinityboardmills.org/wp-content/uploads/2022/11/GBCompEV.jpg
GEO:54.466933365694;-5.9199475846608
END:VEVENT
BEGIN:VEVENT
DTSTART;TZID=UTC:20230925T191500
DTEND;TZID=UTC:20230925T210000
DTSTAMP:20260422T215102
CREATED:20230905T135426Z
LAST-MODIFIED:20240319T105454Z
UID:10007879-1695669300-1695675600@trinityboardmills.org
SUMMARY:BB Company Section
DESCRIPTION:
URL:https://trinityboardmills.org/event/bb-company-section-2/2023-09-25/
LOCATION:Killaney Hall
CATEGORIES:BB Featured,Youth & Children
ATTACH;FMTTYPE=image/jpeg:https://trinityboardmills.org/wp-content/uploads/2022/10/BBCompanyEV.jpg
GEO:54.4662977;-5.9128505
END:VEVENT
BEGIN:VEVENT
DTSTART;TZID=UTC:20231001T113000
DTEND;TZID=UTC:20231001T123000
DTSTAMP:20260422T215102
CREATED:20221031T111539Z
LAST-MODIFIED:20241217T123050Z
UID:10002944-1696159800-1696163400@trinityboardmills.org
SUMMARY:Morning Worship
DESCRIPTION:
URL:https://trinityboardmills.org/event/morning-service/2023-10-01/
LOCATION:Church Building\, BT27 6UP\, United Kingdom
CATEGORIES:Sunday
ATTACH;FMTTYPE=image/jpeg:https://trinityboardmills.org/wp-content/uploads/2022/11/SundayEV.jpg
GEO:54.466933365694;-5.9199475846608
END:VEVENT
END:VCALENDAR