BEGIN:VCALENDAR
VERSION:2.0
PRODID:-//Trinity Presbyterian - ECPv6.15.20//NONSGML v1.0//EN
CALSCALE:GREGORIAN
METHOD:PUBLISH
X-WR-CALNAME:Trinity Presbyterian
X-ORIGINAL-URL:https://trinityboardmills.org
X-WR-CALDESC:Events for Trinity Presbyterian
REFRESH-INTERVAL;VALUE=DURATION:PT1H
X-Robots-Tag:noindex
X-PUBLISHED-TTL:PT1H
BEGIN:VTIMEZONE
TZID:UTC
BEGIN:STANDARD
TZOFFSETFROM:+0000
TZOFFSETTO:+0000
TZNAME:UTC
DTSTART:20230101T000000
END:STANDARD
END:VTIMEZONE
BEGIN:VEVENT
DTSTART;TZID=UTC:20240128T113000
DTEND;TZID=UTC:20240128T123000
DTSTAMP:20260421T013037
CREATED:20221031T111539Z
LAST-MODIFIED:20241217T123050Z
UID:10002961-1706441400-1706445000@trinityboardmills.org
SUMMARY:Morning Worship
DESCRIPTION:
URL:https://trinityboardmills.org/event/morning-service/2024-01-28/
LOCATION:Church Building\, BT27 6UP\, United Kingdom
CATEGORIES:Sunday
ATTACH;FMTTYPE=image/jpeg:https://trinityboardmills.org/wp-content/uploads/2022/11/SundayEV.jpg
GEO:54.466933365694;-5.9199475846608
END:VEVENT
BEGIN:VEVENT
DTSTART;TZID=UTC:20240128T114500
DTEND;TZID=UTC:20240128T123000
DTSTAMP:20260421T013037
CREATED:20221031T111350Z
LAST-MODIFIED:20241217T123139Z
UID:10007378-1706442300-1706445000@trinityboardmills.org
SUMMARY:Sunday CE & Creche
DESCRIPTION:
URL:https://trinityboardmills.org/event/sundayce/2024-01-28/
LOCATION:Kerr Room
CATEGORIES:Children
ATTACH;FMTTYPE=image/jpeg:https://trinityboardmills.org/wp-content/uploads/2022/11/SundayCEEV.jpg
END:VEVENT
BEGIN:VEVENT
DTSTART;TZID=UTC:20240128T183000
DTEND;TZID=UTC:20240128T191500
DTSTAMP:20260421T013037
CREATED:20221031T111652Z
LAST-MODIFIED:20240630T125727Z
UID:10009195-1706466600-1706469300@trinityboardmills.org
SUMMARY:Evening Service
DESCRIPTION:
URL:https://trinityboardmills.org/event/evening-service/2024-01-28/
LOCATION:Church Building\, BT27 6UP\, United Kingdom
CATEGORIES:Sunday
ATTACH;FMTTYPE=image/jpeg:https://trinityboardmills.org/wp-content/uploads/2022/11/EveningServiceEV.jpg
GEO:54.466933365694;-5.9199475846608
END:VEVENT
BEGIN:VEVENT
DTSTART;TZID=UTC:20240128T191500
DTEND;TZID=UTC:20240128T203000
DTSTAMP:20260421T013037
CREATED:20240112T090900Z
LAST-MODIFIED:20240407T075429Z
UID:10009953-1706469300-1706473800@trinityboardmills.org
SUMMARY:Youth Fellowship
DESCRIPTION:
URL:https://trinityboardmills.org/event/youth-fellowship-2/2024-01-28/
LOCATION:McKee Hall\, BT27 6UP\, United Kingdom
CATEGORIES:YF Featured
ATTACH;FMTTYPE=image/jpeg:https://trinityboardmills.org/wp-content/uploads/2022/11/BreakfastITBEV.jpg
GEO:54.466933365694;-5.9199475846608
END:VEVENT
BEGIN:VEVENT
DTSTART;TZID=UTC:20240129T180000
DTEND;TZID=UTC:20240129T191500
DTSTAMP:20260421T013037
CREATED:20230905T135001Z
LAST-MODIFIED:20240319T105153Z
UID:10007638-1706551200-1706555700@trinityboardmills.org
SUMMARY:BB Anchor Boys
DESCRIPTION:
URL:https://trinityboardmills.org/event/bb-anchor-boys-2/2024-01-29/
LOCATION:Killaney Hall
CATEGORIES:BB Featured,Youth & Children
ATTACH;FMTTYPE=image/jpeg:https://trinityboardmills.org/wp-content/uploads/2022/11/BBExpEV.jpg
GEO:54.4662977;-5.9128505
END:VEVENT
BEGIN:VEVENT
DTSTART;TZID=UTC:20240129T180000
DTEND;TZID=UTC:20240129T191500
DTSTAMP:20260421T013037
CREATED:20230905T135315Z
LAST-MODIFIED:20240319T105601Z
UID:10008416-1706551200-1706555700@trinityboardmills.org
SUMMARY:GB Explorers
DESCRIPTION:
URL:https://trinityboardmills.org/event/gb-explorers-2/2024-01-29/
LOCATION:McKee Hall\, BT27 6UP\, United Kingdom
CATEGORIES:GB Featured,Youth & Children
ATTACH;FMTTYPE=image/jpeg:https://trinityboardmills.org/wp-content/uploads/2022/11/GBJuniorEV.jpg
GEO:54.466933365694;-5.9199475846608
END:VEVENT
BEGIN:VEVENT
DTSTART;TZID=UTC:20240129T190000
DTEND;TZID=UTC:20240129T203000
DTSTAMP:20260421T013037
CREATED:20230905T135123Z
LAST-MODIFIED:20240319T105243Z
UID:10008157-1706554800-1706560200@trinityboardmills.org
SUMMARY:BB Junior Section
DESCRIPTION:
URL:https://trinityboardmills.org/event/bb-junior-section-2/2024-01-29/
LOCATION:Killaney Hall
CATEGORIES:BB Featured,Youth & Children
ATTACH;FMTTYPE=image/jpeg:https://trinityboardmills.org/wp-content/uploads/2022/11/BBSQEV.jpg
GEO:54.4662977;-5.9128505
END:VEVENT
BEGIN:VEVENT
DTSTART;TZID=UTC:20240129T191500
DTEND;TZID=UTC:20240129T204500
DTSTAMP:20260421T013037
CREATED:20230905T142731Z
LAST-MODIFIED:20240319T105629Z
UID:10008932-1706555700-1706561100@trinityboardmills.org
SUMMARY:GB Juniors + Company Section
DESCRIPTION:
URL:https://trinityboardmills.org/event/gb-company-section-2/2024-01-29/
LOCATION:McKee Hall\, BT27 6UP\, United Kingdom
CATEGORIES:GB Featured,Youth & Children
ATTACH;FMTTYPE=image/jpeg:https://trinityboardmills.org/wp-content/uploads/2022/11/GBCompEV.jpg
GEO:54.466933365694;-5.9199475846608
END:VEVENT
BEGIN:VEVENT
DTSTART;TZID=UTC:20240129T191500
DTEND;TZID=UTC:20240129T210000
DTSTAMP:20260421T013037
CREATED:20230905T135426Z
LAST-MODIFIED:20240319T105454Z
UID:10007897-1706555700-1706562000@trinityboardmills.org
SUMMARY:BB Company Section
DESCRIPTION:
URL:https://trinityboardmills.org/event/bb-company-section-2/2024-01-29/
LOCATION:Killaney Hall
CATEGORIES:BB Featured,Youth & Children
ATTACH;FMTTYPE=image/jpeg:https://trinityboardmills.org/wp-content/uploads/2022/10/BBCompanyEV.jpg
GEO:54.4662977;-5.9128505
END:VEVENT
BEGIN:VEVENT
DTSTART;TZID=UTC:20240130T193000
DTEND;TZID=UTC:20240130T213000
DTSTAMP:20260421T013037
CREATED:20230905T143817Z
LAST-MODIFIED:20240410T181053Z
UID:10008673-1706643000-1706650200@trinityboardmills.org
SUMMARY:Bowling Club
DESCRIPTION:
URL:https://trinityboardmills.org/event/mixed-bowls-3/2024-01-30/
LOCATION:McKee Hall\, BT27 6UP\, United Kingdom
CATEGORIES:Adults
ATTACH;FMTTYPE=image/jpeg:https://trinityboardmills.org/wp-content/uploads/2022/11/MixedBowlsEV.jpg
GEO:54.466933365694;-5.9199475846608
END:VEVENT
BEGIN:VEVENT
DTSTART;TZID=UTC:20240131T193000
DTEND;TZID=UTC:20240131T203000
DTSTAMP:20260421T013037
CREATED:20240112T090621Z
LAST-MODIFIED:20240520T081038Z
UID:10009717-1706729400-1706733000@trinityboardmills.org
SUMMARY:Midweek
DESCRIPTION:Midweek Prayer and Bible Study
URL:https://trinityboardmills.org/event/midweek-3-2-2/2024-01-31/
CATEGORIES:Midweek Featured
ATTACH;FMTTYPE=image/jpeg:https://trinityboardmills.org/wp-content/uploads/2022/11/MidweekEV.jpg
END:VEVENT
BEGIN:VEVENT
DTSTART;TZID=UTC:20240203T183000
DTEND;TZID=UTC:20240203T200000
DTSTAMP:20260421T013037
CREATED:20230825T093938Z
LAST-MODIFIED:20240520T082649Z
UID:10007213-1706985000-1706990400@trinityboardmills.org
SUMMARY:Pulse Junior
DESCRIPTION:
URL:https://trinityboardmills.org/event/pulse-junior-2-2-2/2024-02-03/
LOCATION:Killaney Hall
CATEGORIES:Pulse Featured
ATTACH;FMTTYPE=image/jpeg:https://trinityboardmills.org/wp-content/uploads/2022/11/Pulse-web-2.jpg
GEO:54.4662977;-5.9128505
END:VEVENT
BEGIN:VEVENT
DTSTART;TZID=UTC:20240204T113000
DTEND;TZID=UTC:20240204T123000
DTSTAMP:20260421T013037
CREATED:20221031T111539Z
LAST-MODIFIED:20241217T123050Z
UID:10002962-1707046200-1707049800@trinityboardmills.org
SUMMARY:Morning Worship
DESCRIPTION:
URL:https://trinityboardmills.org/event/morning-service/2024-02-04/
LOCATION:Church Building\, BT27 6UP\, United Kingdom
CATEGORIES:Sunday
ATTACH;FMTTYPE=image/jpeg:https://trinityboardmills.org/wp-content/uploads/2022/11/SundayEV.jpg
GEO:54.466933365694;-5.9199475846608
END:VEVENT
BEGIN:VEVENT
DTSTART;TZID=UTC:20240204T114500
DTEND;TZID=UTC:20240204T123000
DTSTAMP:20260421T013037
CREATED:20221031T111350Z
LAST-MODIFIED:20241217T123139Z
UID:10007379-1707047100-1707049800@trinityboardmills.org
SUMMARY:Sunday CE & Creche
DESCRIPTION:
URL:https://trinityboardmills.org/event/sundayce/2024-02-04/
LOCATION:Kerr Room
CATEGORIES:Children
ATTACH;FMTTYPE=image/jpeg:https://trinityboardmills.org/wp-content/uploads/2022/11/SundayCEEV.jpg
END:VEVENT
BEGIN:VEVENT
DTSTART;TZID=UTC:20240204T183000
DTEND;TZID=UTC:20240204T191500
DTSTAMP:20260421T013037
CREATED:20221031T111652Z
LAST-MODIFIED:20240630T125727Z
UID:10009196-1707071400-1707074100@trinityboardmills.org
SUMMARY:Evening Service
DESCRIPTION:
URL:https://trinityboardmills.org/event/evening-service/2024-02-04/
LOCATION:Church Building\, BT27 6UP\, United Kingdom
CATEGORIES:Sunday
ATTACH;FMTTYPE=image/jpeg:https://trinityboardmills.org/wp-content/uploads/2022/11/EveningServiceEV.jpg
GEO:54.466933365694;-5.9199475846608
END:VEVENT
BEGIN:VEVENT
DTSTART;TZID=UTC:20240205T180000
DTEND;TZID=UTC:20240205T191500
DTSTAMP:20260421T013037
CREATED:20230905T135001Z
LAST-MODIFIED:20240319T105153Z
UID:10007639-1707156000-1707160500@trinityboardmills.org
SUMMARY:BB Anchor Boys
DESCRIPTION:
URL:https://trinityboardmills.org/event/bb-anchor-boys-2/2024-02-05/
LOCATION:Killaney Hall
CATEGORIES:BB Featured,Youth & Children
ATTACH;FMTTYPE=image/jpeg:https://trinityboardmills.org/wp-content/uploads/2022/11/BBExpEV.jpg
GEO:54.4662977;-5.9128505
END:VEVENT
BEGIN:VEVENT
DTSTART;TZID=UTC:20240205T180000
DTEND;TZID=UTC:20240205T191500
DTSTAMP:20260421T013037
CREATED:20230905T135315Z
LAST-MODIFIED:20240319T105601Z
UID:10008417-1707156000-1707160500@trinityboardmills.org
SUMMARY:GB Explorers
DESCRIPTION:
URL:https://trinityboardmills.org/event/gb-explorers-2/2024-02-05/
LOCATION:McKee Hall\, BT27 6UP\, United Kingdom
CATEGORIES:GB Featured,Youth & Children
ATTACH;FMTTYPE=image/jpeg:https://trinityboardmills.org/wp-content/uploads/2022/11/GBJuniorEV.jpg
GEO:54.466933365694;-5.9199475846608
END:VEVENT
BEGIN:VEVENT
DTSTART;TZID=UTC:20240205T190000
DTEND;TZID=UTC:20240205T203000
DTSTAMP:20260421T013037
CREATED:20230905T135123Z
LAST-MODIFIED:20240319T105243Z
UID:10008158-1707159600-1707165000@trinityboardmills.org
SUMMARY:BB Junior Section
DESCRIPTION:
URL:https://trinityboardmills.org/event/bb-junior-section-2/2024-02-05/
LOCATION:Killaney Hall
CATEGORIES:BB Featured,Youth & Children
ATTACH;FMTTYPE=image/jpeg:https://trinityboardmills.org/wp-content/uploads/2022/11/BBSQEV.jpg
GEO:54.4662977;-5.9128505
END:VEVENT
BEGIN:VEVENT
DTSTART;TZID=UTC:20240205T191500
DTEND;TZID=UTC:20240205T204500
DTSTAMP:20260421T013037
CREATED:20230905T142731Z
LAST-MODIFIED:20240319T105629Z
UID:10008933-1707160500-1707165900@trinityboardmills.org
SUMMARY:GB Juniors + Company Section
DESCRIPTION:
URL:https://trinityboardmills.org/event/gb-company-section-2/2024-02-05/
LOCATION:McKee Hall\, BT27 6UP\, United Kingdom
CATEGORIES:GB Featured,Youth & Children
ATTACH;FMTTYPE=image/jpeg:https://trinityboardmills.org/wp-content/uploads/2022/11/GBCompEV.jpg
GEO:54.466933365694;-5.9199475846608
END:VEVENT
BEGIN:VEVENT
DTSTART;TZID=UTC:20240205T191500
DTEND;TZID=UTC:20240205T210000
DTSTAMP:20260421T013037
CREATED:20230905T135426Z
LAST-MODIFIED:20240319T105454Z
UID:10007898-1707160500-1707166800@trinityboardmills.org
SUMMARY:BB Company Section
DESCRIPTION:
URL:https://trinityboardmills.org/event/bb-company-section-2/2024-02-05/
LOCATION:Killaney Hall
CATEGORIES:BB Featured,Youth & Children
ATTACH;FMTTYPE=image/jpeg:https://trinityboardmills.org/wp-content/uploads/2022/10/BBCompanyEV.jpg
GEO:54.4662977;-5.9128505
END:VEVENT
BEGIN:VEVENT
DTSTART;TZID=UTC:20240206T193000
DTEND;TZID=UTC:20240206T213000
DTSTAMP:20260421T013037
CREATED:20230905T143817Z
LAST-MODIFIED:20240410T181053Z
UID:10008674-1707247800-1707255000@trinityboardmills.org
SUMMARY:Bowling Club
DESCRIPTION:
URL:https://trinityboardmills.org/event/mixed-bowls-3/2024-02-06/
LOCATION:McKee Hall\, BT27 6UP\, United Kingdom
CATEGORIES:Adults
ATTACH;FMTTYPE=image/jpeg:https://trinityboardmills.org/wp-content/uploads/2022/11/MixedBowlsEV.jpg
GEO:54.466933365694;-5.9199475846608
END:VEVENT
BEGIN:VEVENT
DTSTART;TZID=UTC:20240207T193000
DTEND;TZID=UTC:20240207T210000
DTSTAMP:20260421T013037
CREATED:20230914T192432Z
LAST-MODIFIED:20240112T090056Z
UID:10009812-1707334200-1707339600@trinityboardmills.org
SUMMARY:Fellowship Groups (Wed)
DESCRIPTION:This session we will be using the book “Serve”\, the first and third Wednesday of the month in Killaney Hall.
URL:https://trinityboardmills.org/event/fellowship-groups-wed-2-2-2/2024-02-07/
LOCATION:Killaney Hall
CATEGORIES:Fellowship Groups Featured
ATTACH;FMTTYPE=image/jpeg:https://trinityboardmills.org/wp-content/uploads/2022/11/FellowshipGroupEV.jpg
GEO:54.4662977;-5.9128505
END:VEVENT
BEGIN:VEVENT
DTSTART;TZID=UTC:20240208T193000
DTEND;TZID=UTC:20240208T210000
DTSTAMP:20260421T013037
CREATED:20221201T112344Z
LAST-MODIFIED:20240112T090356Z
UID:10009818-1707420600-1707426000@trinityboardmills.org
SUMMARY:Fellowship Groups (Thu)
DESCRIPTION:This session we will be using the book “Serve”\, the first and third Thursday of the month at Colin and Trish Foreman’s home.
URL:https://trinityboardmills.org/event/fellowship-groups-thu/2024-02-08/
CATEGORIES:Fellowship Groups Featured
ATTACH;FMTTYPE=image/jpeg:https://trinityboardmills.org/wp-content/uploads/2022/11/FellowshipGroupsEV.jpg
END:VEVENT
BEGIN:VEVENT
DTSTART;TZID=UTC:20240211T113000
DTEND;TZID=UTC:20240211T123000
DTSTAMP:20260421T013037
CREATED:20221031T111539Z
LAST-MODIFIED:20241217T123050Z
UID:10002963-1707651000-1707654600@trinityboardmills.org
SUMMARY:Morning Worship
DESCRIPTION:
URL:https://trinityboardmills.org/event/morning-service/2024-02-11/
LOCATION:Church Building\, BT27 6UP\, United Kingdom
CATEGORIES:Sunday
ATTACH;FMTTYPE=image/jpeg:https://trinityboardmills.org/wp-content/uploads/2022/11/SundayEV.jpg
GEO:54.466933365694;-5.9199475846608
END:VEVENT
BEGIN:VEVENT
DTSTART;TZID=UTC:20240211T114500
DTEND;TZID=UTC:20240211T123000
DTSTAMP:20260421T013037
CREATED:20221031T111350Z
LAST-MODIFIED:20241217T123139Z
UID:10007380-1707651900-1707654600@trinityboardmills.org
SUMMARY:Sunday CE & Creche
DESCRIPTION:
URL:https://trinityboardmills.org/event/sundayce/2024-02-11/
LOCATION:Kerr Room
CATEGORIES:Children
ATTACH;FMTTYPE=image/jpeg:https://trinityboardmills.org/wp-content/uploads/2022/11/SundayCEEV.jpg
END:VEVENT
BEGIN:VEVENT
DTSTART;TZID=UTC:20240211T183000
DTEND;TZID=UTC:20240211T191500
DTSTAMP:20260421T013037
CREATED:20221031T111652Z
LAST-MODIFIED:20240630T125727Z
UID:10009197-1707676200-1707678900@trinityboardmills.org
SUMMARY:Evening Service
DESCRIPTION:
URL:https://trinityboardmills.org/event/evening-service/2024-02-11/
LOCATION:Church Building\, BT27 6UP\, United Kingdom
CATEGORIES:Sunday
ATTACH;FMTTYPE=image/jpeg:https://trinityboardmills.org/wp-content/uploads/2022/11/EveningServiceEV.jpg
GEO:54.466933365694;-5.9199475846608
END:VEVENT
BEGIN:VEVENT
DTSTART;TZID=UTC:20240211T191500
DTEND;TZID=UTC:20240211T203000
DTSTAMP:20260421T013037
CREATED:20240112T090900Z
LAST-MODIFIED:20240407T075429Z
UID:10009954-1707678900-1707683400@trinityboardmills.org
SUMMARY:Youth Fellowship
DESCRIPTION:
URL:https://trinityboardmills.org/event/youth-fellowship-2/2024-02-11/
LOCATION:McKee Hall\, BT27 6UP\, United Kingdom
CATEGORIES:YF Featured
ATTACH;FMTTYPE=image/jpeg:https://trinityboardmills.org/wp-content/uploads/2022/11/BreakfastITBEV.jpg
GEO:54.466933365694;-5.9199475846608
END:VEVENT
BEGIN:VEVENT
DTSTART;TZID=UTC:20240212T180000
DTEND;TZID=UTC:20240212T191500
DTSTAMP:20260421T013037
CREATED:20230905T135315Z
LAST-MODIFIED:20240319T105601Z
UID:10010447-1707760800-1707765300@trinityboardmills.org
SUMMARY:GB Explorers
DESCRIPTION:
URL:https://trinityboardmills.org/event/gb-explorers-2/2024-02-12/
LOCATION:McKee Hall\, BT27 6UP\, United Kingdom
CATEGORIES:GB Featured,Youth & Children
ATTACH;FMTTYPE=image/jpeg:https://trinityboardmills.org/wp-content/uploads/2022/11/GBJuniorEV.jpg
GEO:54.466933365694;-5.9199475846608
END:VEVENT
BEGIN:VEVENT
DTSTART;TZID=UTC:20240212T191500
DTEND;TZID=UTC:20240212T204500
DTSTAMP:20260421T013037
CREATED:20230905T142731Z
LAST-MODIFIED:20240319T105629Z
UID:10010446-1707765300-1707770700@trinityboardmills.org
SUMMARY:GB Juniors + Company Section
DESCRIPTION:
URL:https://trinityboardmills.org/event/gb-company-section-2/2024-02-12/
LOCATION:McKee Hall\, BT27 6UP\, United Kingdom
CATEGORIES:GB Featured,Youth & Children
ATTACH;FMTTYPE=image/jpeg:https://trinityboardmills.org/wp-content/uploads/2022/11/GBCompEV.jpg
GEO:54.466933365694;-5.9199475846608
END:VEVENT
BEGIN:VEVENT
DTSTART;TZID=UTC:20240213T193000
DTEND;TZID=UTC:20240213T213000
DTSTAMP:20260421T013037
CREATED:20230905T143817Z
LAST-MODIFIED:20240410T181053Z
UID:10008675-1707852600-1707859800@trinityboardmills.org
SUMMARY:Bowling Club
DESCRIPTION:
URL:https://trinityboardmills.org/event/mixed-bowls-3/2024-02-13/
LOCATION:McKee Hall\, BT27 6UP\, United Kingdom
CATEGORIES:Adults
ATTACH;FMTTYPE=image/jpeg:https://trinityboardmills.org/wp-content/uploads/2022/11/MixedBowlsEV.jpg
GEO:54.466933365694;-5.9199475846608
END:VEVENT
END:VCALENDAR