BEGIN:VCALENDAR
VERSION:2.0
PRODID:-//Trinity Presbyterian - ECPv6.15.20//NONSGML v1.0//EN
CALSCALE:GREGORIAN
METHOD:PUBLISH
X-WR-CALNAME:Trinity Presbyterian
X-ORIGINAL-URL:https://trinityboardmills.org
X-WR-CALDESC:Events for Trinity Presbyterian
REFRESH-INTERVAL;VALUE=DURATION:PT1H
X-Robots-Tag:noindex
X-PUBLISHED-TTL:PT1H
BEGIN:VTIMEZONE
TZID:UTC
BEGIN:STANDARD
TZOFFSETFROM:+0000
TZOFFSETTO:+0000
TZNAME:UTC
DTSTART:20240101T000000
END:STANDARD
END:VTIMEZONE
BEGIN:VEVENT
DTSTART;TZID=UTC:20250406T113000
DTEND;TZID=UTC:20250406T123000
DTSTAMP:20260420T234224
CREATED:20221031T111539Z
LAST-MODIFIED:20241217T123050Z
UID:10003023-1743939000-1743942600@trinityboardmills.org
SUMMARY:Morning Worship
DESCRIPTION:
URL:https://trinityboardmills.org/event/morning-service/2025-04-06/
LOCATION:Church Building\, BT27 6UP\, United Kingdom
CATEGORIES:Sunday
ATTACH;FMTTYPE=image/jpeg:https://trinityboardmills.org/wp-content/uploads/2022/11/SundayEV.jpg
GEO:54.466933365694;-5.9199475846608
END:VEVENT
BEGIN:VEVENT
DTSTART;TZID=UTC:20250406T114500
DTEND;TZID=UTC:20250406T123000
DTSTAMP:20260420T234224
CREATED:20221031T111350Z
LAST-MODIFIED:20241217T123139Z
UID:10007440-1743939900-1743942600@trinityboardmills.org
SUMMARY:Sunday CE & Creche
DESCRIPTION:
URL:https://trinityboardmills.org/event/sundayce/2025-04-06/
LOCATION:Kerr Room
CATEGORIES:Children
ATTACH;FMTTYPE=image/jpeg:https://trinityboardmills.org/wp-content/uploads/2022/11/SundayCEEV.jpg
END:VEVENT
BEGIN:VEVENT
DTSTART;TZID=UTC:20250406T183000
DTEND;TZID=UTC:20250406T191500
DTSTAMP:20260420T234224
CREATED:20240903T080905Z
LAST-MODIFIED:20260405T092003Z
UID:10018929-1743964200-1743966900@trinityboardmills.org
SUMMARY:Evening Service
DESCRIPTION:
URL:https://trinityboardmills.org/event/evening-service-2/2025-04-06/
LOCATION:Church Building\, BT27 6UP\, United Kingdom
CATEGORIES:Sunday
ATTACH;FMTTYPE=image/jpeg:https://trinityboardmills.org/wp-content/uploads/2022/11/EveningServiceEV.jpg
GEO:54.466933365694;-5.9199475846608
END:VEVENT
BEGIN:VEVENT
DTSTART;TZID=UTC:20250406T193000
DTEND;TZID=UTC:20250406T210000
DTSTAMP:20260420T234224
CREATED:20250207T115808Z
LAST-MODIFIED:20250207T135030Z
UID:10014404-1743967800-1743973200@trinityboardmills.org
SUMMARY:Youth Fellowship (Fellowship Group format)
DESCRIPTION:
URL:https://trinityboardmills.org/event/youth-fellowship-fellowship-group-format-2-2/2025-04-06/
LOCATION:McKee Hall\, BT27 6UP\, United Kingdom
CATEGORIES:YF Featured
ATTACH;FMTTYPE=image/jpeg:https://trinityboardmills.org/wp-content/uploads/2022/11/BreakfastITBEV.jpg
GEO:54.466933365694;-5.9199475846608
END:VEVENT
BEGIN:VEVENT
DTSTART;TZID=UTC:20250407T100000
DTEND;TZID=UTC:20250407T111500
DTSTAMP:20260420T234224
CREATED:20241211T083050Z
LAST-MODIFIED:20250820T094703Z
UID:10017044-1744020000-1744024500@trinityboardmills.org
SUMMARY:Trinity Tots
DESCRIPTION:
URL:https://trinityboardmills.org/event/trinity-tots-2-2-2/2025-04-07/
LOCATION:Killaney Hall
CATEGORIES:Trinity Tots Featured
ATTACH;FMTTYPE=image/jpeg:https://trinityboardmills.org/wp-content/uploads/2022/11/CrecheEV.jpg
GEO:54.4662977;-5.9128505
END:VEVENT
BEGIN:VEVENT
DTSTART;TZID=UTC:20250410T193000
DTEND;TZID=UTC:20250410T210000
DTSTAMP:20260420T234224
CREATED:20240202T143614Z
LAST-MODIFIED:20250407T072538Z
UID:10010083-1744313400-1744318800@trinityboardmills.org
SUMMARY:Trinity Women - Mission Partners
DESCRIPTION:On Thursday 10th at 7.30pm Trinity Women will meet in Killaney Hall (please note change of venue). We will be hearing from the women involved in mission that we support from this congregation. All women are very welcome.
URL:https://trinityboardmills.org/event/trinity-women-mission-partner/
LOCATION:Killaney Hall
CATEGORIES:Adults,Ladies
ATTACH;FMTTYPE=image/jpeg:https://trinityboardmills.org/wp-content/uploads/2022/10/TrinityWomen.jpg
GEO:54.4662977;-5.9128505
END:VEVENT
BEGIN:VEVENT
DTSTART;TZID=UTC:20250413T113000
DTEND;TZID=UTC:20250413T123000
DTSTAMP:20260420T234224
CREATED:20221031T111539Z
LAST-MODIFIED:20241217T123050Z
UID:10003024-1744543800-1744547400@trinityboardmills.org
SUMMARY:Morning Worship
DESCRIPTION:
URL:https://trinityboardmills.org/event/morning-service/2025-04-13/
LOCATION:Church Building\, BT27 6UP\, United Kingdom
CATEGORIES:Sunday
ATTACH;FMTTYPE=image/jpeg:https://trinityboardmills.org/wp-content/uploads/2022/11/SundayEV.jpg
GEO:54.466933365694;-5.9199475846608
END:VEVENT
BEGIN:VEVENT
DTSTART;TZID=UTC:20250413T114500
DTEND;TZID=UTC:20250413T123000
DTSTAMP:20260420T234224
CREATED:20221031T111350Z
LAST-MODIFIED:20241217T123139Z
UID:10007441-1744544700-1744547400@trinityboardmills.org
SUMMARY:Sunday CE & Creche
DESCRIPTION:
URL:https://trinityboardmills.org/event/sundayce/2025-04-13/
LOCATION:Kerr Room
CATEGORIES:Children
ATTACH;FMTTYPE=image/jpeg:https://trinityboardmills.org/wp-content/uploads/2022/11/SundayCEEV.jpg
END:VEVENT
BEGIN:VEVENT
DTSTART;TZID=UTC:20250413T183000
DTEND;TZID=UTC:20250413T191500
DTSTAMP:20260420T234224
CREATED:20240903T080905Z
LAST-MODIFIED:20260405T092003Z
UID:10018930-1744569000-1744571700@trinityboardmills.org
SUMMARY:Evening Service
DESCRIPTION:
URL:https://trinityboardmills.org/event/evening-service-2/2025-04-13/
LOCATION:Church Building\, BT27 6UP\, United Kingdom
CATEGORIES:Sunday
ATTACH;FMTTYPE=image/jpeg:https://trinityboardmills.org/wp-content/uploads/2022/11/EveningServiceEV.jpg
GEO:54.466933365694;-5.9199475846608
END:VEVENT
BEGIN:VEVENT
DTSTART;TZID=UTC:20250413T193000
DTEND;TZID=UTC:20250413T210000
DTSTAMP:20260420T234224
CREATED:20241211T084227Z
LAST-MODIFIED:20250207T135446Z
UID:10014270-1744572600-1744578000@trinityboardmills.org
SUMMARY:Youth Fellowship
DESCRIPTION:
URL:https://trinityboardmills.org/event/youth-fellowship-6/2025-04-13/
LOCATION:McKee Hall\, BT27 6UP\, United Kingdom
CATEGORIES:YF Featured
ATTACH;FMTTYPE=image/jpeg:https://trinityboardmills.org/wp-content/uploads/2022/11/BreakfastITBEV.jpg
GEO:54.466933365694;-5.9199475846608
END:VEVENT
BEGIN:VEVENT
DTSTART;TZID=UTC:20250414T100000
DTEND;TZID=UTC:20250414T111500
DTSTAMP:20260420T234224
CREATED:20241211T083050Z
LAST-MODIFIED:20250820T094703Z
UID:10017045-1744624800-1744629300@trinityboardmills.org
SUMMARY:Trinity Tots
DESCRIPTION:
URL:https://trinityboardmills.org/event/trinity-tots-2-2-2/2025-04-14/
LOCATION:Killaney Hall
CATEGORIES:Trinity Tots Featured
ATTACH;FMTTYPE=image/jpeg:https://trinityboardmills.org/wp-content/uploads/2022/11/CrecheEV.jpg
GEO:54.4662977;-5.9128505
END:VEVENT
BEGIN:VEVENT
DTSTART;TZID=UTC:20250420T113000
DTEND;TZID=UTC:20250420T123000
DTSTAMP:20260420T234224
CREATED:20221031T111539Z
LAST-MODIFIED:20241217T123050Z
UID:10003025-1745148600-1745152200@trinityboardmills.org
SUMMARY:Morning Worship
DESCRIPTION:
URL:https://trinityboardmills.org/event/morning-service/2025-04-20/
LOCATION:Church Building\, BT27 6UP\, United Kingdom
CATEGORIES:Sunday
ATTACH;FMTTYPE=image/jpeg:https://trinityboardmills.org/wp-content/uploads/2022/11/SundayEV.jpg
GEO:54.466933365694;-5.9199475846608
END:VEVENT
BEGIN:VEVENT
DTSTART;TZID=UTC:20250420T114500
DTEND;TZID=UTC:20250420T123000
DTSTAMP:20260420T234224
CREATED:20221031T111350Z
LAST-MODIFIED:20241217T123139Z
UID:10007442-1745149500-1745152200@trinityboardmills.org
SUMMARY:Sunday CE & Creche
DESCRIPTION:
URL:https://trinityboardmills.org/event/sundayce/2025-04-20/
LOCATION:Kerr Room
CATEGORIES:Children
ATTACH;FMTTYPE=image/jpeg:https://trinityboardmills.org/wp-content/uploads/2022/11/SundayCEEV.jpg
END:VEVENT
BEGIN:VEVENT
DTSTART;TZID=UTC:20250421T100000
DTEND;TZID=UTC:20250421T111500
DTSTAMP:20260420T234224
CREATED:20241211T083050Z
LAST-MODIFIED:20250820T094703Z
UID:10017046-1745229600-1745234100@trinityboardmills.org
SUMMARY:Trinity Tots
DESCRIPTION:
URL:https://trinityboardmills.org/event/trinity-tots-2-2-2/2025-04-21/
LOCATION:Killaney Hall
CATEGORIES:Trinity Tots Featured
ATTACH;FMTTYPE=image/jpeg:https://trinityboardmills.org/wp-content/uploads/2022/11/CrecheEV.jpg
GEO:54.4662977;-5.9128505
END:VEVENT
BEGIN:VEVENT
DTSTART;TZID=UTC:20250427T113000
DTEND;TZID=UTC:20250427T123000
DTSTAMP:20260420T234224
CREATED:20221031T111539Z
LAST-MODIFIED:20241217T123050Z
UID:10003026-1745753400-1745757000@trinityboardmills.org
SUMMARY:Morning Worship
DESCRIPTION:
URL:https://trinityboardmills.org/event/morning-service/2025-04-27/
LOCATION:Church Building\, BT27 6UP\, United Kingdom
CATEGORIES:Sunday
ATTACH;FMTTYPE=image/jpeg:https://trinityboardmills.org/wp-content/uploads/2022/11/SundayEV.jpg
GEO:54.466933365694;-5.9199475846608
END:VEVENT
BEGIN:VEVENT
DTSTART;TZID=UTC:20250427T114500
DTEND;TZID=UTC:20250427T123000
DTSTAMP:20260420T234224
CREATED:20221031T111350Z
LAST-MODIFIED:20241217T123139Z
UID:10007443-1745754300-1745757000@trinityboardmills.org
SUMMARY:Sunday CE & Creche
DESCRIPTION:
URL:https://trinityboardmills.org/event/sundayce/2025-04-27/
LOCATION:Kerr Room
CATEGORIES:Children
ATTACH;FMTTYPE=image/jpeg:https://trinityboardmills.org/wp-content/uploads/2022/11/SundayCEEV.jpg
END:VEVENT
BEGIN:VEVENT
DTSTART;TZID=UTC:20250427T183000
DTEND;TZID=UTC:20250427T191500
DTSTAMP:20260420T234224
CREATED:20240903T080905Z
LAST-MODIFIED:20260405T092003Z
UID:10018931-1745778600-1745781300@trinityboardmills.org
SUMMARY:Evening Service
DESCRIPTION:
URL:https://trinityboardmills.org/event/evening-service-2/2025-04-27/
LOCATION:Church Building\, BT27 6UP\, United Kingdom
CATEGORIES:Sunday
ATTACH;FMTTYPE=image/jpeg:https://trinityboardmills.org/wp-content/uploads/2022/11/EveningServiceEV.jpg
GEO:54.466933365694;-5.9199475846608
END:VEVENT
BEGIN:VEVENT
DTSTART;TZID=UTC:20250427T193000
DTEND;TZID=UTC:20250427T210000
DTSTAMP:20260420T234224
CREATED:20250207T135058Z
LAST-MODIFIED:20250529T194437Z
UID:10014399-1745782200-1745787600@trinityboardmills.org
SUMMARY:Youth Fellowship (Fellowship Group format)
DESCRIPTION:
URL:https://trinityboardmills.org/event/youth-fellowship-fellowship-group-format-2-3/2025-04-27/
LOCATION:McKee Hall\, BT27 6UP\, United Kingdom
CATEGORIES:YF Featured
ATTACH;FMTTYPE=image/jpeg:https://trinityboardmills.org/wp-content/uploads/2022/11/BreakfastITBEV.jpg
GEO:54.466933365694;-5.9199475846608
END:VEVENT
BEGIN:VEVENT
DTSTART;TZID=UTC:20250428T100000
DTEND;TZID=UTC:20250428T111500
DTSTAMP:20260420T234225
CREATED:20241211T083050Z
LAST-MODIFIED:20250820T094703Z
UID:10017047-1745834400-1745838900@trinityboardmills.org
SUMMARY:Trinity Tots
DESCRIPTION:
URL:https://trinityboardmills.org/event/trinity-tots-2-2-2/2025-04-28/
LOCATION:Killaney Hall
CATEGORIES:Trinity Tots Featured
ATTACH;FMTTYPE=image/jpeg:https://trinityboardmills.org/wp-content/uploads/2022/11/CrecheEV.jpg
GEO:54.4662977;-5.9128505
END:VEVENT
BEGIN:VEVENT
DTSTART;TZID=UTC:20250501T103000
DTEND;TZID=UTC:20250501T113000
DTSTAMP:20260420T234225
CREATED:20230911T123435Z
LAST-MODIFIED:20260326T081458Z
UID:10017890-1746095400-1746099000@trinityboardmills.org
SUMMARY:Ladies Bible Study
DESCRIPTION:
URL:https://trinityboardmills.org/event/ladies-bible-study-2/2025-05-01/
LOCATION:Killaney Hall
CATEGORIES:Adults,Ladies
ATTACH;FMTTYPE=image/jpeg:https://trinityboardmills.org/wp-content/uploads/2022/11/LadiesBibleStudyEV.jpg
GEO:54.4662977;-5.9128505
END:VEVENT
BEGIN:VEVENT
DTSTART;TZID=UTC:20250502T193000
DTEND;TZID=UTC:20250502T210000
DTSTAMP:20260420T234225
CREATED:20230314T153958Z
LAST-MODIFIED:20250425T204217Z
UID:10006593-1746214200-1746219600@trinityboardmills.org
SUMMARY:Trinity Church Quiz Night
DESCRIPTION:QUIZ NIGHT\nFriday 2nd May / 7:30-9:00 pm / McKee Hall\nAll ages welcome for a fun relaxed night!\nAll donations will go towards Trinity Young People for summer outreach programs. \n 
URL:https://trinityboardmills.org/event/churchquiz/
LOCATION:McKee Hall\, BT27 6UP\, United Kingdom
CATEGORIES:Featured,YF Featured,Youth & Children
ATTACH;FMTTYPE=image/jpeg:https://trinityboardmills.org/wp-content/uploads/2023/03/QUIZ-NIGHT-small.jpg
GEO:54.466933365694;-5.9199475846608
END:VEVENT
BEGIN:VEVENT
DTSTART;TZID=UTC:20250503T183000
DTEND;TZID=UTC:20250503T200000
DTSTAMP:20260420T234225
CREATED:20241211T085917Z
LAST-MODIFIED:20250410T072539Z
UID:10013377-1746297000-1746302400@trinityboardmills.org
SUMMARY:Pulse Junior
DESCRIPTION:
URL:https://trinityboardmills.org/event/pulse-junior-2-2-2-2-2/2025-05-03/
LOCATION:Killaney Hall
CATEGORIES:Pulse Featured
ATTACH;FMTTYPE=image/jpeg:https://trinityboardmills.org/wp-content/uploads/2022/11/Pulse-web-2.jpg
GEO:54.4662977;-5.9128505
END:VEVENT
BEGIN:VEVENT
DTSTART;TZID=UTC:20250504T113000
DTEND;TZID=UTC:20250504T123000
DTSTAMP:20260420T234225
CREATED:20221031T111539Z
LAST-MODIFIED:20241217T123050Z
UID:10003027-1746358200-1746361800@trinityboardmills.org
SUMMARY:Morning Worship
DESCRIPTION:
URL:https://trinityboardmills.org/event/morning-service/2025-05-04/
LOCATION:Church Building\, BT27 6UP\, United Kingdom
CATEGORIES:Sunday
ATTACH;FMTTYPE=image/jpeg:https://trinityboardmills.org/wp-content/uploads/2022/11/SundayEV.jpg
GEO:54.466933365694;-5.9199475846608
END:VEVENT
BEGIN:VEVENT
DTSTART;TZID=UTC:20250504T114500
DTEND;TZID=UTC:20250504T123000
DTSTAMP:20260420T234225
CREATED:20221031T111350Z
LAST-MODIFIED:20241217T123139Z
UID:10007444-1746359100-1746361800@trinityboardmills.org
SUMMARY:Sunday CE & Creche
DESCRIPTION:
URL:https://trinityboardmills.org/event/sundayce/2025-05-04/
LOCATION:Kerr Room
CATEGORIES:Children
ATTACH;FMTTYPE=image/jpeg:https://trinityboardmills.org/wp-content/uploads/2022/11/SundayCEEV.jpg
END:VEVENT
BEGIN:VEVENT
DTSTART;TZID=UTC:20250504T183000
DTEND;TZID=UTC:20250504T191500
DTSTAMP:20260420T234225
CREATED:20240903T080905Z
LAST-MODIFIED:20260405T092003Z
UID:10018932-1746383400-1746386100@trinityboardmills.org
SUMMARY:Evening Service
DESCRIPTION:
URL:https://trinityboardmills.org/event/evening-service-2/2025-05-04/
LOCATION:Church Building\, BT27 6UP\, United Kingdom
CATEGORIES:Sunday
ATTACH;FMTTYPE=image/jpeg:https://trinityboardmills.org/wp-content/uploads/2022/11/EveningServiceEV.jpg
GEO:54.466933365694;-5.9199475846608
END:VEVENT
BEGIN:VEVENT
DTSTART;TZID=UTC:20250504T193000
DTEND;TZID=UTC:20250504T210000
DTSTAMP:20260420T234225
CREATED:20250207T135619Z
LAST-MODIFIED:20250207T135648Z
UID:10014258-1746387000-1746392400@trinityboardmills.org
SUMMARY:Youth Fellowship
DESCRIPTION:
URL:https://trinityboardmills.org/event/youth-fellowship-5-2/2025-05-04/
LOCATION:McKee Hall\, BT27 6UP\, United Kingdom
CATEGORIES:YF Featured
ATTACH;FMTTYPE=image/jpeg:https://trinityboardmills.org/wp-content/uploads/2022/11/BreakfastITBEV.jpg
GEO:54.466933365694;-5.9199475846608
END:VEVENT
BEGIN:VEVENT
DTSTART;TZID=UTC:20250505T100000
DTEND;TZID=UTC:20250505T111500
DTSTAMP:20260420T234225
CREATED:20241211T083050Z
LAST-MODIFIED:20250820T094703Z
UID:10017048-1746439200-1746443700@trinityboardmills.org
SUMMARY:Trinity Tots
DESCRIPTION:
URL:https://trinityboardmills.org/event/trinity-tots-2-2-2/2025-05-05/
LOCATION:Killaney Hall
CATEGORIES:Trinity Tots Featured
ATTACH;FMTTYPE=image/jpeg:https://trinityboardmills.org/wp-content/uploads/2022/11/CrecheEV.jpg
GEO:54.4662977;-5.9128505
END:VEVENT
BEGIN:VEVENT
DTSTART;TZID=UTC:20250507T193000
DTEND;TZID=UTC:20250507T210000
DTSTAMP:20260420T234225
CREATED:20250207T124106Z
LAST-MODIFIED:20250529T194224Z
UID:10014619-1746646200-1746651600@trinityboardmills.org
SUMMARY:Fellowship Groups (Wed)
DESCRIPTION:This session we will be studying Acts 1-12\, the first and third Wednesday of the month in Killaney Hall.
URL:https://trinityboardmills.org/event/fellowship-groups-wed-3-3/2025-05-07/
LOCATION:Killaney Hall
CATEGORIES:Fellowship Groups Featured
ATTACH;FMTTYPE=image/jpeg:https://trinityboardmills.org/wp-content/uploads/2022/11/FellowshipGroupEV.jpg
GEO:54.4662977;-5.9128505
END:VEVENT
BEGIN:VEVENT
DTSTART;TZID=UTC:20250508T193000
DTEND;TZID=UTC:20250508T210000
DTSTAMP:20260420T234225
CREATED:20250207T124243Z
LAST-MODIFIED:20250529T194257Z
UID:10013298-1746732600-1746738000@trinityboardmills.org
SUMMARY:Fellowship Groups (Thu)
DESCRIPTION:This session we will be studying Acts 1-12\, the first and third Thursday of the month at Colin and Trish Foreman’s home.
URL:https://trinityboardmills.org/event/fellowship-groups-thu-3-2-2-3/2025-05-08/
CATEGORIES:Fellowship Groups Featured
ATTACH;FMTTYPE=image/jpeg:https://trinityboardmills.org/wp-content/uploads/2022/11/FellowshipGroupsEV.jpg
END:VEVENT
BEGIN:VEVENT
DTSTART;TZID=UTC:20250511T113000
DTEND;TZID=UTC:20250511T123000
DTSTAMP:20260420T234225
CREATED:20221031T111539Z
LAST-MODIFIED:20241217T123050Z
UID:10003028-1746963000-1746966600@trinityboardmills.org
SUMMARY:Morning Worship
DESCRIPTION:
URL:https://trinityboardmills.org/event/morning-service/2025-05-11/
LOCATION:Church Building\, BT27 6UP\, United Kingdom
CATEGORIES:Sunday
ATTACH;FMTTYPE=image/jpeg:https://trinityboardmills.org/wp-content/uploads/2022/11/SundayEV.jpg
GEO:54.466933365694;-5.9199475846608
END:VEVENT
END:VCALENDAR