BEGIN:VCALENDAR
VERSION:2.0
PRODID:-//Trinity Presbyterian - ECPv6.15.20//NONSGML v1.0//EN
CALSCALE:GREGORIAN
METHOD:PUBLISH
X-WR-CALNAME:Trinity Presbyterian
X-ORIGINAL-URL:https://trinityboardmills.org
X-WR-CALDESC:Events for Trinity Presbyterian
REFRESH-INTERVAL;VALUE=DURATION:PT1H
X-Robots-Tag:noindex
X-PUBLISHED-TTL:PT1H
BEGIN:VTIMEZONE
TZID:UTC
BEGIN:STANDARD
TZOFFSETFROM:+0000
TZOFFSETTO:+0000
TZNAME:UTC
DTSTART:20240101T000000
END:STANDARD
END:VTIMEZONE
BEGIN:VEVENT
DTSTART;TZID=UTC:20250831T113000
DTEND;TZID=UTC:20250831T123000
DTSTAMP:20260420T065728
CREATED:20221031T111539Z
LAST-MODIFIED:20241217T123050Z
UID:10003044-1756639800-1756643400@trinityboardmills.org
SUMMARY:Morning Worship
DESCRIPTION:
URL:https://trinityboardmills.org/event/morning-service/2025-08-31/
LOCATION:Church Building\, BT27 6UP\, United Kingdom
CATEGORIES:Sunday
ATTACH;FMTTYPE=image/jpeg:https://trinityboardmills.org/wp-content/uploads/2022/11/SundayEV.jpg
GEO:54.466933365694;-5.9199475846608
END:VEVENT
BEGIN:VEVENT
DTSTART;TZID=UTC:20250831T113000
DTEND;TZID=UTC:20250831T123000
DTSTAMP:20260420T065728
CREATED:20250820T135102Z
LAST-MODIFIED:20250820T202019Z
UID:10017566-1756639800-1756643400@trinityboardmills.org
SUMMARY:Back to Church Sunday
DESCRIPTION:Whether you are with us at worship regularly\, haven’t been with us in a while or possibly going to church isn’t something you regularly do\, can we invite you on Sunday 31st August @ 11:30 to our Back to Church Sunday service? \nMost of all we would love you to join with us\, find out more about the various ministries that regularly happen week by week for all ages and learn with us as we explore from Scripture what it means to be a gospel centred people in Boardmills and beyond.
URL:https://trinityboardmills.org/event/back-to-church-sunday/
LOCATION:Church Building\, BT27 6UP\, United Kingdom
CATEGORIES:Adults,Featured
ATTACH;FMTTYPE=image/jpeg:https://trinityboardmills.org/wp-content/uploads/2022/11/MissionStatement.jpg
GEO:54.466933365694;-5.9199475846608
END:VEVENT
BEGIN:VEVENT
DTSTART;TZID=UTC:20250831T114500
DTEND;TZID=UTC:20250831T123000
DTSTAMP:20260420T065728
CREATED:20221031T111350Z
LAST-MODIFIED:20241217T123139Z
UID:10007461-1756640700-1756643400@trinityboardmills.org
SUMMARY:Sunday CE & Creche
DESCRIPTION:
URL:https://trinityboardmills.org/event/sundayce/2025-08-31/
LOCATION:Kerr Room
CATEGORIES:Children
ATTACH;FMTTYPE=image/jpeg:https://trinityboardmills.org/wp-content/uploads/2022/11/SundayCEEV.jpg
END:VEVENT
BEGIN:VEVENT
DTSTART;TZID=UTC:20250831T183000
DTEND;TZID=UTC:20250831T191500
DTSTAMP:20260420T065728
CREATED:20240903T080905Z
LAST-MODIFIED:20260405T092003Z
UID:10010956-1756665000-1756667700@trinityboardmills.org
SUMMARY:Evening Service
DESCRIPTION:
URL:https://trinityboardmills.org/event/evening-service-2/2025-08-31/
LOCATION:Church Building\, BT27 6UP\, United Kingdom
CATEGORIES:Sunday
ATTACH;FMTTYPE=image/jpeg:https://trinityboardmills.org/wp-content/uploads/2022/11/EveningServiceEV.jpg
GEO:54.466933365694;-5.9199475846608
END:VEVENT
BEGIN:VEVENT
DTSTART;TZID=UTC:20250901T190000
DTEND;TZID=UTC:20250901T200000
DTSTAMP:20260420T065728
CREATED:20250518T081603Z
LAST-MODIFIED:20250820T084234Z
UID:10015103-1756753200-1756756800@trinityboardmills.org
SUMMARY:Summer Walking Group
DESCRIPTION:This is open to all and it will be happening on every Monday evening commencing 19th May and should take around an hour. Set your own pace of course – and do as much or as little as you wish. Come along\, enjoy the walk and the chat!
URL:https://trinityboardmills.org/event/summer-walking-group-2/2025-09-01/
LOCATION:McKee Hall\, BT27 6UP\, United Kingdom
ATTACH;FMTTYPE=image/png:https://trinityboardmills.org/wp-content/uploads/2022/10/boxAsset-3.png
GEO:54.466933365694;-5.9199475846608
END:VEVENT
BEGIN:VEVENT
DTSTART;TZID=UTC:20250904T103000
DTEND;TZID=UTC:20250904T113000
DTSTAMP:20260420T065728
CREATED:20230911T123435Z
LAST-MODIFIED:20260326T081458Z
UID:10017899-1756981800-1756985400@trinityboardmills.org
SUMMARY:Ladies Bible Study
DESCRIPTION:
URL:https://trinityboardmills.org/event/ladies-bible-study-2/2025-09-04/
LOCATION:Killaney Hall
CATEGORIES:Adults,Ladies
ATTACH;FMTTYPE=image/jpeg:https://trinityboardmills.org/wp-content/uploads/2022/11/LadiesBibleStudyEV.jpg
GEO:54.4662977;-5.9128505
END:VEVENT
BEGIN:VEVENT
DTSTART;TZID=UTC:20250906T190000
DTEND;TZID=UTC:20250906T220000
DTSTAMP:20260420T065728
CREATED:20240322T083556Z
LAST-MODIFIED:20250902T072224Z
UID:10010612-1757185200-1757196000@trinityboardmills.org
SUMMARY:All Age Social
DESCRIPTION:As we commence a new season of our weekly activities at Trinity this month\, join us for our ‘All age Social’ – a night of fun for all the family. There will be games\, music and dancing for young and old among us to enjoy some fun\, desserts and fellowship. Bring your grannies\, granda’s\, aunties\, uncles\, cousins – all are welcome. \nEmail us to let us know your intending to come by clicking the email address below Contact office@trinityboardmills.org
URL:https://trinityboardmills.org/event/all-age-social/
LOCATION:McKee Hall\, BT27 6UP\, United Kingdom
CATEGORIES:Featured
ATTACH;FMTTYPE=image/jpeg:https://trinityboardmills.org/wp-content/uploads/2024/03/Social.jpeg
GEO:54.466933365694;-5.9199475846608
END:VEVENT
BEGIN:VEVENT
DTSTART;TZID=UTC:20250907T113000
DTEND;TZID=UTC:20250907T123000
DTSTAMP:20260420T065728
CREATED:20221031T111539Z
LAST-MODIFIED:20241217T123050Z
UID:10003045-1757244600-1757248200@trinityboardmills.org
SUMMARY:Morning Worship
DESCRIPTION:
URL:https://trinityboardmills.org/event/morning-service/2025-09-07/
LOCATION:Church Building\, BT27 6UP\, United Kingdom
CATEGORIES:Sunday
ATTACH;FMTTYPE=image/jpeg:https://trinityboardmills.org/wp-content/uploads/2022/11/SundayEV.jpg
GEO:54.466933365694;-5.9199475846608
END:VEVENT
BEGIN:VEVENT
DTSTART;TZID=UTC:20250907T114500
DTEND;TZID=UTC:20250907T123000
DTSTAMP:20260420T065728
CREATED:20221031T111350Z
LAST-MODIFIED:20241217T123139Z
UID:10007462-1757245500-1757248200@trinityboardmills.org
SUMMARY:Sunday CE & Creche
DESCRIPTION:
URL:https://trinityboardmills.org/event/sundayce/2025-09-07/
LOCATION:Kerr Room
CATEGORIES:Children
ATTACH;FMTTYPE=image/jpeg:https://trinityboardmills.org/wp-content/uploads/2022/11/SundayCEEV.jpg
END:VEVENT
BEGIN:VEVENT
DTSTART;TZID=UTC:20250907T183000
DTEND;TZID=UTC:20250907T191500
DTSTAMP:20260420T065728
CREATED:20240903T080905Z
LAST-MODIFIED:20260405T092003Z
UID:10010957-1757269800-1757272500@trinityboardmills.org
SUMMARY:Evening Service
DESCRIPTION:
URL:https://trinityboardmills.org/event/evening-service-2/2025-09-07/
LOCATION:Church Building\, BT27 6UP\, United Kingdom
CATEGORIES:Sunday
ATTACH;FMTTYPE=image/jpeg:https://trinityboardmills.org/wp-content/uploads/2022/11/EveningServiceEV.jpg
GEO:54.466933365694;-5.9199475846608
END:VEVENT
BEGIN:VEVENT
DTSTART;TZID=UTC:20250908T183000
DTEND;TZID=UTC:20250908T193000
DTSTAMP:20260420T065728
CREATED:20240903T131133Z
LAST-MODIFIED:20250820T084341Z
UID:10006468-1757356200-1757359800@trinityboardmills.org
SUMMARY:BB Registration Night
DESCRIPTION:Gather for a catchup and opportunity to register for the year\, hear our plans and sort uniform etc for all sections
URL:https://trinityboardmills.org/event/bb-registration-night/
LOCATION:Killaney Hall
CATEGORIES:BB Featured,Youth & Children
ATTACH;FMTTYPE=image/jpeg:https://trinityboardmills.org/wp-content/uploads/2022/10/BBCompanyEV.jpg
GEO:54.4662977;-5.9128505
END:VEVENT
BEGIN:VEVENT
DTSTART;TZID=UTC:20250908T183000
DTEND;TZID=UTC:20250908T193000
DTSTAMP:20260420T065728
CREATED:20240903T132525Z
LAST-MODIFIED:20250820T091502Z
UID:10011969-1757356200-1757359800@trinityboardmills.org
SUMMARY:GB Registration Night
DESCRIPTION:Gather for a catchup and opportunity to register for the year\, hear our plans and sort uniform etc for all sections
URL:https://trinityboardmills.org/event/gb-registration-night/
LOCATION:McKee Hall\, BT27 6UP\, United Kingdom
CATEGORIES:GB Featured,Youth & Children
ATTACH;FMTTYPE=image/jpeg:https://trinityboardmills.org/wp-content/uploads/2022/11/GBCompEV.jpg
GEO:54.466933365694;-5.9199475846608
END:VEVENT
BEGIN:VEVENT
DTSTART;TZID=UTC:20250911T193000
DTEND;TZID=UTC:20250911T213000
DTSTAMP:20260420T065728
CREATED:20230314T092527Z
LAST-MODIFIED:20250901T191117Z
UID:10017569-1757619000-1757626200@trinityboardmills.org
SUMMARY:Trinity Women
DESCRIPTION:Trinity Women meet on the second Thursday of the month. All ladies very welcome. \nContact a member of PW committee or email office@trinityboardmills.org for more details.
URL:https://trinityboardmills.org/event/trinity-women/2025-09-11/
LOCATION:McKee Hall\, BT27 6UP\, United Kingdom
CATEGORIES:Ladies
ATTACH;FMTTYPE=image/png:https://trinityboardmills.org/wp-content/uploads/2022/11/PW-Logo.png
GEO:54.466933365694;-5.9199475846608
END:VEVENT
BEGIN:VEVENT
DTSTART;TZID=UTC:20250914T100000
DTEND;TZID=UTC:20250914T110000
DTSTAMP:20260420T065728
CREATED:20250820T100226Z
LAST-MODIFIED:20250820T100246Z
UID:10010883-1757844000-1757847600@trinityboardmills.org
SUMMARY:Prayer Meeting
DESCRIPTION:Join with us as we pray with the firm expectation that God will move in and through us by His Spirit.
URL:https://trinityboardmills.org/event/prayer-meeting-3/2025-09-14/
LOCATION:Church Building\, BT27 6UP\, United Kingdom
CATEGORIES:Adults
ATTACH;FMTTYPE=image/jpeg:https://trinityboardmills.org/wp-content/uploads/2024/06/Prayer-reduced.jpg
GEO:54.466933365694;-5.9199475846608
END:VEVENT
BEGIN:VEVENT
DTSTART;TZID=UTC:20250914T113000
DTEND;TZID=UTC:20250914T123000
DTSTAMP:20260420T065728
CREATED:20221031T111539Z
LAST-MODIFIED:20241217T123050Z
UID:10003046-1757849400-1757853000@trinityboardmills.org
SUMMARY:Morning Worship
DESCRIPTION:
URL:https://trinityboardmills.org/event/morning-service/2025-09-14/
LOCATION:Church Building\, BT27 6UP\, United Kingdom
CATEGORIES:Sunday
ATTACH;FMTTYPE=image/jpeg:https://trinityboardmills.org/wp-content/uploads/2022/11/SundayEV.jpg
GEO:54.466933365694;-5.9199475846608
END:VEVENT
BEGIN:VEVENT
DTSTART;TZID=UTC:20250914T114500
DTEND;TZID=UTC:20250914T123000
DTSTAMP:20260420T065728
CREATED:20221031T111350Z
LAST-MODIFIED:20241217T123139Z
UID:10007463-1757850300-1757853000@trinityboardmills.org
SUMMARY:Sunday CE & Creche
DESCRIPTION:
URL:https://trinityboardmills.org/event/sundayce/2025-09-14/
LOCATION:Kerr Room
CATEGORIES:Children
ATTACH;FMTTYPE=image/jpeg:https://trinityboardmills.org/wp-content/uploads/2022/11/SundayCEEV.jpg
END:VEVENT
BEGIN:VEVENT
DTSTART;TZID=UTC:20250914T183000
DTEND;TZID=UTC:20250914T191500
DTSTAMP:20260420T065728
CREATED:20240903T080905Z
LAST-MODIFIED:20260405T092003Z
UID:10010958-1757874600-1757877300@trinityboardmills.org
SUMMARY:Evening Service
DESCRIPTION:
URL:https://trinityboardmills.org/event/evening-service-2/2025-09-14/
LOCATION:Church Building\, BT27 6UP\, United Kingdom
CATEGORIES:Sunday
ATTACH;FMTTYPE=image/jpeg:https://trinityboardmills.org/wp-content/uploads/2022/11/EveningServiceEV.jpg
GEO:54.466933365694;-5.9199475846608
END:VEVENT
BEGIN:VEVENT
DTSTART;TZID=UTC:20250915T100000
DTEND;TZID=UTC:20250915T111500
DTSTAMP:20260420T065728
CREATED:20250820T095000Z
LAST-MODIFIED:20251201T113833Z
UID:10014654-1757930400-1757934900@trinityboardmills.org
SUMMARY:Trinity Tots
DESCRIPTION:
URL:https://trinityboardmills.org/event/trinity-tots-2-2-2-2/2025-09-15/
LOCATION:Killaney Hall
CATEGORIES:Trinity Tots Featured
ATTACH;FMTTYPE=image/jpeg:https://trinityboardmills.org/wp-content/uploads/2022/11/CrecheEV.jpg
GEO:54.4662977;-5.9128505
END:VEVENT
BEGIN:VEVENT
DTSTART;TZID=UTC:20250915T180000
DTEND;TZID=UTC:20250915T191500
DTSTAMP:20260420T065728
CREATED:20250820T083650Z
LAST-MODIFIED:20260316T184356Z
UID:10011191-1757959200-1757963700@trinityboardmills.org
SUMMARY:BB Anchor Boys
DESCRIPTION:
URL:https://trinityboardmills.org/event/bb-anchor-boys-2-2-2/2025-09-15/
LOCATION:Killaney Hall
CATEGORIES:BB Featured,Youth & Children
ATTACH;FMTTYPE=image/jpeg:https://trinityboardmills.org/wp-content/uploads/2022/11/BBExpEV.jpg
GEO:54.4662977;-5.9128505
END:VEVENT
BEGIN:VEVENT
DTSTART;TZID=UTC:20250915T180000
DTEND;TZID=UTC:20250915T191500
DTSTAMP:20260420T065728
CREATED:20250820T091546Z
LAST-MODIFIED:20260316T184207Z
UID:10012517-1757959200-1757963700@trinityboardmills.org
SUMMARY:GB Explorers
DESCRIPTION:
URL:https://trinityboardmills.org/event/gb-explorers-2-2-2/2025-09-15/
LOCATION:McKee Hall\, BT27 6UP\, United Kingdom
CATEGORIES:GB Featured,Youth & Children
ATTACH;FMTTYPE=image/jpeg:https://trinityboardmills.org/wp-content/uploads/2022/11/GBJuniorEV.jpg
GEO:54.466933365694;-5.9199475846608
END:VEVENT
BEGIN:VEVENT
DTSTART;TZID=UTC:20250915T190000
DTEND;TZID=UTC:20250915T203000
DTSTAMP:20260420T065728
CREATED:20250820T083746Z
LAST-MODIFIED:20260316T184325Z
UID:10011709-1757962800-1757968200@trinityboardmills.org
SUMMARY:BB Junior Section
DESCRIPTION:
URL:https://trinityboardmills.org/event/bb-junior-section-2-2-2/2025-09-15/
LOCATION:Killaney Hall
CATEGORIES:BB Featured,Youth & Children
ATTACH;FMTTYPE=image/jpeg:https://trinityboardmills.org/wp-content/uploads/2022/11/BBSQEV.jpg
GEO:54.4662977;-5.9128505
END:VEVENT
BEGIN:VEVENT
DTSTART;TZID=UTC:20250915T191500
DTEND;TZID=UTC:20250915T203000
DTSTAMP:20260420T065728
CREATED:20250820T092414Z
LAST-MODIFIED:20260316T184139Z
UID:10012258-1757963700-1757968200@trinityboardmills.org
SUMMARY:GB Junior Section
DESCRIPTION:
URL:https://trinityboardmills.org/event/gb-junior-section-2/2025-09-15/
LOCATION:McKee Hall\, BT27 6UP\, United Kingdom
CATEGORIES:GB Featured,Youth & Children
ATTACH;FMTTYPE=image/jpeg:https://trinityboardmills.org/wp-content/uploads/2022/11/GBCompEV.jpg
GEO:54.466933365694;-5.9199475846608
END:VEVENT
BEGIN:VEVENT
DTSTART;TZID=UTC:20250915T191500
DTEND;TZID=UTC:20250915T204500
DTSTAMP:20260420T065728
CREATED:20250820T092749Z
LAST-MODIFIED:20260316T184050Z
UID:10011998-1757963700-1757969100@trinityboardmills.org
SUMMARY:GB Company Section
DESCRIPTION:
URL:https://trinityboardmills.org/event/gb-company-section-2-2-2/2025-09-15/
LOCATION:McKee Hall\, BT27 6UP\, United Kingdom
CATEGORIES:GB Featured,Youth & Children
ATTACH;FMTTYPE=image/jpeg:https://trinityboardmills.org/wp-content/uploads/2022/11/GBCompEV.jpg
GEO:54.466933365694;-5.9199475846608
END:VEVENT
BEGIN:VEVENT
DTSTART;TZID=UTC:20250915T191500
DTEND;TZID=UTC:20250915T210000
DTSTAMP:20260420T065728
CREATED:20250820T083950Z
LAST-MODIFIED:20260316T184255Z
UID:10011450-1757963700-1757970000@trinityboardmills.org
SUMMARY:BB Company Section
DESCRIPTION:
URL:https://trinityboardmills.org/event/bb-company-section-2-2-2/2025-09-15/
LOCATION:Killaney Hall
CATEGORIES:BB Featured,Youth & Children
ATTACH;FMTTYPE=image/jpeg:https://trinityboardmills.org/wp-content/uploads/2022/10/BBCompanyEV.jpg
GEO:54.4662977;-5.9128505
END:VEVENT
BEGIN:VEVENT
DTSTART;TZID=UTC:20250916T193000
DTEND;TZID=UTC:20250916T213000
DTSTAMP:20260420T065728
CREATED:20250820T095711Z
LAST-MODIFIED:20260326T092906Z
UID:10013457-1758051000-1758058200@trinityboardmills.org
SUMMARY:Bowling Club
DESCRIPTION:
URL:https://trinityboardmills.org/event/mixed-bowls-3-2-2/2025-09-16/
LOCATION:McKee Hall\, BT27 6UP\, United Kingdom
CATEGORIES:Adults
ATTACH;FMTTYPE=image/jpeg:https://trinityboardmills.org/wp-content/uploads/2022/11/MixedBowlsEV.jpg
GEO:54.466933365694;-5.9199475846608
END:VEVENT
BEGIN:VEVENT
DTSTART;TZID=UTC:20250917T193000
DTEND;TZID=UTC:20250917T210000
DTSTAMP:20260420T065728
CREATED:20250407T101721Z
LAST-MODIFIED:20250820T085625Z
UID:10016247-1758137400-1758142800@trinityboardmills.org
SUMMARY:Fellowship Groups (Wed)
DESCRIPTION:This session we will be studying Acts 13-28\, the first and third Wednesday of the month in Killaney Hall.
URL:https://trinityboardmills.org/event/fellowship-groups-wed-4/2025-09-17/
LOCATION:Killaney Hall
CATEGORIES:Fellowship Groups Featured
ATTACH;FMTTYPE=image/jpeg:https://trinityboardmills.org/wp-content/uploads/2022/11/FellowshipGroupEV.jpg
GEO:54.4662977;-5.9128505
END:VEVENT
BEGIN:VEVENT
DTSTART;TZID=UTC:20250918T103000
DTEND;TZID=UTC:20250918T113000
DTSTAMP:20260420T065728
CREATED:20230911T123435Z
LAST-MODIFIED:20260326T081458Z
UID:10017900-1758191400-1758195000@trinityboardmills.org
SUMMARY:Ladies Bible Study
DESCRIPTION:
URL:https://trinityboardmills.org/event/ladies-bible-study-2/2025-09-18/
LOCATION:Killaney Hall
CATEGORIES:Adults,Ladies
ATTACH;FMTTYPE=image/jpeg:https://trinityboardmills.org/wp-content/uploads/2022/11/LadiesBibleStudyEV.jpg
GEO:54.4662977;-5.9128505
END:VEVENT
BEGIN:VEVENT
DTSTART;TZID=UTC:20250918T193000
DTEND;TZID=UTC:20250918T210000
DTSTAMP:20260420T065728
CREATED:20250407T101934Z
LAST-MODIFIED:20250820T085149Z
UID:10016185-1758223800-1758229200@trinityboardmills.org
SUMMARY:Fellowship Groups (Thu)
DESCRIPTION:This session we will be studying Acts 13-28\, the first and third Thursday of the month at Colin and Trish Foreman’s home.
URL:https://trinityboardmills.org/event/fellowship-groups-thu-5/2025-09-18/
CATEGORIES:Fellowship Groups Featured
ATTACH;FMTTYPE=image/jpeg:https://trinityboardmills.org/wp-content/uploads/2022/11/FellowshipGroupsEV.jpg
END:VEVENT
BEGIN:VEVENT
DTSTART;TZID=UTC:20250920T190000
DTEND;TZID=UTC:20250920T210000
DTSTAMP:20260420T065728
CREATED:20250820T095502Z
LAST-MODIFIED:20260414T120959Z
UID:10013319-1758394800-1758402000@trinityboardmills.org
SUMMARY:Pulse Senior
DESCRIPTION:
URL:https://trinityboardmills.org/event/pulse-senior-2-2-2/2025-09-20/
LOCATION:Killaney Hall
CATEGORIES:Pulse Featured,Youth & Children
ATTACH;FMTTYPE=image/jpeg:https://trinityboardmills.org/wp-content/uploads/2023/03/Pulse-web.jpg
GEO:54.4662977;-5.9128505
END:VEVENT
BEGIN:VEVENT
DTSTART;TZID=UTC:20250921T113000
DTEND;TZID=UTC:20250921T123000
DTSTAMP:20260420T065728
CREATED:20221031T111539Z
LAST-MODIFIED:20241217T123050Z
UID:10003047-1758454200-1758457800@trinityboardmills.org
SUMMARY:Morning Worship
DESCRIPTION:
URL:https://trinityboardmills.org/event/morning-service/2025-09-21/
LOCATION:Church Building\, BT27 6UP\, United Kingdom
CATEGORIES:Sunday
ATTACH;FMTTYPE=image/jpeg:https://trinityboardmills.org/wp-content/uploads/2022/11/SundayEV.jpg
GEO:54.466933365694;-5.9199475846608
END:VEVENT
END:VCALENDAR