BEGIN:VCALENDAR
VERSION:2.0
PRODID:-//Trinity Presbyterian - ECPv6.15.20//NONSGML v1.0//EN
CALSCALE:GREGORIAN
METHOD:PUBLISH
X-ORIGINAL-URL:https://trinityboardmills.org
X-WR-CALDESC:Events for Trinity Presbyterian
REFRESH-INTERVAL;VALUE=DURATION:PT1H
X-Robots-Tag:noindex
X-PUBLISHED-TTL:PT1H
BEGIN:VTIMEZONE
TZID:UTC
BEGIN:STANDARD
TZOFFSETFROM:+0000
TZOFFSETTO:+0000
TZNAME:UTC
DTSTART:20240101T000000
END:STANDARD
END:VTIMEZONE
BEGIN:VEVENT
DTSTART;TZID=UTC:20250316T113000
DTEND;TZID=UTC:20250316T123000
DTSTAMP:20260421T024923
CREATED:20221031T111539Z
LAST-MODIFIED:20241217T123050Z
UID:10003020-1742124600-1742128200@trinityboardmills.org
SUMMARY:Morning Worship
DESCRIPTION:
URL:https://trinityboardmills.org/event/morning-service/2025-03-16/
LOCATION:Church Building\, BT27 6UP\, United Kingdom
CATEGORIES:Sunday
ATTACH;FMTTYPE=image/jpeg:https://trinityboardmills.org/wp-content/uploads/2022/11/SundayEV.jpg
GEO:54.466933365694;-5.9199475846608
END:VEVENT
BEGIN:VEVENT
DTSTART;TZID=UTC:20250316T114500
DTEND;TZID=UTC:20250316T123000
DTSTAMP:20260421T024923
CREATED:20221031T111350Z
LAST-MODIFIED:20241217T123139Z
UID:10007437-1742125500-1742128200@trinityboardmills.org
SUMMARY:Sunday CE & Creche
DESCRIPTION:
URL:https://trinityboardmills.org/event/sundayce/2025-03-16/
LOCATION:Kerr Room
CATEGORIES:Children
ATTACH;FMTTYPE=image/jpeg:https://trinityboardmills.org/wp-content/uploads/2022/11/SundayCEEV.jpg
END:VEVENT
BEGIN:VEVENT
DTSTART;TZID=UTC:20250316T183000
DTEND;TZID=UTC:20250316T191500
DTSTAMP:20260421T024923
CREATED:20240903T080905Z
LAST-MODIFIED:20260405T092003Z
UID:10018926-1742149800-1742152500@trinityboardmills.org
SUMMARY:Evening Service
DESCRIPTION:
URL:https://trinityboardmills.org/event/evening-service-2/2025-03-16/
LOCATION:Church Building\, BT27 6UP\, United Kingdom
CATEGORIES:Sunday
ATTACH;FMTTYPE=image/jpeg:https://trinityboardmills.org/wp-content/uploads/2022/11/EveningServiceEV.jpg
GEO:54.466933365694;-5.9199475846608
END:VEVENT
BEGIN:VEVENT
DTSTART;TZID=UTC:20250316T193000
DTEND;TZID=UTC:20250316T210000
DTSTAMP:20260421T024923
CREATED:20241211T084227Z
LAST-MODIFIED:20250207T135446Z
UID:10014268-1742153400-1742158800@trinityboardmills.org
SUMMARY:Youth Fellowship
DESCRIPTION:
URL:https://trinityboardmills.org/event/youth-fellowship-6/2025-03-16/
LOCATION:McKee Hall\, BT27 6UP\, United Kingdom
CATEGORIES:YF Featured
ATTACH;FMTTYPE=image/jpeg:https://trinityboardmills.org/wp-content/uploads/2022/11/BreakfastITBEV.jpg
GEO:54.466933365694;-5.9199475846608
END:VEVENT
BEGIN:VEVENT
DTSTART;TZID=UTC:20250317T100000
DTEND;TZID=UTC:20250317T111500
DTSTAMP:20260421T024923
CREATED:20241211T083050Z
LAST-MODIFIED:20250820T094703Z
UID:10017041-1742205600-1742210100@trinityboardmills.org
SUMMARY:Trinity Tots
DESCRIPTION:
URL:https://trinityboardmills.org/event/trinity-tots-2-2-2/2025-03-17/
LOCATION:Killaney Hall
CATEGORIES:Trinity Tots Featured
ATTACH;FMTTYPE=image/jpeg:https://trinityboardmills.org/wp-content/uploads/2022/11/CrecheEV.jpg
GEO:54.4662977;-5.9128505
END:VEVENT
BEGIN:VEVENT
DTSTART;TZID=UTC:20250317T180000
DTEND;TZID=UTC:20250317T190000
DTSTAMP:20260421T024923
CREATED:20240903T132710Z
LAST-MODIFIED:20250217T125306Z
UID:10012514-1742234400-1742238000@trinityboardmills.org
SUMMARY:GB Explorers
DESCRIPTION:
URL:https://trinityboardmills.org/event/gb-explorers-2-2/2025-03-17/
LOCATION:McKee Hall\, BT27 6UP\, United Kingdom
CATEGORIES:GB Featured,Youth & Children
ATTACH;FMTTYPE=image/jpeg:https://trinityboardmills.org/wp-content/uploads/2022/11/GBJuniorEV.jpg
GEO:54.466933365694;-5.9199475846608
END:VEVENT
BEGIN:VEVENT
DTSTART;TZID=UTC:20250317T191500
DTEND;TZID=UTC:20250317T203000
DTSTAMP:20260421T024923
CREATED:20240903T132339Z
LAST-MODIFIED:20260208T221141Z
UID:10012255-1742238900-1742243400@trinityboardmills.org
SUMMARY:GB Junior Section
DESCRIPTION:
URL:https://trinityboardmills.org/event/gb-junior-section/2025-03-17/
LOCATION:McKee Hall\, BT27 6UP\, United Kingdom
CATEGORIES:GB Featured,Youth & Children
ATTACH;FMTTYPE=image/jpeg:https://trinityboardmills.org/wp-content/uploads/2022/11/GBCompEV.jpg
GEO:54.466933365694;-5.9199475846608
END:VEVENT
BEGIN:VEVENT
DTSTART;TZID=UTC:20250317T191500
DTEND;TZID=UTC:20250317T204500
DTSTAMP:20260421T024923
CREATED:20240903T132207Z
LAST-MODIFIED:20250217T125436Z
UID:10011995-1742238900-1742244300@trinityboardmills.org
SUMMARY:GB Company Section
DESCRIPTION:
URL:https://trinityboardmills.org/event/gb-company-section-2-2/2025-03-17/
LOCATION:McKee Hall\, BT27 6UP\, United Kingdom
CATEGORIES:GB Featured,Youth & Children
ATTACH;FMTTYPE=image/jpeg:https://trinityboardmills.org/wp-content/uploads/2022/11/GBCompEV.jpg
GEO:54.466933365694;-5.9199475846608
END:VEVENT
BEGIN:VEVENT
DTSTART;TZID=UTC:20250318T193000
DTEND;TZID=UTC:20250318T213000
DTSTAMP:20260421T024923
CREATED:20240904T140649Z
LAST-MODIFIED:20250331T084646Z
UID:10013455-1742326200-1742333400@trinityboardmills.org
SUMMARY:Bowling Club
DESCRIPTION:
URL:https://trinityboardmills.org/event/mixed-bowls-3-2/2025-03-18/
LOCATION:McKee Hall\, BT27 6UP\, United Kingdom
CATEGORIES:Adults
ATTACH;FMTTYPE=image/jpeg:https://trinityboardmills.org/wp-content/uploads/2022/11/MixedBowlsEV.jpg
GEO:54.466933365694;-5.9199475846608
END:VEVENT
BEGIN:VEVENT
DTSTART;TZID=UTC:20250319T193000
DTEND;TZID=UTC:20250319T210000
DTSTAMP:20260421T024923
CREATED:20250207T120028Z
LAST-MODIFIED:20250407T101548Z
UID:10014929-1742412600-1742418000@trinityboardmills.org
SUMMARY:Fellowship Groups (Wed)
DESCRIPTION:This session we will be studying Acts 1-12\, the first and third Wednesday of the month in Killaney Hall.
URL:https://trinityboardmills.org/event/fellowship-groups-wed-3-2/2025-03-19/
LOCATION:Killaney Hall
CATEGORIES:Fellowship Groups Featured
ATTACH;FMTTYPE=image/jpeg:https://trinityboardmills.org/wp-content/uploads/2022/11/FellowshipGroupEV.jpg
GEO:54.4662977;-5.9128505
END:VEVENT
BEGIN:VEVENT
DTSTART;TZID=UTC:20250320T103000
DTEND;TZID=UTC:20250320T113000
DTSTAMP:20260421T024923
CREATED:20230911T123435Z
LAST-MODIFIED:20260326T081458Z
UID:10017888-1742466600-1742470200@trinityboardmills.org
SUMMARY:Ladies Bible Study
DESCRIPTION:
URL:https://trinityboardmills.org/event/ladies-bible-study-2/2025-03-20/
LOCATION:Killaney Hall
CATEGORIES:Adults,Ladies
ATTACH;FMTTYPE=image/jpeg:https://trinityboardmills.org/wp-content/uploads/2022/11/LadiesBibleStudyEV.jpg
GEO:54.4662977;-5.9128505
END:VEVENT
BEGIN:VEVENT
DTSTART;TZID=UTC:20250320T193000
DTEND;TZID=UTC:20250320T210000
DTSTAMP:20260421T024923
CREATED:20250207T120250Z
LAST-MODIFIED:20250407T101851Z
UID:10014962-1742499000-1742504400@trinityboardmills.org
SUMMARY:Fellowship Groups (Thu)
DESCRIPTION:This session we will be studying Acts 1-12\, the first and third Thursday of the month at Colin and Trish Foreman’s home.
URL:https://trinityboardmills.org/event/fellowship-groups-thu-3-2-2-2/2025-03-20/
CATEGORIES:Fellowship Groups Featured
ATTACH;FMTTYPE=image/jpeg:https://trinityboardmills.org/wp-content/uploads/2022/11/FellowshipGroupsEV.jpg
END:VEVENT
BEGIN:VEVENT
DTSTART;TZID=UTC:20250323T113000
DTEND;TZID=UTC:20250323T123000
DTSTAMP:20260421T024923
CREATED:20221031T111539Z
LAST-MODIFIED:20241217T123050Z
UID:10003021-1742729400-1742733000@trinityboardmills.org
SUMMARY:Morning Worship
DESCRIPTION:
URL:https://trinityboardmills.org/event/morning-service/2025-03-23/
LOCATION:Church Building\, BT27 6UP\, United Kingdom
CATEGORIES:Sunday
ATTACH;FMTTYPE=image/jpeg:https://trinityboardmills.org/wp-content/uploads/2022/11/SundayEV.jpg
GEO:54.466933365694;-5.9199475846608
END:VEVENT
BEGIN:VEVENT
DTSTART;TZID=UTC:20250323T114500
DTEND;TZID=UTC:20250323T123000
DTSTAMP:20260421T024923
CREATED:20221031T111350Z
LAST-MODIFIED:20241217T123139Z
UID:10007438-1742730300-1742733000@trinityboardmills.org
SUMMARY:Sunday CE & Creche
DESCRIPTION:
URL:https://trinityboardmills.org/event/sundayce/2025-03-23/
LOCATION:Kerr Room
CATEGORIES:Children
ATTACH;FMTTYPE=image/jpeg:https://trinityboardmills.org/wp-content/uploads/2022/11/SundayCEEV.jpg
END:VEVENT
BEGIN:VEVENT
DTSTART;TZID=UTC:20250323T183000
DTEND;TZID=UTC:20250323T191500
DTSTAMP:20260421T024923
CREATED:20240903T080905Z
LAST-MODIFIED:20260405T092003Z
UID:10018927-1742754600-1742757300@trinityboardmills.org
SUMMARY:Evening Service
DESCRIPTION:
URL:https://trinityboardmills.org/event/evening-service-2/2025-03-23/
LOCATION:Church Building\, BT27 6UP\, United Kingdom
CATEGORIES:Sunday
ATTACH;FMTTYPE=image/jpeg:https://trinityboardmills.org/wp-content/uploads/2022/11/EveningServiceEV.jpg
GEO:54.466933365694;-5.9199475846608
END:VEVENT
BEGIN:VEVENT
DTSTART;TZID=UTC:20250323T193000
DTEND;TZID=UTC:20250323T210000
DTSTAMP:20260421T024923
CREATED:20250207T115808Z
LAST-MODIFIED:20250207T135030Z
UID:10014403-1742758200-1742763600@trinityboardmills.org
SUMMARY:Youth Fellowship (Fellowship Group format)
DESCRIPTION:
URL:https://trinityboardmills.org/event/youth-fellowship-fellowship-group-format-2-2/2025-03-23/
LOCATION:McKee Hall\, BT27 6UP\, United Kingdom
CATEGORIES:YF Featured
ATTACH;FMTTYPE=image/jpeg:https://trinityboardmills.org/wp-content/uploads/2022/11/BreakfastITBEV.jpg
GEO:54.466933365694;-5.9199475846608
END:VEVENT
BEGIN:VEVENT
DTSTART;TZID=UTC:20250324T100000
DTEND;TZID=UTC:20250324T111500
DTSTAMP:20260421T024923
CREATED:20241211T083050Z
LAST-MODIFIED:20250820T094703Z
UID:10017042-1742810400-1742814900@trinityboardmills.org
SUMMARY:Trinity Tots
DESCRIPTION:
URL:https://trinityboardmills.org/event/trinity-tots-2-2-2/2025-03-24/
LOCATION:Killaney Hall
CATEGORIES:Trinity Tots Featured
ATTACH;FMTTYPE=image/jpeg:https://trinityboardmills.org/wp-content/uploads/2022/11/CrecheEV.jpg
GEO:54.4662977;-5.9128505
END:VEVENT
BEGIN:VEVENT
DTSTART;TZID=UTC:20250324T180000
DTEND;TZID=UTC:20250324T190000
DTSTAMP:20260421T024923
CREATED:20240903T132710Z
LAST-MODIFIED:20250217T125306Z
UID:10012515-1742839200-1742842800@trinityboardmills.org
SUMMARY:GB Explorers
DESCRIPTION:
URL:https://trinityboardmills.org/event/gb-explorers-2-2/2025-03-24/
LOCATION:McKee Hall\, BT27 6UP\, United Kingdom
CATEGORIES:GB Featured,Youth & Children
ATTACH;FMTTYPE=image/jpeg:https://trinityboardmills.org/wp-content/uploads/2022/11/GBJuniorEV.jpg
GEO:54.466933365694;-5.9199475846608
END:VEVENT
BEGIN:VEVENT
DTSTART;TZID=UTC:20250324T191500
DTEND;TZID=UTC:20250324T203000
DTSTAMP:20260421T024923
CREATED:20240903T132339Z
LAST-MODIFIED:20260208T221141Z
UID:10012256-1742843700-1742848200@trinityboardmills.org
SUMMARY:GB Junior Section
DESCRIPTION:
URL:https://trinityboardmills.org/event/gb-junior-section/2025-03-24/
LOCATION:McKee Hall\, BT27 6UP\, United Kingdom
CATEGORIES:GB Featured,Youth & Children
ATTACH;FMTTYPE=image/jpeg:https://trinityboardmills.org/wp-content/uploads/2022/11/GBCompEV.jpg
GEO:54.466933365694;-5.9199475846608
END:VEVENT
BEGIN:VEVENT
DTSTART;TZID=UTC:20250324T191500
DTEND;TZID=UTC:20250324T204500
DTSTAMP:20260421T024923
CREATED:20240903T132207Z
LAST-MODIFIED:20250217T125436Z
UID:10011996-1742843700-1742849100@trinityboardmills.org
SUMMARY:GB Company Section
DESCRIPTION:
URL:https://trinityboardmills.org/event/gb-company-section-2-2/2025-03-24/
LOCATION:McKee Hall\, BT27 6UP\, United Kingdom
CATEGORIES:GB Featured,Youth & Children
ATTACH;FMTTYPE=image/jpeg:https://trinityboardmills.org/wp-content/uploads/2022/11/GBCompEV.jpg
GEO:54.466933365694;-5.9199475846608
END:VEVENT
BEGIN:VEVENT
DTSTART;TZID=UTC:20250325T193000
DTEND;TZID=UTC:20250325T213000
DTSTAMP:20260421T024923
CREATED:20240904T140649Z
LAST-MODIFIED:20250331T084646Z
UID:10013456-1742931000-1742938200@trinityboardmills.org
SUMMARY:Bowling Club
DESCRIPTION:
URL:https://trinityboardmills.org/event/mixed-bowls-3-2/2025-03-25/
LOCATION:McKee Hall\, BT27 6UP\, United Kingdom
CATEGORIES:Adults
ATTACH;FMTTYPE=image/jpeg:https://trinityboardmills.org/wp-content/uploads/2022/11/MixedBowlsEV.jpg
GEO:54.466933365694;-5.9199475846608
END:VEVENT
BEGIN:VEVENT
DTSTART;TZID=UTC:20250330T113000
DTEND;TZID=UTC:20250330T123000
DTSTAMP:20260421T024923
CREATED:20221031T111539Z
LAST-MODIFIED:20241217T123050Z
UID:10003022-1743334200-1743337800@trinityboardmills.org
SUMMARY:Morning Worship
DESCRIPTION:
URL:https://trinityboardmills.org/event/morning-service/2025-03-30/
LOCATION:Church Building\, BT27 6UP\, United Kingdom
CATEGORIES:Sunday
ATTACH;FMTTYPE=image/jpeg:https://trinityboardmills.org/wp-content/uploads/2022/11/SundayEV.jpg
GEO:54.466933365694;-5.9199475846608
END:VEVENT
BEGIN:VEVENT
DTSTART;TZID=UTC:20250330T114500
DTEND;TZID=UTC:20250330T123000
DTSTAMP:20260421T024923
CREATED:20221031T111350Z
LAST-MODIFIED:20241217T123139Z
UID:10007439-1743335100-1743337800@trinityboardmills.org
SUMMARY:Sunday CE & Creche
DESCRIPTION:
URL:https://trinityboardmills.org/event/sundayce/2025-03-30/
LOCATION:Kerr Room
CATEGORIES:Children
ATTACH;FMTTYPE=image/jpeg:https://trinityboardmills.org/wp-content/uploads/2022/11/SundayCEEV.jpg
END:VEVENT
BEGIN:VEVENT
DTSTART;TZID=UTC:20250330T183000
DTEND;TZID=UTC:20250330T191500
DTSTAMP:20260421T024923
CREATED:20240903T080905Z
LAST-MODIFIED:20260405T092003Z
UID:10018928-1743359400-1743362100@trinityboardmills.org
SUMMARY:Evening Service
DESCRIPTION:
URL:https://trinityboardmills.org/event/evening-service-2/2025-03-30/
LOCATION:Church Building\, BT27 6UP\, United Kingdom
CATEGORIES:Sunday
ATTACH;FMTTYPE=image/jpeg:https://trinityboardmills.org/wp-content/uploads/2022/11/EveningServiceEV.jpg
GEO:54.466933365694;-5.9199475846608
END:VEVENT
BEGIN:VEVENT
DTSTART;TZID=UTC:20250330T193000
DTEND;TZID=UTC:20250330T210000
DTSTAMP:20260421T024923
CREATED:20241211T084227Z
LAST-MODIFIED:20250207T135446Z
UID:10014269-1743363000-1743368400@trinityboardmills.org
SUMMARY:Youth Fellowship
DESCRIPTION:
URL:https://trinityboardmills.org/event/youth-fellowship-6/2025-03-30/
LOCATION:McKee Hall\, BT27 6UP\, United Kingdom
CATEGORIES:YF Featured
ATTACH;FMTTYPE=image/jpeg:https://trinityboardmills.org/wp-content/uploads/2022/11/BreakfastITBEV.jpg
GEO:54.466933365694;-5.9199475846608
END:VEVENT
BEGIN:VEVENT
DTSTART;TZID=UTC:20250331T100000
DTEND;TZID=UTC:20250331T111500
DTSTAMP:20260421T024923
CREATED:20241211T083050Z
LAST-MODIFIED:20250820T094703Z
UID:10017043-1743415200-1743419700@trinityboardmills.org
SUMMARY:Trinity Tots
DESCRIPTION:
URL:https://trinityboardmills.org/event/trinity-tots-2-2-2/2025-03-31/
LOCATION:Killaney Hall
CATEGORIES:Trinity Tots Featured
ATTACH;FMTTYPE=image/jpeg:https://trinityboardmills.org/wp-content/uploads/2022/11/CrecheEV.jpg
GEO:54.4662977;-5.9128505
END:VEVENT
BEGIN:VEVENT
DTSTART;TZID=UTC:20250331T180000
DTEND;TZID=UTC:20250331T190000
DTSTAMP:20260421T024923
CREATED:20240903T132710Z
LAST-MODIFIED:20250217T125306Z
UID:10012516-1743444000-1743447600@trinityboardmills.org
SUMMARY:GB Explorers
DESCRIPTION:
URL:https://trinityboardmills.org/event/gb-explorers-2-2/2025-03-31/
LOCATION:McKee Hall\, BT27 6UP\, United Kingdom
CATEGORIES:GB Featured,Youth & Children
ATTACH;FMTTYPE=image/jpeg:https://trinityboardmills.org/wp-content/uploads/2022/11/GBJuniorEV.jpg
GEO:54.466933365694;-5.9199475846608
END:VEVENT
BEGIN:VEVENT
DTSTART;TZID=UTC:20250331T191500
DTEND;TZID=UTC:20250331T203000
DTSTAMP:20260421T024923
CREATED:20240903T132339Z
LAST-MODIFIED:20260208T221141Z
UID:10012257-1743448500-1743453000@trinityboardmills.org
SUMMARY:GB Junior Section
DESCRIPTION:
URL:https://trinityboardmills.org/event/gb-junior-section/2025-03-31/
LOCATION:McKee Hall\, BT27 6UP\, United Kingdom
CATEGORIES:GB Featured,Youth & Children
ATTACH;FMTTYPE=image/jpeg:https://trinityboardmills.org/wp-content/uploads/2022/11/GBCompEV.jpg
GEO:54.466933365694;-5.9199475846608
END:VEVENT
BEGIN:VEVENT
DTSTART;TZID=UTC:20250331T191500
DTEND;TZID=UTC:20250331T204500
DTSTAMP:20260421T024923
CREATED:20240903T132207Z
LAST-MODIFIED:20250217T125436Z
UID:10011997-1743448500-1743453900@trinityboardmills.org
SUMMARY:GB Company Section
DESCRIPTION:
URL:https://trinityboardmills.org/event/gb-company-section-2-2/2025-03-31/
LOCATION:McKee Hall\, BT27 6UP\, United Kingdom
CATEGORIES:GB Featured,Youth & Children
ATTACH;FMTTYPE=image/jpeg:https://trinityboardmills.org/wp-content/uploads/2022/11/GBCompEV.jpg
GEO:54.466933365694;-5.9199475846608
END:VEVENT
BEGIN:VEVENT
DTSTART;TZID=UTC:20250402T193000
DTEND;TZID=UTC:20250402T210000
DTSTAMP:20260421T024923
CREATED:20250207T120028Z
LAST-MODIFIED:20250407T101548Z
UID:10014930-1743622200-1743627600@trinityboardmills.org
SUMMARY:Fellowship Groups (Wed)
DESCRIPTION:This session we will be studying Acts 1-12\, the first and third Wednesday of the month in Killaney Hall.
URL:https://trinityboardmills.org/event/fellowship-groups-wed-3-2/2025-04-02/
LOCATION:Killaney Hall
CATEGORIES:Fellowship Groups Featured
ATTACH;FMTTYPE=image/jpeg:https://trinityboardmills.org/wp-content/uploads/2022/11/FellowshipGroupEV.jpg
GEO:54.4662977;-5.9128505
END:VEVENT
END:VCALENDAR