BEGIN:VCALENDAR
VERSION:2.0
PRODID:-//Trinity Presbyterian - ECPv6.15.20//NONSGML v1.0//EN
CALSCALE:GREGORIAN
METHOD:PUBLISH
X-WR-CALNAME:Trinity Presbyterian
X-ORIGINAL-URL:https://trinityboardmills.org
X-WR-CALDESC:Events for Trinity Presbyterian
REFRESH-INTERVAL;VALUE=DURATION:PT1H
X-Robots-Tag:noindex
X-PUBLISHED-TTL:PT1H
BEGIN:VTIMEZONE
TZID:UTC
BEGIN:STANDARD
TZOFFSETFROM:+0000
TZOFFSETTO:+0000
TZNAME:UTC
DTSTART:20220101T000000
END:STANDARD
END:VTIMEZONE
BEGIN:VEVENT
DTSTART;TZID=UTC:20230716T114500
DTEND;TZID=UTC:20230716T123000
DTSTAMP:20260422T221920
CREATED:20221031T111350Z
LAST-MODIFIED:20241217T123139Z
UID:10007350-1689507900-1689510600@trinityboardmills.org
SUMMARY:Sunday CE & Creche
DESCRIPTION:
URL:https://trinityboardmills.org/event/sundayce/2023-07-16/
LOCATION:Kerr Room
CATEGORIES:Children
ATTACH;FMTTYPE=image/jpeg:https://trinityboardmills.org/wp-content/uploads/2022/11/SundayCEEV.jpg
END:VEVENT
BEGIN:VEVENT
DTSTART;TZID=UTC:20230716T113000
DTEND;TZID=UTC:20230716T123000
DTSTAMP:20260422T221920
CREATED:20221031T111539Z
LAST-MODIFIED:20241217T123050Z
UID:10002933-1689507000-1689510600@trinityboardmills.org
SUMMARY:Morning Worship
DESCRIPTION:
URL:https://trinityboardmills.org/event/morning-service/2023-07-16/
LOCATION:Church Building\, BT27 6UP\, United Kingdom
CATEGORIES:Sunday
ATTACH;FMTTYPE=image/jpeg:https://trinityboardmills.org/wp-content/uploads/2022/11/SundayEV.jpg
GEO:54.466933365694;-5.9199475846608
END:VEVENT
BEGIN:VEVENT
DTSTART;TZID=UTC:20230709T114500
DTEND;TZID=UTC:20230709T123000
DTSTAMP:20260422T221920
CREATED:20221031T111350Z
LAST-MODIFIED:20241217T123139Z
UID:10007349-1688903100-1688905800@trinityboardmills.org
SUMMARY:Sunday CE & Creche
DESCRIPTION:
URL:https://trinityboardmills.org/event/sundayce/2023-07-09/
LOCATION:Kerr Room
CATEGORIES:Children
ATTACH;FMTTYPE=image/jpeg:https://trinityboardmills.org/wp-content/uploads/2022/11/SundayCEEV.jpg
END:VEVENT
BEGIN:VEVENT
DTSTART;TZID=UTC:20230709T113000
DTEND;TZID=UTC:20230709T123000
DTSTAMP:20260422T221920
CREATED:20221031T111539Z
LAST-MODIFIED:20241217T123050Z
UID:10002932-1688902200-1688905800@trinityboardmills.org
SUMMARY:Morning Worship
DESCRIPTION:
URL:https://trinityboardmills.org/event/morning-service/2023-07-09/
LOCATION:Church Building\, BT27 6UP\, United Kingdom
CATEGORIES:Sunday
ATTACH;FMTTYPE=image/jpeg:https://trinityboardmills.org/wp-content/uploads/2022/11/SundayEV.jpg
GEO:54.466933365694;-5.9199475846608
END:VEVENT
BEGIN:VEVENT
DTSTART;TZID=UTC:20230702T114500
DTEND;TZID=UTC:20230702T123000
DTSTAMP:20260422T221920
CREATED:20221031T111350Z
LAST-MODIFIED:20241217T123139Z
UID:10007348-1688298300-1688301000@trinityboardmills.org
SUMMARY:Sunday CE & Creche
DESCRIPTION:
URL:https://trinityboardmills.org/event/sundayce/2023-07-02/
LOCATION:Kerr Room
CATEGORIES:Children
ATTACH;FMTTYPE=image/jpeg:https://trinityboardmills.org/wp-content/uploads/2022/11/SundayCEEV.jpg
END:VEVENT
BEGIN:VEVENT
DTSTART;TZID=UTC:20230702T113000
DTEND;TZID=UTC:20230702T123000
DTSTAMP:20260422T221920
CREATED:20221031T111539Z
LAST-MODIFIED:20241217T123050Z
UID:10002931-1688297400-1688301000@trinityboardmills.org
SUMMARY:Morning Worship
DESCRIPTION:
URL:https://trinityboardmills.org/event/morning-service/2023-07-02/
LOCATION:Church Building\, BT27 6UP\, United Kingdom
CATEGORIES:Sunday
ATTACH;FMTTYPE=image/jpeg:https://trinityboardmills.org/wp-content/uploads/2022/11/SundayEV.jpg
GEO:54.466933365694;-5.9199475846608
END:VEVENT
BEGIN:VEVENT
DTSTART;TZID=UTC:20230625T114500
DTEND;TZID=UTC:20230625T123000
DTSTAMP:20260422T221920
CREATED:20221031T111350Z
LAST-MODIFIED:20241217T123139Z
UID:10007347-1687693500-1687696200@trinityboardmills.org
SUMMARY:Sunday CE & Creche
DESCRIPTION:
URL:https://trinityboardmills.org/event/sundayce/2023-06-25/
LOCATION:Kerr Room
CATEGORIES:Children
ATTACH;FMTTYPE=image/jpeg:https://trinityboardmills.org/wp-content/uploads/2022/11/SundayCEEV.jpg
END:VEVENT
BEGIN:VEVENT
DTSTART;TZID=UTC:20230625T113000
DTEND;TZID=UTC:20230625T123000
DTSTAMP:20260422T221920
CREATED:20221031T111539Z
LAST-MODIFIED:20241217T123050Z
UID:10002930-1687692600-1687696200@trinityboardmills.org
SUMMARY:Morning Worship
DESCRIPTION:
URL:https://trinityboardmills.org/event/morning-service/2023-06-25/
LOCATION:Church Building\, BT27 6UP\, United Kingdom
CATEGORIES:Sunday
ATTACH;FMTTYPE=image/jpeg:https://trinityboardmills.org/wp-content/uploads/2022/11/SundayEV.jpg
GEO:54.466933365694;-5.9199475846608
END:VEVENT
BEGIN:VEVENT
DTSTART;TZID=UTC:20230618T114500
DTEND;TZID=UTC:20230618T123000
DTSTAMP:20260422T221920
CREATED:20221031T111350Z
LAST-MODIFIED:20241217T123139Z
UID:10007346-1687088700-1687091400@trinityboardmills.org
SUMMARY:Sunday CE & Creche
DESCRIPTION:
URL:https://trinityboardmills.org/event/sundayce/2023-06-18/
LOCATION:Kerr Room
CATEGORIES:Children
ATTACH;FMTTYPE=image/jpeg:https://trinityboardmills.org/wp-content/uploads/2022/11/SundayCEEV.jpg
END:VEVENT
BEGIN:VEVENT
DTSTART;TZID=UTC:20230618T113000
DTEND;TZID=UTC:20230618T123000
DTSTAMP:20260422T221920
CREATED:20221031T111539Z
LAST-MODIFIED:20241217T123050Z
UID:10002929-1687087800-1687091400@trinityboardmills.org
SUMMARY:Morning Worship
DESCRIPTION:
URL:https://trinityboardmills.org/event/morning-service/2023-06-18/
LOCATION:Church Building\, BT27 6UP\, United Kingdom
CATEGORIES:Sunday
ATTACH;FMTTYPE=image/jpeg:https://trinityboardmills.org/wp-content/uploads/2022/11/SundayEV.jpg
GEO:54.466933365694;-5.9199475846608
END:VEVENT
BEGIN:VEVENT
DTSTART;TZID=UTC:20230618T101500
DTEND;TZID=UTC:20230618T110000
DTSTAMP:20260422T221920
CREATED:20221031T111059Z
LAST-MODIFIED:20230606T131505Z
UID:10001356-1687083300-1687086000@trinityboardmills.org
SUMMARY:Breakfast in The Book
DESCRIPTION:
URL:https://trinityboardmills.org/event/breakfast-in-the-book/2023-06-18/
LOCATION:Killaney Hall
CATEGORIES:Youth & Children
ATTACH;FMTTYPE=image/jpeg:https://trinityboardmills.org/wp-content/uploads/2022/11/BreakfastITBEV.jpg
GEO:54.4662977;-5.9128505
END:VEVENT
BEGIN:VEVENT
DTSTART;TZID=UTC:20230615T193000
DTEND;TZID=UTC:20230615T210000
DTSTAMP:20260422T221920
CREATED:20230314T091659Z
LAST-MODIFIED:20230605T075645Z
UID:10006474-1686857400-1686862800@trinityboardmills.org
SUMMARY:Fellowship Groups (Thu)
DESCRIPTION:This session we will be studying Christianity Explored\, the first and third Thursday of the month at Colin and Trish Foreman’s home. \n  \nThere is also an online ladies group.
URL:https://trinityboardmills.org/event/fellowship-groups-thu-2-2/2023-06-15/
ATTACH;FMTTYPE=image/jpeg:https://trinityboardmills.org/wp-content/uploads/2022/11/FellowshipGroupsEV.jpg
END:VEVENT
BEGIN:VEVENT
DTSTART;TZID=UTC:20230611T114500
DTEND;TZID=UTC:20230611T123000
DTSTAMP:20260422T221920
CREATED:20221031T111350Z
LAST-MODIFIED:20241217T123139Z
UID:10007345-1686483900-1686486600@trinityboardmills.org
SUMMARY:Sunday CE & Creche
DESCRIPTION:
URL:https://trinityboardmills.org/event/sundayce/2023-06-11/
LOCATION:Kerr Room
CATEGORIES:Children
ATTACH;FMTTYPE=image/jpeg:https://trinityboardmills.org/wp-content/uploads/2022/11/SundayCEEV.jpg
END:VEVENT
BEGIN:VEVENT
DTSTART;TZID=UTC:20230611T113000
DTEND;TZID=UTC:20230611T123000
DTSTAMP:20260422T221920
CREATED:20221031T111539Z
LAST-MODIFIED:20241217T123050Z
UID:10002928-1686483000-1686486600@trinityboardmills.org
SUMMARY:Morning Worship
DESCRIPTION:
URL:https://trinityboardmills.org/event/morning-service/2023-06-11/
LOCATION:Church Building\, BT27 6UP\, United Kingdom
CATEGORIES:Sunday
ATTACH;FMTTYPE=image/jpeg:https://trinityboardmills.org/wp-content/uploads/2022/11/SundayEV.jpg
GEO:54.466933365694;-5.9199475846608
END:VEVENT
BEGIN:VEVENT
DTSTART;TZID=UTC:20230611T101500
DTEND;TZID=UTC:20230611T110000
DTSTAMP:20260422T221920
CREATED:20221031T111059Z
LAST-MODIFIED:20230606T131505Z
UID:10001355-1686478500-1686481200@trinityboardmills.org
SUMMARY:Breakfast in The Book
DESCRIPTION:
URL:https://trinityboardmills.org/event/breakfast-in-the-book/2023-06-11/
LOCATION:Killaney Hall
CATEGORIES:Youth & Children
ATTACH;FMTTYPE=image/jpeg:https://trinityboardmills.org/wp-content/uploads/2022/11/BreakfastITBEV.jpg
GEO:54.4662977;-5.9128505
END:VEVENT
BEGIN:VEVENT
DTSTART;TZID=UTC:20230604T114500
DTEND;TZID=UTC:20230604T123000
DTSTAMP:20260422T221920
CREATED:20221031T111350Z
LAST-MODIFIED:20241217T123139Z
UID:10007344-1685879100-1685881800@trinityboardmills.org
SUMMARY:Sunday CE & Creche
DESCRIPTION:
URL:https://trinityboardmills.org/event/sundayce/2023-06-04/
LOCATION:Kerr Room
CATEGORIES:Children
ATTACH;FMTTYPE=image/jpeg:https://trinityboardmills.org/wp-content/uploads/2022/11/SundayCEEV.jpg
END:VEVENT
BEGIN:VEVENT
DTSTART;TZID=UTC:20230604T113000
DTEND;TZID=UTC:20230604T123000
DTSTAMP:20260422T221920
CREATED:20221031T111539Z
LAST-MODIFIED:20241217T123050Z
UID:10002927-1685878200-1685881800@trinityboardmills.org
SUMMARY:Morning Worship
DESCRIPTION:
URL:https://trinityboardmills.org/event/morning-service/2023-06-04/
LOCATION:Church Building\, BT27 6UP\, United Kingdom
CATEGORIES:Sunday
ATTACH;FMTTYPE=image/jpeg:https://trinityboardmills.org/wp-content/uploads/2022/11/SundayEV.jpg
GEO:54.466933365694;-5.9199475846608
END:VEVENT
BEGIN:VEVENT
DTSTART;TZID=UTC:20230604T101500
DTEND;TZID=UTC:20230604T110000
DTSTAMP:20260422T221920
CREATED:20221031T111059Z
LAST-MODIFIED:20230606T131505Z
UID:10001354-1685873700-1685876400@trinityboardmills.org
SUMMARY:Breakfast in The Book
DESCRIPTION:
URL:https://trinityboardmills.org/event/breakfast-in-the-book/2023-06-04/
LOCATION:Killaney Hall
CATEGORIES:Youth & Children
ATTACH;FMTTYPE=image/jpeg:https://trinityboardmills.org/wp-content/uploads/2022/11/BreakfastITBEV.jpg
GEO:54.4662977;-5.9128505
END:VEVENT
BEGIN:VEVENT
DTSTART;TZID=UTC:20230601T193000
DTEND;TZID=UTC:20230601T210000
DTSTAMP:20260422T221920
CREATED:20230314T091659Z
LAST-MODIFIED:20230605T075645Z
UID:10006473-1685647800-1685653200@trinityboardmills.org
SUMMARY:Fellowship Groups (Thu)
DESCRIPTION:This session we will be studying Christianity Explored\, the first and third Thursday of the month at Colin and Trish Foreman’s home. \n  \nThere is also an online ladies group.
URL:https://trinityboardmills.org/event/fellowship-groups-thu-2-2/2023-06-01/
ATTACH;FMTTYPE=image/jpeg:https://trinityboardmills.org/wp-content/uploads/2022/11/FellowshipGroupsEV.jpg
END:VEVENT
BEGIN:VEVENT
DTSTART;TZID=UTC:20230528T114500
DTEND;TZID=UTC:20230528T123000
DTSTAMP:20260422T221920
CREATED:20221031T111350Z
LAST-MODIFIED:20241217T123139Z
UID:10007343-1685274300-1685277000@trinityboardmills.org
SUMMARY:Sunday CE & Creche
DESCRIPTION:
URL:https://trinityboardmills.org/event/sundayce/2023-05-28/
LOCATION:Kerr Room
CATEGORIES:Children
ATTACH;FMTTYPE=image/jpeg:https://trinityboardmills.org/wp-content/uploads/2022/11/SundayCEEV.jpg
END:VEVENT
BEGIN:VEVENT
DTSTART;TZID=UTC:20230528T113000
DTEND;TZID=UTC:20230528T123000
DTSTAMP:20260422T221920
CREATED:20221031T111539Z
LAST-MODIFIED:20241217T123050Z
UID:10002926-1685273400-1685277000@trinityboardmills.org
SUMMARY:Morning Worship
DESCRIPTION:
URL:https://trinityboardmills.org/event/morning-service/2023-05-28/
LOCATION:Church Building\, BT27 6UP\, United Kingdom
CATEGORIES:Sunday
ATTACH;FMTTYPE=image/jpeg:https://trinityboardmills.org/wp-content/uploads/2022/11/SundayEV.jpg
GEO:54.466933365694;-5.9199475846608
END:VEVENT
BEGIN:VEVENT
DTSTART;TZID=UTC:20230528T101500
DTEND;TZID=UTC:20230528T110000
DTSTAMP:20260422T221920
CREATED:20221031T111059Z
LAST-MODIFIED:20230606T131505Z
UID:10001353-1685268900-1685271600@trinityboardmills.org
SUMMARY:Breakfast in The Book
DESCRIPTION:
URL:https://trinityboardmills.org/event/breakfast-in-the-book/2023-05-28/
LOCATION:Killaney Hall
CATEGORIES:Youth & Children
ATTACH;FMTTYPE=image/jpeg:https://trinityboardmills.org/wp-content/uploads/2022/11/BreakfastITBEV.jpg
GEO:54.4662977;-5.9128505
END:VEVENT
BEGIN:VEVENT
DTSTART;TZID=UTC:20230524T193000
DTEND;TZID=UTC:20230524T203000
DTSTAMP:20260422T221920
CREATED:20221201T115131Z
LAST-MODIFIED:20230606T130026Z
UID:10005745-1684956600-1684960200@trinityboardmills.org
SUMMARY:Midweek
DESCRIPTION:
URL:https://trinityboardmills.org/event/midweek-3/2023-05-24/
ATTACH;FMTTYPE=image/jpeg:https://trinityboardmills.org/wp-content/uploads/2022/11/MidweekEV.jpg
END:VEVENT
BEGIN:VEVENT
DTSTART;TZID=UTC:20230521T114500
DTEND;TZID=UTC:20230521T123000
DTSTAMP:20260422T221920
CREATED:20221031T111350Z
LAST-MODIFIED:20241217T123139Z
UID:10007342-1684669500-1684672200@trinityboardmills.org
SUMMARY:Sunday CE & Creche
DESCRIPTION:
URL:https://trinityboardmills.org/event/sundayce/2023-05-21/
LOCATION:Kerr Room
CATEGORIES:Children
ATTACH;FMTTYPE=image/jpeg:https://trinityboardmills.org/wp-content/uploads/2022/11/SundayCEEV.jpg
END:VEVENT
BEGIN:VEVENT
DTSTART;TZID=UTC:20230521T113000
DTEND;TZID=UTC:20230521T123000
DTSTAMP:20260422T221920
CREATED:20221031T111539Z
LAST-MODIFIED:20241217T123050Z
UID:10002925-1684668600-1684672200@trinityboardmills.org
SUMMARY:Morning Worship
DESCRIPTION:
URL:https://trinityboardmills.org/event/morning-service/2023-05-21/
LOCATION:Church Building\, BT27 6UP\, United Kingdom
CATEGORIES:Sunday
ATTACH;FMTTYPE=image/jpeg:https://trinityboardmills.org/wp-content/uploads/2022/11/SundayEV.jpg
GEO:54.466933365694;-5.9199475846608
END:VEVENT
BEGIN:VEVENT
DTSTART;TZID=UTC:20230521T101500
DTEND;TZID=UTC:20230521T110000
DTSTAMP:20260422T221920
CREATED:20221031T111059Z
LAST-MODIFIED:20230606T131505Z
UID:10001352-1684664100-1684666800@trinityboardmills.org
SUMMARY:Breakfast in The Book
DESCRIPTION:
URL:https://trinityboardmills.org/event/breakfast-in-the-book/2023-05-21/
LOCATION:Killaney Hall
CATEGORIES:Youth & Children
ATTACH;FMTTYPE=image/jpeg:https://trinityboardmills.org/wp-content/uploads/2022/11/BreakfastITBEV.jpg
GEO:54.4662977;-5.9128505
END:VEVENT
BEGIN:VEVENT
DTSTART;TZID=UTC:20230518T193000
DTEND;TZID=UTC:20230518T210000
DTSTAMP:20260422T221920
CREATED:20230314T091659Z
LAST-MODIFIED:20230605T075645Z
UID:10006472-1684438200-1684443600@trinityboardmills.org
SUMMARY:Fellowship Groups (Thu)
DESCRIPTION:This session we will be studying Christianity Explored\, the first and third Thursday of the month at Colin and Trish Foreman’s home. \n  \nThere is also an online ladies group.
URL:https://trinityboardmills.org/event/fellowship-groups-thu-2-2/2023-05-18/
ATTACH;FMTTYPE=image/jpeg:https://trinityboardmills.org/wp-content/uploads/2022/11/FellowshipGroupsEV.jpg
END:VEVENT
BEGIN:VEVENT
DTSTART;TZID=UTC:20230517T193000
DTEND;TZID=UTC:20230517T210000
DTSTAMP:20260422T221920
CREATED:20230327T092135Z
LAST-MODIFIED:20230605T075823Z
UID:10006597-1684351800-1684357200@trinityboardmills.org
SUMMARY:Fellowship Groups (Wed)
DESCRIPTION:This session we will be studying Christianity Explored\, the first and third Wednesday of the month in Killaney Hall.
URL:https://trinityboardmills.org/event/fellowship-groups-wed-2-2/2023-05-17/
LOCATION:Killaney Hall
ATTACH;FMTTYPE=image/jpeg:https://trinityboardmills.org/wp-content/uploads/2022/11/FellowshipGroupEV.jpg
GEO:54.4662977;-5.9128505
END:VEVENT
BEGIN:VEVENT
DTSTART;TZID=UTC:20230514T114500
DTEND;TZID=UTC:20230514T123000
DTSTAMP:20260422T221920
CREATED:20221031T111350Z
LAST-MODIFIED:20241217T123139Z
UID:10007341-1684064700-1684067400@trinityboardmills.org
SUMMARY:Sunday CE & Creche
DESCRIPTION:
URL:https://trinityboardmills.org/event/sundayce/2023-05-14/
LOCATION:Kerr Room
CATEGORIES:Children
ATTACH;FMTTYPE=image/jpeg:https://trinityboardmills.org/wp-content/uploads/2022/11/SundayCEEV.jpg
END:VEVENT
BEGIN:VEVENT
DTSTART;TZID=UTC:20230514T113000
DTEND;TZID=UTC:20230514T123000
DTSTAMP:20260422T221920
CREATED:20221031T111539Z
LAST-MODIFIED:20241217T123050Z
UID:10002924-1684063800-1684067400@trinityboardmills.org
SUMMARY:Morning Worship
DESCRIPTION:
URL:https://trinityboardmills.org/event/morning-service/2023-05-14/
LOCATION:Church Building\, BT27 6UP\, United Kingdom
CATEGORIES:Sunday
ATTACH;FMTTYPE=image/jpeg:https://trinityboardmills.org/wp-content/uploads/2022/11/SundayEV.jpg
GEO:54.466933365694;-5.9199475846608
END:VEVENT
END:VCALENDAR