BEGIN:VCALENDAR
VERSION:2.0
PRODID:-//Trinity Presbyterian - ECPv6.15.20//NONSGML v1.0//EN
CALSCALE:GREGORIAN
METHOD:PUBLISH
X-WR-CALNAME:Trinity Presbyterian
X-ORIGINAL-URL:https://trinityboardmills.org
X-WR-CALDESC:Events for Trinity Presbyterian
REFRESH-INTERVAL;VALUE=DURATION:PT1H
X-Robots-Tag:noindex
X-PUBLISHED-TTL:PT1H
BEGIN:VTIMEZONE
TZID:UTC
BEGIN:STANDARD
TZOFFSETFROM:+0000
TZOFFSETTO:+0000
TZNAME:UTC
DTSTART:20270101T000000
END:STANDARD
END:VTIMEZONE
BEGIN:VEVENT
DTSTART;TZID=UTC:20280123T114500
DTEND;TZID=UTC:20280123T123000
DTSTAMP:20260423T095046
CREATED:20221031T111350Z
LAST-MODIFIED:20241217T123139Z
UID:10007586-1832240700-1832243400@trinityboardmills.org
SUMMARY:Sunday CE & Creche
DESCRIPTION:
URL:https://trinityboardmills.org/event/sundayce/2028-01-23/
LOCATION:Kerr Room
CATEGORIES:Children
ATTACH;FMTTYPE=image/jpeg:https://trinityboardmills.org/wp-content/uploads/2022/11/SundayCEEV.jpg
END:VEVENT
BEGIN:VEVENT
DTSTART;TZID=UTC:20280123T183000
DTEND;TZID=UTC:20280123T191500
DTSTAMP:20260423T095046
CREATED:20240903T080905Z
LAST-MODIFIED:20260405T092003Z
UID:10011081-1832265000-1832267700@trinityboardmills.org
SUMMARY:Evening Service
DESCRIPTION:
URL:https://trinityboardmills.org/event/evening-service-2/2028-01-23/
LOCATION:Church Building\, BT27 6UP\, United Kingdom
CATEGORIES:Sunday
ATTACH;FMTTYPE=image/jpeg:https://trinityboardmills.org/wp-content/uploads/2022/11/EveningServiceEV.jpg
GEO:54.466933365694;-5.9199475846608
END:VEVENT
BEGIN:VEVENT
DTSTART;TZID=UTC:20280126T193000
DTEND;TZID=UTC:20280126T203000
DTSTAMP:20260423T095046
CREATED:20250407T073313Z
LAST-MODIFIED:20251201T181414Z
UID:10017476-1832527800-1832531400@trinityboardmills.org
SUMMARY:Prayer Meeting
DESCRIPTION:Join with us as we pray with the firm expectation that God will move in and through us by His Spirit.
URL:https://trinityboardmills.org/event/prayer-meeting-2/2028-01-26/
LOCATION:Church Building\, BT27 6UP\, United Kingdom
CATEGORIES:Adults
ATTACH;FMTTYPE=image/jpeg:https://trinityboardmills.org/wp-content/uploads/2024/06/Prayer-reduced.jpg
GEO:54.466933365694;-5.9199475846608
END:VEVENT
BEGIN:VEVENT
DTSTART;TZID=UTC:20280127T103000
DTEND;TZID=UTC:20280127T113000
DTSTAMP:20260423T095046
CREATED:20230911T123435Z
LAST-MODIFIED:20260326T081458Z
UID:10013864-1832581800-1832585400@trinityboardmills.org
SUMMARY:Ladies Bible Study
DESCRIPTION:
URL:https://trinityboardmills.org/event/ladies-bible-study-2/2028-01-27/
LOCATION:Killaney Hall
CATEGORIES:Adults,Ladies
ATTACH;FMTTYPE=image/jpeg:https://trinityboardmills.org/wp-content/uploads/2022/11/LadiesBibleStudyEV.jpg
GEO:54.4662977;-5.9128505
END:VEVENT
BEGIN:VEVENT
DTSTART;TZID=UTC:20280130T113000
DTEND;TZID=UTC:20280130T123000
DTSTAMP:20260423T095046
CREATED:20221031T111539Z
LAST-MODIFIED:20241217T123050Z
UID:10007275-1832844600-1832848200@trinityboardmills.org
SUMMARY:Morning Worship
DESCRIPTION:
URL:https://trinityboardmills.org/event/morning-service/2028-01-30/
LOCATION:Church Building\, BT27 6UP\, United Kingdom
CATEGORIES:Sunday
ATTACH;FMTTYPE=image/jpeg:https://trinityboardmills.org/wp-content/uploads/2022/11/SundayEV.jpg
GEO:54.466933365694;-5.9199475846608
END:VEVENT
BEGIN:VEVENT
DTSTART;TZID=UTC:20280130T114500
DTEND;TZID=UTC:20280130T123000
DTSTAMP:20260423T095046
CREATED:20221031T111350Z
LAST-MODIFIED:20241217T123139Z
UID:10007587-1832845500-1832848200@trinityboardmills.org
SUMMARY:Sunday CE & Creche
DESCRIPTION:
URL:https://trinityboardmills.org/event/sundayce/2028-01-30/
LOCATION:Kerr Room
CATEGORIES:Children
ATTACH;FMTTYPE=image/jpeg:https://trinityboardmills.org/wp-content/uploads/2022/11/SundayCEEV.jpg
END:VEVENT
BEGIN:VEVENT
DTSTART;TZID=UTC:20280130T183000
DTEND;TZID=UTC:20280130T191500
DTSTAMP:20260423T095046
CREATED:20240903T080905Z
LAST-MODIFIED:20260405T092003Z
UID:10011082-1832869800-1832872500@trinityboardmills.org
SUMMARY:Evening Service
DESCRIPTION:
URL:https://trinityboardmills.org/event/evening-service-2/2028-01-30/
LOCATION:Church Building\, BT27 6UP\, United Kingdom
CATEGORIES:Sunday
ATTACH;FMTTYPE=image/jpeg:https://trinityboardmills.org/wp-content/uploads/2022/11/EveningServiceEV.jpg
GEO:54.466933365694;-5.9199475846608
END:VEVENT
BEGIN:VEVENT
DTSTART;TZID=UTC:20280203T103000
DTEND;TZID=UTC:20280203T113000
DTSTAMP:20260423T095046
CREATED:20230911T123435Z
LAST-MODIFIED:20260326T081458Z
UID:10013865-1833186600-1833190200@trinityboardmills.org
SUMMARY:Ladies Bible Study
DESCRIPTION:
URL:https://trinityboardmills.org/event/ladies-bible-study-2/2028-02-03/
LOCATION:Killaney Hall
CATEGORIES:Adults,Ladies
ATTACH;FMTTYPE=image/jpeg:https://trinityboardmills.org/wp-content/uploads/2022/11/LadiesBibleStudyEV.jpg
GEO:54.4662977;-5.9128505
END:VEVENT
BEGIN:VEVENT
DTSTART;TZID=UTC:20280205T183000
DTEND;TZID=UTC:20280205T200000
DTSTAMP:20260423T095046
CREATED:20250820T095239Z
LAST-MODIFIED:20260323T091415Z
UID:10017101-1833388200-1833393600@trinityboardmills.org
SUMMARY:Pulse Junior
DESCRIPTION:
URL:https://trinityboardmills.org/event/pulse-junior-2-2-2-2-2-2/2028-02-05/
LOCATION:Killaney Hall
CATEGORIES:Pulse Featured,Youth & Children
ATTACH;FMTTYPE=image/jpeg:https://trinityboardmills.org/wp-content/uploads/2022/11/Pulse-web-2.jpg
GEO:54.4662977;-5.9128505
END:VEVENT
BEGIN:VEVENT
DTSTART;TZID=UTC:20280206T113000
DTEND;TZID=UTC:20280206T123000
DTSTAMP:20260423T095046
CREATED:20221031T111539Z
LAST-MODIFIED:20241217T123050Z
UID:10007276-1833449400-1833453000@trinityboardmills.org
SUMMARY:Morning Worship
DESCRIPTION:
URL:https://trinityboardmills.org/event/morning-service/2028-02-06/
LOCATION:Church Building\, BT27 6UP\, United Kingdom
CATEGORIES:Sunday
ATTACH;FMTTYPE=image/jpeg:https://trinityboardmills.org/wp-content/uploads/2022/11/SundayEV.jpg
GEO:54.466933365694;-5.9199475846608
END:VEVENT
BEGIN:VEVENT
DTSTART;TZID=UTC:20280206T114500
DTEND;TZID=UTC:20280206T123000
DTSTAMP:20260423T095046
CREATED:20221031T111350Z
LAST-MODIFIED:20241217T123139Z
UID:10007588-1833450300-1833453000@trinityboardmills.org
SUMMARY:Sunday CE & Creche
DESCRIPTION:
URL:https://trinityboardmills.org/event/sundayce/2028-02-06/
LOCATION:Kerr Room
CATEGORIES:Children
ATTACH;FMTTYPE=image/jpeg:https://trinityboardmills.org/wp-content/uploads/2022/11/SundayCEEV.jpg
END:VEVENT
BEGIN:VEVENT
DTSTART;TZID=UTC:20280206T183000
DTEND;TZID=UTC:20280206T191500
DTSTAMP:20260423T095046
CREATED:20240903T080905Z
LAST-MODIFIED:20260405T092003Z
UID:10011083-1833474600-1833477300@trinityboardmills.org
SUMMARY:Evening Service
DESCRIPTION:
URL:https://trinityboardmills.org/event/evening-service-2/2028-02-06/
LOCATION:Church Building\, BT27 6UP\, United Kingdom
CATEGORIES:Sunday
ATTACH;FMTTYPE=image/jpeg:https://trinityboardmills.org/wp-content/uploads/2022/11/EveningServiceEV.jpg
GEO:54.466933365694;-5.9199475846608
END:VEVENT
BEGIN:VEVENT
DTSTART;TZID=UTC:20280210T103000
DTEND;TZID=UTC:20280210T113000
DTSTAMP:20260423T095046
CREATED:20230911T123435Z
LAST-MODIFIED:20260326T081458Z
UID:10013866-1833791400-1833795000@trinityboardmills.org
SUMMARY:Ladies Bible Study
DESCRIPTION:
URL:https://trinityboardmills.org/event/ladies-bible-study-2/2028-02-10/
LOCATION:Killaney Hall
CATEGORIES:Adults,Ladies
ATTACH;FMTTYPE=image/jpeg:https://trinityboardmills.org/wp-content/uploads/2022/11/LadiesBibleStudyEV.jpg
GEO:54.4662977;-5.9128505
END:VEVENT
BEGIN:VEVENT
DTSTART;TZID=UTC:20280210T193000
DTEND;TZID=UTC:20280210T213000
DTSTAMP:20260423T095046
CREATED:20260104T151947Z
LAST-MODIFIED:20260408T132848Z
UID:10017598-1833823800-1833831000@trinityboardmills.org
SUMMARY:Trinity Women
DESCRIPTION:Trinity Women meet on the second Thursday of the month. All ladies very welcome. \nContact a member of PW committee or email office@trinityboardmills.org for more details.
URL:https://trinityboardmills.org/event/trinity-women-2/2028-02-10/
LOCATION:McKee Hall\, BT27 6UP\, United Kingdom
CATEGORIES:Ladies
ATTACH;FMTTYPE=image/png:https://trinityboardmills.org/wp-content/uploads/2022/11/PW-Logo.png
GEO:54.466933365694;-5.9199475846608
END:VEVENT
BEGIN:VEVENT
DTSTART;TZID=UTC:20280213T100000
DTEND;TZID=UTC:20280213T110000
DTSTAMP:20260423T095046
CREATED:20250820T100226Z
LAST-MODIFIED:20250820T100246Z
UID:10017535-1834048800-1834052400@trinityboardmills.org
SUMMARY:Prayer Meeting
DESCRIPTION:Join with us as we pray with the firm expectation that God will move in and through us by His Spirit.
URL:https://trinityboardmills.org/event/prayer-meeting-3/2028-02-13/
LOCATION:Church Building\, BT27 6UP\, United Kingdom
CATEGORIES:Adults
ATTACH;FMTTYPE=image/jpeg:https://trinityboardmills.org/wp-content/uploads/2024/06/Prayer-reduced.jpg
GEO:54.466933365694;-5.9199475846608
END:VEVENT
BEGIN:VEVENT
DTSTART;TZID=UTC:20280213T113000
DTEND;TZID=UTC:20280213T123000
DTSTAMP:20260423T095046
CREATED:20221031T111539Z
LAST-MODIFIED:20241217T123050Z
UID:10007277-1834054200-1834057800@trinityboardmills.org
SUMMARY:Morning Worship
DESCRIPTION:
URL:https://trinityboardmills.org/event/morning-service/2028-02-13/
LOCATION:Church Building\, BT27 6UP\, United Kingdom
CATEGORIES:Sunday
ATTACH;FMTTYPE=image/jpeg:https://trinityboardmills.org/wp-content/uploads/2022/11/SundayEV.jpg
GEO:54.466933365694;-5.9199475846608
END:VEVENT
BEGIN:VEVENT
DTSTART;TZID=UTC:20280213T114500
DTEND;TZID=UTC:20280213T123000
DTSTAMP:20260423T095046
CREATED:20221031T111350Z
LAST-MODIFIED:20241217T123139Z
UID:10007589-1834055100-1834057800@trinityboardmills.org
SUMMARY:Sunday CE & Creche
DESCRIPTION:
URL:https://trinityboardmills.org/event/sundayce/2028-02-13/
LOCATION:Kerr Room
CATEGORIES:Children
ATTACH;FMTTYPE=image/jpeg:https://trinityboardmills.org/wp-content/uploads/2022/11/SundayCEEV.jpg
END:VEVENT
BEGIN:VEVENT
DTSTART;TZID=UTC:20280213T183000
DTEND;TZID=UTC:20280213T191500
DTSTAMP:20260423T095046
CREATED:20240903T080905Z
LAST-MODIFIED:20260405T092003Z
UID:10011084-1834079400-1834082100@trinityboardmills.org
SUMMARY:Evening Service
DESCRIPTION:
URL:https://trinityboardmills.org/event/evening-service-2/2028-02-13/
LOCATION:Church Building\, BT27 6UP\, United Kingdom
CATEGORIES:Sunday
ATTACH;FMTTYPE=image/jpeg:https://trinityboardmills.org/wp-content/uploads/2022/11/EveningServiceEV.jpg
GEO:54.466933365694;-5.9199475846608
END:VEVENT
BEGIN:VEVENT
DTSTART;TZID=UTC:20280217T103000
DTEND;TZID=UTC:20280217T113000
DTSTAMP:20260423T095046
CREATED:20230911T123435Z
LAST-MODIFIED:20260326T081458Z
UID:10013867-1834396200-1834399800@trinityboardmills.org
SUMMARY:Ladies Bible Study
DESCRIPTION:
URL:https://trinityboardmills.org/event/ladies-bible-study-2/2028-02-17/
LOCATION:Killaney Hall
CATEGORIES:Adults,Ladies
ATTACH;FMTTYPE=image/jpeg:https://trinityboardmills.org/wp-content/uploads/2022/11/LadiesBibleStudyEV.jpg
GEO:54.4662977;-5.9128505
END:VEVENT
BEGIN:VEVENT
DTSTART;TZID=UTC:20280219T190000
DTEND;TZID=UTC:20280219T210000
DTSTAMP:20260423T095046
CREATED:20250820T095502Z
LAST-MODIFIED:20260414T120959Z
UID:10017160-1834599600-1834606800@trinityboardmills.org
SUMMARY:Pulse Senior
DESCRIPTION:
URL:https://trinityboardmills.org/event/pulse-senior-2-2-2/2028-02-19/
LOCATION:Killaney Hall
CATEGORIES:Pulse Featured,Youth & Children
ATTACH;FMTTYPE=image/jpeg:https://trinityboardmills.org/wp-content/uploads/2023/03/Pulse-web.jpg
GEO:54.4662977;-5.9128505
END:VEVENT
BEGIN:VEVENT
DTSTART;TZID=UTC:20280220T113000
DTEND;TZID=UTC:20280220T123000
DTSTAMP:20260423T095046
CREATED:20221031T111539Z
LAST-MODIFIED:20241217T123050Z
UID:10007278-1834659000-1834662600@trinityboardmills.org
SUMMARY:Morning Worship
DESCRIPTION:
URL:https://trinityboardmills.org/event/morning-service/2028-02-20/
LOCATION:Church Building\, BT27 6UP\, United Kingdom
CATEGORIES:Sunday
ATTACH;FMTTYPE=image/jpeg:https://trinityboardmills.org/wp-content/uploads/2022/11/SundayEV.jpg
GEO:54.466933365694;-5.9199475846608
END:VEVENT
BEGIN:VEVENT
DTSTART;TZID=UTC:20280220T114500
DTEND;TZID=UTC:20280220T123000
DTSTAMP:20260423T095046
CREATED:20221031T111350Z
LAST-MODIFIED:20241217T123139Z
UID:10007590-1834659900-1834662600@trinityboardmills.org
SUMMARY:Sunday CE & Creche
DESCRIPTION:
URL:https://trinityboardmills.org/event/sundayce/2028-02-20/
LOCATION:Kerr Room
CATEGORIES:Children
ATTACH;FMTTYPE=image/jpeg:https://trinityboardmills.org/wp-content/uploads/2022/11/SundayCEEV.jpg
END:VEVENT
BEGIN:VEVENT
DTSTART;TZID=UTC:20280220T183000
DTEND;TZID=UTC:20280220T191500
DTSTAMP:20260423T095046
CREATED:20240903T080905Z
LAST-MODIFIED:20260405T092003Z
UID:10011085-1834684200-1834686900@trinityboardmills.org
SUMMARY:Evening Service
DESCRIPTION:
URL:https://trinityboardmills.org/event/evening-service-2/2028-02-20/
LOCATION:Church Building\, BT27 6UP\, United Kingdom
CATEGORIES:Sunday
ATTACH;FMTTYPE=image/jpeg:https://trinityboardmills.org/wp-content/uploads/2022/11/EveningServiceEV.jpg
GEO:54.466933365694;-5.9199475846608
END:VEVENT
BEGIN:VEVENT
DTSTART;TZID=UTC:20280223T193000
DTEND;TZID=UTC:20280223T203000
DTSTAMP:20260423T095046
CREATED:20250407T073313Z
LAST-MODIFIED:20251201T181414Z
UID:10017477-1834947000-1834950600@trinityboardmills.org
SUMMARY:Prayer Meeting
DESCRIPTION:Join with us as we pray with the firm expectation that God will move in and through us by His Spirit.
URL:https://trinityboardmills.org/event/prayer-meeting-2/2028-02-23/
LOCATION:Church Building\, BT27 6UP\, United Kingdom
CATEGORIES:Adults
ATTACH;FMTTYPE=image/jpeg:https://trinityboardmills.org/wp-content/uploads/2024/06/Prayer-reduced.jpg
GEO:54.466933365694;-5.9199475846608
END:VEVENT
BEGIN:VEVENT
DTSTART;TZID=UTC:20280224T103000
DTEND;TZID=UTC:20280224T113000
DTSTAMP:20260423T095046
CREATED:20230911T123435Z
LAST-MODIFIED:20260326T081458Z
UID:10013868-1835001000-1835004600@trinityboardmills.org
SUMMARY:Ladies Bible Study
DESCRIPTION:
URL:https://trinityboardmills.org/event/ladies-bible-study-2/2028-02-24/
LOCATION:Killaney Hall
CATEGORIES:Adults,Ladies
ATTACH;FMTTYPE=image/jpeg:https://trinityboardmills.org/wp-content/uploads/2022/11/LadiesBibleStudyEV.jpg
GEO:54.4662977;-5.9128505
END:VEVENT
BEGIN:VEVENT
DTSTART;TZID=UTC:20280227T113000
DTEND;TZID=UTC:20280227T123000
DTSTAMP:20260423T095046
CREATED:20221031T111539Z
LAST-MODIFIED:20241217T123050Z
UID:10007279-1835263800-1835267400@trinityboardmills.org
SUMMARY:Morning Worship
DESCRIPTION:
URL:https://trinityboardmills.org/event/morning-service/2028-02-27/
LOCATION:Church Building\, BT27 6UP\, United Kingdom
CATEGORIES:Sunday
ATTACH;FMTTYPE=image/jpeg:https://trinityboardmills.org/wp-content/uploads/2022/11/SundayEV.jpg
GEO:54.466933365694;-5.9199475846608
END:VEVENT
BEGIN:VEVENT
DTSTART;TZID=UTC:20280227T114500
DTEND;TZID=UTC:20280227T123000
DTSTAMP:20260423T095046
CREATED:20221031T111350Z
LAST-MODIFIED:20241217T123139Z
UID:10007591-1835264700-1835267400@trinityboardmills.org
SUMMARY:Sunday CE & Creche
DESCRIPTION:
URL:https://trinityboardmills.org/event/sundayce/2028-02-27/
LOCATION:Kerr Room
CATEGORIES:Children
ATTACH;FMTTYPE=image/jpeg:https://trinityboardmills.org/wp-content/uploads/2022/11/SundayCEEV.jpg
END:VEVENT
BEGIN:VEVENT
DTSTART;TZID=UTC:20280227T183000
DTEND;TZID=UTC:20280227T191500
DTSTAMP:20260423T095046
CREATED:20240903T080905Z
LAST-MODIFIED:20260405T092003Z
UID:10011086-1835289000-1835291700@trinityboardmills.org
SUMMARY:Evening Service
DESCRIPTION:
URL:https://trinityboardmills.org/event/evening-service-2/2028-02-27/
LOCATION:Church Building\, BT27 6UP\, United Kingdom
CATEGORIES:Sunday
ATTACH;FMTTYPE=image/jpeg:https://trinityboardmills.org/wp-content/uploads/2022/11/EveningServiceEV.jpg
GEO:54.466933365694;-5.9199475846608
END:VEVENT
BEGIN:VEVENT
DTSTART;TZID=UTC:20280302T103000
DTEND;TZID=UTC:20280302T113000
DTSTAMP:20260423T095046
CREATED:20230911T123435Z
LAST-MODIFIED:20260326T081458Z
UID:10013869-1835605800-1835609400@trinityboardmills.org
SUMMARY:Ladies Bible Study
DESCRIPTION:
URL:https://trinityboardmills.org/event/ladies-bible-study-2/2028-03-02/
LOCATION:Killaney Hall
CATEGORIES:Adults,Ladies
ATTACH;FMTTYPE=image/jpeg:https://trinityboardmills.org/wp-content/uploads/2022/11/LadiesBibleStudyEV.jpg
GEO:54.4662977;-5.9128505
END:VEVENT
BEGIN:VEVENT
DTSTART;TZID=UTC:20280304T183000
DTEND;TZID=UTC:20280304T200000
DTSTAMP:20260423T095046
CREATED:20250820T095239Z
LAST-MODIFIED:20260323T091415Z
UID:10017102-1835807400-1835812800@trinityboardmills.org
SUMMARY:Pulse Junior
DESCRIPTION:
URL:https://trinityboardmills.org/event/pulse-junior-2-2-2-2-2-2/2028-03-04/
LOCATION:Killaney Hall
CATEGORIES:Pulse Featured,Youth & Children
ATTACH;FMTTYPE=image/jpeg:https://trinityboardmills.org/wp-content/uploads/2022/11/Pulse-web-2.jpg
GEO:54.4662977;-5.9128505
END:VEVENT
END:VCALENDAR