BEGIN:VCALENDAR
VERSION:2.0
PRODID:-//Trinity Presbyterian - ECPv6.15.20//NONSGML v1.0//EN
CALSCALE:GREGORIAN
METHOD:PUBLISH
X-WR-CALNAME:Trinity Presbyterian
X-ORIGINAL-URL:https://trinityboardmills.org
X-WR-CALDESC:Events for Trinity Presbyterian
REFRESH-INTERVAL;VALUE=DURATION:PT1H
X-Robots-Tag:noindex
X-PUBLISHED-TTL:PT1H
BEGIN:VTIMEZONE
TZID:UTC
BEGIN:STANDARD
TZOFFSETFROM:+0000
TZOFFSETTO:+0000
TZNAME:UTC
DTSTART:20240101T000000
END:STANDARD
END:VTIMEZONE
BEGIN:VEVENT
DTSTART;TZID=UTC:20260112T100000
DTEND;TZID=UTC:20260112T111500
DTSTAMP:20260420T055655
CREATED:20260104T141313Z
LAST-MODIFIED:20260326T092521Z
UID:10014670-1768212000-1768216500@trinityboardmills.org
SUMMARY:Trinity Tots
DESCRIPTION:
URL:https://trinityboardmills.org/event/trinity-tots-2-2-2-2-2/2026-01-12/
LOCATION:Killaney Hall
CATEGORIES:Trinity Tots Featured
ATTACH;FMTTYPE=image/jpeg:https://trinityboardmills.org/wp-content/uploads/2022/11/CrecheEV.jpg
GEO:54.4662977;-5.9128505
END:VEVENT
BEGIN:VEVENT
DTSTART;TZID=UTC:20260111T183000
DTEND;TZID=UTC:20260111T191500
DTSTAMP:20260420T055655
CREATED:20240903T080905Z
LAST-MODIFIED:20260405T092003Z
UID:10010975-1768156200-1768158900@trinityboardmills.org
SUMMARY:Evening Service
DESCRIPTION:
URL:https://trinityboardmills.org/event/evening-service-2/2026-01-11/
LOCATION:Church Building\, BT27 6UP\, United Kingdom
CATEGORIES:Sunday
ATTACH;FMTTYPE=image/jpeg:https://trinityboardmills.org/wp-content/uploads/2022/11/EveningServiceEV.jpg
GEO:54.466933365694;-5.9199475846608
END:VEVENT
BEGIN:VEVENT
DTSTART;TZID=UTC:20260111T114500
DTEND;TZID=UTC:20260111T123000
DTSTAMP:20260420T055655
CREATED:20221031T111350Z
LAST-MODIFIED:20241217T123139Z
UID:10007480-1768131900-1768134600@trinityboardmills.org
SUMMARY:Sunday CE & Creche
DESCRIPTION:
URL:https://trinityboardmills.org/event/sundayce/2026-01-11/
LOCATION:Kerr Room
CATEGORIES:Children
ATTACH;FMTTYPE=image/jpeg:https://trinityboardmills.org/wp-content/uploads/2022/11/SundayCEEV.jpg
END:VEVENT
BEGIN:VEVENT
DTSTART;TZID=UTC:20260111T113000
DTEND;TZID=UTC:20260111T123000
DTSTAMP:20260420T055655
CREATED:20221031T111539Z
LAST-MODIFIED:20241217T123050Z
UID:10003063-1768131000-1768134600@trinityboardmills.org
SUMMARY:Morning Worship
DESCRIPTION:
URL:https://trinityboardmills.org/event/morning-service/2026-01-11/
LOCATION:Church Building\, BT27 6UP\, United Kingdom
CATEGORIES:Sunday
ATTACH;FMTTYPE=image/jpeg:https://trinityboardmills.org/wp-content/uploads/2022/11/SundayEV.jpg
GEO:54.466933365694;-5.9199475846608
END:VEVENT
BEGIN:VEVENT
DTSTART;TZID=UTC:20260111T100000
DTEND;TZID=UTC:20260111T110000
DTSTAMP:20260420T055656
CREATED:20250820T100226Z
LAST-MODIFIED:20250820T100246Z
UID:10017510-1768125600-1768129200@trinityboardmills.org
SUMMARY:Prayer Meeting
DESCRIPTION:Join with us as we pray with the firm expectation that God will move in and through us by His Spirit.
URL:https://trinityboardmills.org/event/prayer-meeting-3/2026-01-11/
LOCATION:Church Building\, BT27 6UP\, United Kingdom
CATEGORIES:Adults
ATTACH;FMTTYPE=image/jpeg:https://trinityboardmills.org/wp-content/uploads/2024/06/Prayer-reduced.jpg
GEO:54.466933365694;-5.9199475846608
END:VEVENT
BEGIN:VEVENT
DTSTART;TZID=UTC:20260108T193000
DTEND;TZID=UTC:20260108T210000
DTSTAMP:20260420T055656
CREATED:20260105T094841Z
LAST-MODIFIED:20260105T095116Z
UID:10016246-1767900600-1767906000@trinityboardmills.org
SUMMARY:Fellowship Groups (Thu)
DESCRIPTION:This session we will be studying Acts 13-28\, the first and third Thursday of the month at Colin and Trish Foreman’s home.
URL:https://trinityboardmills.org/event/fellowship-groups-thu-3-2-2-3-2-2/2026-01-08/
CATEGORIES:Fellowship Groups Featured
ATTACH;FMTTYPE=image/jpeg:https://trinityboardmills.org/wp-content/uploads/2022/11/FellowshipGroupsEV.jpg
END:VEVENT
BEGIN:VEVENT
DTSTART;TZID=UTC:20260108T103000
DTEND;TZID=UTC:20260108T113000
DTSTAMP:20260420T055656
CREATED:20230911T123435Z
LAST-MODIFIED:20260326T081458Z
UID:10017833-1767868200-1767871800@trinityboardmills.org
SUMMARY:Ladies Bible Study
DESCRIPTION:
URL:https://trinityboardmills.org/event/ladies-bible-study-2/2026-01-08/
LOCATION:Killaney Hall
CATEGORIES:Adults,Ladies
ATTACH;FMTTYPE=image/jpeg:https://trinityboardmills.org/wp-content/uploads/2022/11/LadiesBibleStudyEV.jpg
GEO:54.4662977;-5.9128505
END:VEVENT
BEGIN:VEVENT
DTSTART;TZID=UTC:20260107T193000
DTEND;TZID=UTC:20260107T210000
DTSTAMP:20260420T055656
CREATED:20260105T094734Z
LAST-MODIFIED:20260105T095013Z
UID:10016251-1767814200-1767819600@trinityboardmills.org
SUMMARY:Fellowship Groups (Wed)
DESCRIPTION:This session we will be studying Acts 13-28\, the first and third Wednesday of the month in Killaney Hall.
URL:https://trinityboardmills.org/event/fellowship-groups-wed-3-3-2-2/2026-01-07/
LOCATION:Killaney Hall
CATEGORIES:Fellowship Groups Featured
ATTACH;FMTTYPE=image/jpeg:https://trinityboardmills.org/wp-content/uploads/2022/11/FellowshipGroupEV.jpg
GEO:54.4662977;-5.9128505
END:VEVENT
BEGIN:VEVENT
DTSTART;TZID=UTC:20260106T193000
DTEND;TZID=UTC:20260106T213000
DTSTAMP:20260420T055656
CREATED:20250820T095711Z
LAST-MODIFIED:20260326T092906Z
UID:10017206-1767727800-1767735000@trinityboardmills.org
SUMMARY:Bowling Club
DESCRIPTION:
URL:https://trinityboardmills.org/event/mixed-bowls-3-2-2/2026-01-06/
LOCATION:McKee Hall\, BT27 6UP\, United Kingdom
CATEGORIES:Adults
ATTACH;FMTTYPE=image/jpeg:https://trinityboardmills.org/wp-content/uploads/2022/11/MixedBowlsEV.jpg
GEO:54.466933365694;-5.9199475846608
END:VEVENT
BEGIN:VEVENT
DTSTART;TZID=UTC:20260104T183000
DTEND;TZID=UTC:20260104T191500
DTSTAMP:20260420T055656
CREATED:20240903T080905Z
LAST-MODIFIED:20260405T092003Z
UID:10010974-1767551400-1767554100@trinityboardmills.org
SUMMARY:Evening Service
DESCRIPTION:
URL:https://trinityboardmills.org/event/evening-service-2/2026-01-04/
LOCATION:Church Building\, BT27 6UP\, United Kingdom
CATEGORIES:Sunday
ATTACH;FMTTYPE=image/jpeg:https://trinityboardmills.org/wp-content/uploads/2022/11/EveningServiceEV.jpg
GEO:54.466933365694;-5.9199475846608
END:VEVENT
BEGIN:VEVENT
DTSTART;TZID=UTC:20260104T114500
DTEND;TZID=UTC:20260104T123000
DTSTAMP:20260420T055656
CREATED:20221031T111350Z
LAST-MODIFIED:20241217T123139Z
UID:10007479-1767527100-1767529800@trinityboardmills.org
SUMMARY:Sunday CE & Creche
DESCRIPTION:
URL:https://trinityboardmills.org/event/sundayce/2026-01-04/
LOCATION:Kerr Room
CATEGORIES:Children
ATTACH;FMTTYPE=image/jpeg:https://trinityboardmills.org/wp-content/uploads/2022/11/SundayCEEV.jpg
END:VEVENT
BEGIN:VEVENT
DTSTART;TZID=UTC:20260104T113000
DTEND;TZID=UTC:20260104T123000
DTSTAMP:20260420T055656
CREATED:20221031T111539Z
LAST-MODIFIED:20241217T123050Z
UID:10003062-1767526200-1767529800@trinityboardmills.org
SUMMARY:Morning Worship
DESCRIPTION:
URL:https://trinityboardmills.org/event/morning-service/2026-01-04/
LOCATION:Church Building\, BT27 6UP\, United Kingdom
CATEGORIES:Sunday
ATTACH;FMTTYPE=image/jpeg:https://trinityboardmills.org/wp-content/uploads/2022/11/SundayEV.jpg
GEO:54.466933365694;-5.9199475846608
END:VEVENT
BEGIN:VEVENT
DTSTART;TZID=UTC:20260103T183000
DTEND;TZID=UTC:20260103T200000
DTSTAMP:20260420T055656
CREATED:20250820T095239Z
LAST-MODIFIED:20260323T091415Z
UID:10017076-1767465000-1767470400@trinityboardmills.org
SUMMARY:Pulse Junior
DESCRIPTION:
URL:https://trinityboardmills.org/event/pulse-junior-2-2-2-2-2-2/2026-01-03/
LOCATION:Killaney Hall
CATEGORIES:Pulse Featured,Youth & Children
ATTACH;FMTTYPE=image/jpeg:https://trinityboardmills.org/wp-content/uploads/2022/11/Pulse-web-2.jpg
GEO:54.4662977;-5.9128505
END:VEVENT
BEGIN:VEVENT
DTSTART;TZID=UTC:20251229T180000
DTEND;TZID=UTC:20251229T210000
DTSTAMP:20260420T055656
CREATED:20250203T113039Z
LAST-MODIFIED:20260105T140456Z
UID:10017730-1767031200-1767042000@trinityboardmills.org
SUMMARY:No BB or GB
DESCRIPTION:
URL:https://trinityboardmills.org/event/no-bb-gb-2/2025-12-29/
LOCATION:Killaney Hall
CATEGORIES:BB Featured,GB Featured,Youth & Children
ATTACH;FMTTYPE=image/png:https://trinityboardmills.org/wp-content/uploads/2022/10/boxAsset-3.png
GEO:54.4662977;-5.9128505
END:VEVENT
BEGIN:VEVENT
DTSTART;TZID=UTC:20251229T100000
DTEND;TZID=UTC:20251229T111500
DTSTAMP:20260420T055656
CREATED:20250203T105913Z
LAST-MODIFIED:20260104T141230Z
UID:10017648-1767002400-1767006900@trinityboardmills.org
SUMMARY:No Trinity Tots
DESCRIPTION:
URL:https://trinityboardmills.org/event/no-trinity-tots-2/2025-12-29/
LOCATION:Killaney Hall
CATEGORIES:Trinity Tots Featured
ATTACH;FMTTYPE=image/jpeg:https://trinityboardmills.org/wp-content/uploads/2022/11/CrecheEV.jpg
GEO:54.4662977;-5.9128505
END:VEVENT
BEGIN:VEVENT
DTSTART;TZID=UTC:20251228T183000
DTEND;TZID=UTC:20251228T191500
DTSTAMP:20260420T055656
CREATED:20240903T080905Z
LAST-MODIFIED:20260405T092003Z
UID:10010973-1766946600-1766949300@trinityboardmills.org
SUMMARY:Evening Service
DESCRIPTION:
URL:https://trinityboardmills.org/event/evening-service-2/2025-12-28/
LOCATION:Church Building\, BT27 6UP\, United Kingdom
CATEGORIES:Sunday
ATTACH;FMTTYPE=image/jpeg:https://trinityboardmills.org/wp-content/uploads/2022/11/EveningServiceEV.jpg
GEO:54.466933365694;-5.9199475846608
END:VEVENT
BEGIN:VEVENT
DTSTART;TZID=UTC:20251228T114500
DTEND;TZID=UTC:20251228T123000
DTSTAMP:20260420T055656
CREATED:20221031T111350Z
LAST-MODIFIED:20241217T123139Z
UID:10007478-1766922300-1766925000@trinityboardmills.org
SUMMARY:Sunday CE & Creche
DESCRIPTION:
URL:https://trinityboardmills.org/event/sundayce/2025-12-28/
LOCATION:Kerr Room
CATEGORIES:Children
ATTACH;FMTTYPE=image/jpeg:https://trinityboardmills.org/wp-content/uploads/2022/11/SundayCEEV.jpg
END:VEVENT
BEGIN:VEVENT
DTSTART;TZID=UTC:20251228T113000
DTEND;TZID=UTC:20251228T123000
DTSTAMP:20260420T055656
CREATED:20221031T111539Z
LAST-MODIFIED:20241217T123050Z
UID:10003061-1766921400-1766925000@trinityboardmills.org
SUMMARY:Morning Worship
DESCRIPTION:
URL:https://trinityboardmills.org/event/morning-service/2025-12-28/
LOCATION:Church Building\, BT27 6UP\, United Kingdom
CATEGORIES:Sunday
ATTACH;FMTTYPE=image/jpeg:https://trinityboardmills.org/wp-content/uploads/2022/11/SundayEV.jpg
GEO:54.466933365694;-5.9199475846608
END:VEVENT
BEGIN:VEVENT
DTSTART;TZID=UTC:20251225T103000
DTEND;TZID=UTC:20251225T113000
DTSTAMP:20260420T055656
CREATED:20230911T123435Z
LAST-MODIFIED:20260326T081458Z
UID:10017906-1766658600-1766662200@trinityboardmills.org
SUMMARY:Ladies Bible Study
DESCRIPTION:
URL:https://trinityboardmills.org/event/ladies-bible-study-2/2025-12-25/
LOCATION:Killaney Hall
CATEGORIES:Adults,Ladies
ATTACH;FMTTYPE=image/jpeg:https://trinityboardmills.org/wp-content/uploads/2022/11/LadiesBibleStudyEV.jpg
GEO:54.4662977;-5.9128505
END:VEVENT
BEGIN:VEVENT
DTSTART;TZID=UTC:20251222T180000
DTEND;TZID=UTC:20251222T210000
DTSTAMP:20260420T055656
CREATED:20250203T113039Z
LAST-MODIFIED:20260105T140456Z
UID:10017729-1766426400-1766437200@trinityboardmills.org
SUMMARY:No BB or GB
DESCRIPTION:
URL:https://trinityboardmills.org/event/no-bb-gb-2/2025-12-22/2/
LOCATION:Killaney Hall
CATEGORIES:BB Featured,GB Featured,Youth & Children
ATTACH;FMTTYPE=image/png:https://trinityboardmills.org/wp-content/uploads/2022/10/boxAsset-3.png
GEO:54.4662977;-5.9128505
END:VEVENT
BEGIN:VEVENT
DTSTART;TZID=UTC:20251222T100000
DTEND;TZID=UTC:20251222T111500
DTSTAMP:20260420T055656
CREATED:20250203T105913Z
LAST-MODIFIED:20260104T141230Z
UID:10017647-1766397600-1766402100@trinityboardmills.org
SUMMARY:No Trinity Tots
DESCRIPTION:
URL:https://trinityboardmills.org/event/no-trinity-tots-2/2025-12-22/
LOCATION:Killaney Hall
CATEGORIES:Trinity Tots Featured
ATTACH;FMTTYPE=image/jpeg:https://trinityboardmills.org/wp-content/uploads/2022/11/CrecheEV.jpg
GEO:54.4662977;-5.9128505
END:VEVENT
BEGIN:VEVENT
DTSTART;TZID=UTC:20251222T080000
DTEND;TZID=UTC:20251222T170000
DTSTAMP:20260420T055656
CREATED:20250203T113039Z
LAST-MODIFIED:20260105T140456Z
UID:10017846-1766390400-1766422800@trinityboardmills.org
SUMMARY:No BB or GB
DESCRIPTION:
URL:https://trinityboardmills.org/event/no-bb-gb-2/2025-12-22/1/
LOCATION:Killaney Hall
CATEGORIES:BB Featured,GB Featured,Youth & Children
ATTACH;FMTTYPE=image/png:https://trinityboardmills.org/wp-content/uploads/2022/10/boxAsset-3.png
GEO:54.4662977;-5.9128505
END:VEVENT
BEGIN:VEVENT
DTSTART;TZID=UTC:20251221T183000
DTEND;TZID=UTC:20251221T191500
DTSTAMP:20260420T055656
CREATED:20240903T080905Z
LAST-MODIFIED:20260405T092003Z
UID:10010972-1766341800-1766344500@trinityboardmills.org
SUMMARY:Evening Service
DESCRIPTION:
URL:https://trinityboardmills.org/event/evening-service-2/2025-12-21/
LOCATION:Church Building\, BT27 6UP\, United Kingdom
CATEGORIES:Sunday
ATTACH;FMTTYPE=image/jpeg:https://trinityboardmills.org/wp-content/uploads/2022/11/EveningServiceEV.jpg
GEO:54.466933365694;-5.9199475846608
END:VEVENT
BEGIN:VEVENT
DTSTART;TZID=UTC:20251221T170000
DTEND;TZID=UTC:20251221T183000
DTSTAMP:20260420T055656
CREATED:20231211T115222Z
LAST-MODIFIED:20251208T105557Z
UID:10009790-1766336400-1766341800@trinityboardmills.org
SUMMARY:Community Carol Service
DESCRIPTION:Join  with us for our Community Carol Service at Trinity followed by some food and refreshments in the McKee Hall \nFollowing the refreshments is an invitation for everyone to join the YF as they go carol singing in the community.
URL:https://trinityboardmills.org/event/community-carol-service/
LOCATION:Church Building\, BT27 6UP\, United Kingdom
CATEGORIES:Featured
ATTACH;FMTTYPE=image/jpeg:https://trinityboardmills.org/wp-content/uploads/2022/12/BBN-08.jpg
GEO:54.466933365694;-5.9199475846608
END:VEVENT
BEGIN:VEVENT
DTSTART;TZID=UTC:20251221T114500
DTEND;TZID=UTC:20251221T123000
DTSTAMP:20260420T055656
CREATED:20221031T111350Z
LAST-MODIFIED:20241217T123139Z
UID:10007477-1766317500-1766320200@trinityboardmills.org
SUMMARY:Sunday CE & Creche
DESCRIPTION:
URL:https://trinityboardmills.org/event/sundayce/2025-12-21/
LOCATION:Kerr Room
CATEGORIES:Children
ATTACH;FMTTYPE=image/jpeg:https://trinityboardmills.org/wp-content/uploads/2022/11/SundayCEEV.jpg
END:VEVENT
BEGIN:VEVENT
DTSTART;TZID=UTC:20251221T113000
DTEND;TZID=UTC:20251221T123000
DTSTAMP:20260420T055656
CREATED:20221209T114131Z
LAST-MODIFIED:20251208T105150Z
UID:10006219-1766316600-1766320200@trinityboardmills.org
SUMMARY:Christmas Family Service
DESCRIPTION:Join us at Trinity for our Christmas Family Service led by Roy Mackay
URL:https://trinityboardmills.org/event/christmas-family-service/
LOCATION:Church Building\, BT27 6UP\, United Kingdom
CATEGORIES:Featured,Sunday
ATTACH;FMTTYPE=image/jpeg:https://trinityboardmills.org/wp-content/uploads/2022/12/BBN-43.jpg
GEO:54.466933365694;-5.9199475846608
END:VEVENT
BEGIN:VEVENT
DTSTART;TZID=UTC:20251221T113000
DTEND;TZID=UTC:20251221T123000
DTSTAMP:20260420T055656
CREATED:20221031T111539Z
LAST-MODIFIED:20241217T123050Z
UID:10003060-1766316600-1766320200@trinityboardmills.org
SUMMARY:Morning Worship
DESCRIPTION:
URL:https://trinityboardmills.org/event/morning-service/2025-12-21/
LOCATION:Church Building\, BT27 6UP\, United Kingdom
CATEGORIES:Sunday
ATTACH;FMTTYPE=image/jpeg:https://trinityboardmills.org/wp-content/uploads/2022/11/SundayEV.jpg
GEO:54.466933365694;-5.9199475846608
END:VEVENT
BEGIN:VEVENT
DTSTART;TZID=UTC:20251220T190000
DTEND;TZID=UTC:20251220T210000
DTSTAMP:20260420T055656
CREATED:20250820T095502Z
LAST-MODIFIED:20260414T120959Z
UID:10017134-1766257200-1766264400@trinityboardmills.org
SUMMARY:Pulse Senior
DESCRIPTION:
URL:https://trinityboardmills.org/event/pulse-senior-2-2-2/2025-12-20/
LOCATION:Killaney Hall
CATEGORIES:Pulse Featured,Youth & Children
ATTACH;FMTTYPE=image/jpeg:https://trinityboardmills.org/wp-content/uploads/2023/03/Pulse-web.jpg
GEO:54.4662977;-5.9128505
END:VEVENT
BEGIN:VEVENT
DTSTART;TZID=UTC:20251215T191500
DTEND;TZID=UTC:20251215T210000
DTSTAMP:20260420T055656
CREATED:20250820T083950Z
LAST-MODIFIED:20260316T184255Z
UID:10015683-1765826100-1765832400@trinityboardmills.org
SUMMARY:BB Company Section
DESCRIPTION:
URL:https://trinityboardmills.org/event/bb-company-section-2-2-2/2025-12-15/
LOCATION:Killaney Hall
CATEGORIES:BB Featured,Youth & Children
ATTACH;FMTTYPE=image/jpeg:https://trinityboardmills.org/wp-content/uploads/2022/10/BBCompanyEV.jpg
GEO:54.4662977;-5.9128505
END:VEVENT
BEGIN:VEVENT
DTSTART;TZID=UTC:20251215T191500
DTEND;TZID=UTC:20251215T204500
DTSTAMP:20260420T055656
CREATED:20250820T092749Z
LAST-MODIFIED:20260316T184050Z
UID:10016787-1765826100-1765831500@trinityboardmills.org
SUMMARY:GB Company Section
DESCRIPTION:
URL:https://trinityboardmills.org/event/gb-company-section-2-2-2/2025-12-15/
LOCATION:McKee Hall\, BT27 6UP\, United Kingdom
CATEGORIES:GB Featured,Youth & Children
ATTACH;FMTTYPE=image/jpeg:https://trinityboardmills.org/wp-content/uploads/2022/11/GBCompEV.jpg
GEO:54.466933365694;-5.9199475846608
END:VEVENT
END:VCALENDAR