BEGIN:VCALENDAR
VERSION:2.0
PRODID:-//Trinity Presbyterian - ECPv6.15.20//NONSGML v1.0//EN
CALSCALE:GREGORIAN
METHOD:PUBLISH
X-WR-CALNAME:Trinity Presbyterian
X-ORIGINAL-URL:https://trinityboardmills.org
X-WR-CALDESC:Events for Trinity Presbyterian
REFRESH-INTERVAL;VALUE=DURATION:PT1H
X-Robots-Tag:noindex
X-PUBLISHED-TTL:PT1H
BEGIN:VTIMEZONE
TZID:UTC
BEGIN:STANDARD
TZOFFSETFROM:+0000
TZOFFSETTO:+0000
TZNAME:UTC
DTSTART:20260101T000000
END:STANDARD
END:VTIMEZONE
BEGIN:VEVENT
DTSTART;TZID=UTC:20270117T183000
DTEND;TZID=UTC:20270117T191500
DTSTAMP:20260420T193814
CREATED:20240903T080905Z
LAST-MODIFIED:20260405T092003Z
UID:10011028-1800210600-1800213300@trinityboardmills.org
SUMMARY:Evening Service
DESCRIPTION:
URL:https://trinityboardmills.org/event/evening-service-2/2027-01-17/
LOCATION:Church Building\, BT27 6UP\, United Kingdom
CATEGORIES:Sunday
ATTACH;FMTTYPE=image/jpeg:https://trinityboardmills.org/wp-content/uploads/2022/11/EveningServiceEV.jpg
GEO:54.466933365694;-5.9199475846608
END:VEVENT
BEGIN:VEVENT
DTSTART;TZID=UTC:20270121T103000
DTEND;TZID=UTC:20270121T113000
DTSTAMP:20260420T193814
CREATED:20230911T123435Z
LAST-MODIFIED:20260326T081458Z
UID:10013811-1800527400-1800531000@trinityboardmills.org
SUMMARY:Ladies Bible Study
DESCRIPTION:
URL:https://trinityboardmills.org/event/ladies-bible-study-2/2027-01-21/
LOCATION:Killaney Hall
CATEGORIES:Adults,Ladies
ATTACH;FMTTYPE=image/jpeg:https://trinityboardmills.org/wp-content/uploads/2022/11/LadiesBibleStudyEV.jpg
GEO:54.4662977;-5.9128505
END:VEVENT
BEGIN:VEVENT
DTSTART;TZID=UTC:20270124T113000
DTEND;TZID=UTC:20270124T123000
DTSTAMP:20260420T193814
CREATED:20221031T111539Z
LAST-MODIFIED:20241217T123050Z
UID:10003117-1800790200-1800793800@trinityboardmills.org
SUMMARY:Morning Worship
DESCRIPTION:
URL:https://trinityboardmills.org/event/morning-service/2027-01-24/
LOCATION:Church Building\, BT27 6UP\, United Kingdom
CATEGORIES:Sunday
ATTACH;FMTTYPE=image/jpeg:https://trinityboardmills.org/wp-content/uploads/2022/11/SundayEV.jpg
GEO:54.466933365694;-5.9199475846608
END:VEVENT
BEGIN:VEVENT
DTSTART;TZID=UTC:20270124T114500
DTEND;TZID=UTC:20270124T123000
DTSTAMP:20260420T193815
CREATED:20221031T111350Z
LAST-MODIFIED:20241217T123139Z
UID:10007534-1800791100-1800793800@trinityboardmills.org
SUMMARY:Sunday CE & Creche
DESCRIPTION:
URL:https://trinityboardmills.org/event/sundayce/2027-01-24/
LOCATION:Kerr Room
CATEGORIES:Children
ATTACH;FMTTYPE=image/jpeg:https://trinityboardmills.org/wp-content/uploads/2022/11/SundayCEEV.jpg
END:VEVENT
BEGIN:VEVENT
DTSTART;TZID=UTC:20270124T183000
DTEND;TZID=UTC:20270124T191500
DTSTAMP:20260420T193815
CREATED:20240903T080905Z
LAST-MODIFIED:20260405T092003Z
UID:10011029-1800815400-1800818100@trinityboardmills.org
SUMMARY:Evening Service
DESCRIPTION:
URL:https://trinityboardmills.org/event/evening-service-2/2027-01-24/
LOCATION:Church Building\, BT27 6UP\, United Kingdom
CATEGORIES:Sunday
ATTACH;FMTTYPE=image/jpeg:https://trinityboardmills.org/wp-content/uploads/2022/11/EveningServiceEV.jpg
GEO:54.466933365694;-5.9199475846608
END:VEVENT
BEGIN:VEVENT
DTSTART;TZID=UTC:20270127T193000
DTEND;TZID=UTC:20270127T203000
DTSTAMP:20260420T193815
CREATED:20250407T073313Z
LAST-MODIFIED:20251201T181414Z
UID:10017464-1801078200-1801081800@trinityboardmills.org
SUMMARY:Prayer Meeting
DESCRIPTION:Join with us as we pray with the firm expectation that God will move in and through us by His Spirit.
URL:https://trinityboardmills.org/event/prayer-meeting-2/2027-01-27/
LOCATION:Church Building\, BT27 6UP\, United Kingdom
CATEGORIES:Adults
ATTACH;FMTTYPE=image/jpeg:https://trinityboardmills.org/wp-content/uploads/2024/06/Prayer-reduced.jpg
GEO:54.466933365694;-5.9199475846608
END:VEVENT
BEGIN:VEVENT
DTSTART;TZID=UTC:20270128T103000
DTEND;TZID=UTC:20270128T113000
DTSTAMP:20260420T193815
CREATED:20230911T123435Z
LAST-MODIFIED:20260326T081458Z
UID:10013812-1801132200-1801135800@trinityboardmills.org
SUMMARY:Ladies Bible Study
DESCRIPTION:
URL:https://trinityboardmills.org/event/ladies-bible-study-2/2027-01-28/
LOCATION:Killaney Hall
CATEGORIES:Adults,Ladies
ATTACH;FMTTYPE=image/jpeg:https://trinityboardmills.org/wp-content/uploads/2022/11/LadiesBibleStudyEV.jpg
GEO:54.4662977;-5.9128505
END:VEVENT
BEGIN:VEVENT
DTSTART;TZID=UTC:20270131T113000
DTEND;TZID=UTC:20270131T123000
DTSTAMP:20260420T193815
CREATED:20221031T111539Z
LAST-MODIFIED:20241217T123050Z
UID:10003118-1801395000-1801398600@trinityboardmills.org
SUMMARY:Morning Worship
DESCRIPTION:
URL:https://trinityboardmills.org/event/morning-service/2027-01-31/
LOCATION:Church Building\, BT27 6UP\, United Kingdom
CATEGORIES:Sunday
ATTACH;FMTTYPE=image/jpeg:https://trinityboardmills.org/wp-content/uploads/2022/11/SundayEV.jpg
GEO:54.466933365694;-5.9199475846608
END:VEVENT
BEGIN:VEVENT
DTSTART;TZID=UTC:20270131T114500
DTEND;TZID=UTC:20270131T123000
DTSTAMP:20260420T193815
CREATED:20221031T111350Z
LAST-MODIFIED:20241217T123139Z
UID:10007535-1801395900-1801398600@trinityboardmills.org
SUMMARY:Sunday CE & Creche
DESCRIPTION:
URL:https://trinityboardmills.org/event/sundayce/2027-01-31/
LOCATION:Kerr Room
CATEGORIES:Children
ATTACH;FMTTYPE=image/jpeg:https://trinityboardmills.org/wp-content/uploads/2022/11/SundayCEEV.jpg
END:VEVENT
BEGIN:VEVENT
DTSTART;TZID=UTC:20270131T183000
DTEND;TZID=UTC:20270131T191500
DTSTAMP:20260420T193815
CREATED:20240903T080905Z
LAST-MODIFIED:20260405T092003Z
UID:10011030-1801420200-1801422900@trinityboardmills.org
SUMMARY:Evening Service
DESCRIPTION:
URL:https://trinityboardmills.org/event/evening-service-2/2027-01-31/
LOCATION:Church Building\, BT27 6UP\, United Kingdom
CATEGORIES:Sunday
ATTACH;FMTTYPE=image/jpeg:https://trinityboardmills.org/wp-content/uploads/2022/11/EveningServiceEV.jpg
GEO:54.466933365694;-5.9199475846608
END:VEVENT
BEGIN:VEVENT
DTSTART;TZID=UTC:20270204T103000
DTEND;TZID=UTC:20270204T113000
DTSTAMP:20260420T193815
CREATED:20230911T123435Z
LAST-MODIFIED:20260326T081458Z
UID:10013813-1801737000-1801740600@trinityboardmills.org
SUMMARY:Ladies Bible Study
DESCRIPTION:
URL:https://trinityboardmills.org/event/ladies-bible-study-2/2027-02-04/
LOCATION:Killaney Hall
CATEGORIES:Adults,Ladies
ATTACH;FMTTYPE=image/jpeg:https://trinityboardmills.org/wp-content/uploads/2022/11/LadiesBibleStudyEV.jpg
GEO:54.4662977;-5.9128505
END:VEVENT
BEGIN:VEVENT
DTSTART;TZID=UTC:20270206T183000
DTEND;TZID=UTC:20270206T200000
DTSTAMP:20260420T193815
CREATED:20250820T095239Z
LAST-MODIFIED:20260323T091415Z
UID:10017089-1801938600-1801944000@trinityboardmills.org
SUMMARY:Pulse Junior
DESCRIPTION:
URL:https://trinityboardmills.org/event/pulse-junior-2-2-2-2-2-2/2027-02-06/
LOCATION:Killaney Hall
CATEGORIES:Pulse Featured,Youth & Children
ATTACH;FMTTYPE=image/jpeg:https://trinityboardmills.org/wp-content/uploads/2022/11/Pulse-web-2.jpg
GEO:54.4662977;-5.9128505
END:VEVENT
BEGIN:VEVENT
DTSTART;TZID=UTC:20270207T113000
DTEND;TZID=UTC:20270207T123000
DTSTAMP:20260420T193815
CREATED:20221031T111539Z
LAST-MODIFIED:20241217T123050Z
UID:10003119-1801999800-1802003400@trinityboardmills.org
SUMMARY:Morning Worship
DESCRIPTION:
URL:https://trinityboardmills.org/event/morning-service/2027-02-07/
LOCATION:Church Building\, BT27 6UP\, United Kingdom
CATEGORIES:Sunday
ATTACH;FMTTYPE=image/jpeg:https://trinityboardmills.org/wp-content/uploads/2022/11/SundayEV.jpg
GEO:54.466933365694;-5.9199475846608
END:VEVENT
BEGIN:VEVENT
DTSTART;TZID=UTC:20270207T114500
DTEND;TZID=UTC:20270207T123000
DTSTAMP:20260420T193815
CREATED:20221031T111350Z
LAST-MODIFIED:20241217T123139Z
UID:10007536-1802000700-1802003400@trinityboardmills.org
SUMMARY:Sunday CE & Creche
DESCRIPTION:
URL:https://trinityboardmills.org/event/sundayce/2027-02-07/
LOCATION:Kerr Room
CATEGORIES:Children
ATTACH;FMTTYPE=image/jpeg:https://trinityboardmills.org/wp-content/uploads/2022/11/SundayCEEV.jpg
END:VEVENT
BEGIN:VEVENT
DTSTART;TZID=UTC:20270207T183000
DTEND;TZID=UTC:20270207T191500
DTSTAMP:20260420T193815
CREATED:20240903T080905Z
LAST-MODIFIED:20260405T092003Z
UID:10011031-1802025000-1802027700@trinityboardmills.org
SUMMARY:Evening Service
DESCRIPTION:
URL:https://trinityboardmills.org/event/evening-service-2/2027-02-07/
LOCATION:Church Building\, BT27 6UP\, United Kingdom
CATEGORIES:Sunday
ATTACH;FMTTYPE=image/jpeg:https://trinityboardmills.org/wp-content/uploads/2022/11/EveningServiceEV.jpg
GEO:54.466933365694;-5.9199475846608
END:VEVENT
BEGIN:VEVENT
DTSTART;TZID=UTC:20270211T103000
DTEND;TZID=UTC:20270211T113000
DTSTAMP:20260420T193815
CREATED:20230911T123435Z
LAST-MODIFIED:20260326T081458Z
UID:10013814-1802341800-1802345400@trinityboardmills.org
SUMMARY:Ladies Bible Study
DESCRIPTION:
URL:https://trinityboardmills.org/event/ladies-bible-study-2/2027-02-11/
LOCATION:Killaney Hall
CATEGORIES:Adults,Ladies
ATTACH;FMTTYPE=image/jpeg:https://trinityboardmills.org/wp-content/uploads/2022/11/LadiesBibleStudyEV.jpg
GEO:54.4662977;-5.9128505
END:VEVENT
BEGIN:VEVENT
DTSTART;TZID=UTC:20270211T193000
DTEND;TZID=UTC:20270211T213000
DTSTAMP:20260420T193815
CREATED:20260104T151947Z
LAST-MODIFIED:20260408T132848Z
UID:10017586-1802374200-1802381400@trinityboardmills.org
SUMMARY:Trinity Women
DESCRIPTION:Trinity Women meet on the second Thursday of the month. All ladies very welcome. \nContact a member of PW committee or email office@trinityboardmills.org for more details.
URL:https://trinityboardmills.org/event/trinity-women-2/2027-02-11/
LOCATION:McKee Hall\, BT27 6UP\, United Kingdom
CATEGORIES:Ladies
ATTACH;FMTTYPE=image/png:https://trinityboardmills.org/wp-content/uploads/2022/11/PW-Logo.png
GEO:54.466933365694;-5.9199475846608
END:VEVENT
BEGIN:VEVENT
DTSTART;TZID=UTC:20270214T100000
DTEND;TZID=UTC:20270214T110000
DTSTAMP:20260420T193815
CREATED:20250820T100226Z
LAST-MODIFIED:20250820T100246Z
UID:10017523-1802599200-1802602800@trinityboardmills.org
SUMMARY:Prayer Meeting
DESCRIPTION:Join with us as we pray with the firm expectation that God will move in and through us by His Spirit.
URL:https://trinityboardmills.org/event/prayer-meeting-3/2027-02-14/
LOCATION:Church Building\, BT27 6UP\, United Kingdom
CATEGORIES:Adults
ATTACH;FMTTYPE=image/jpeg:https://trinityboardmills.org/wp-content/uploads/2024/06/Prayer-reduced.jpg
GEO:54.466933365694;-5.9199475846608
END:VEVENT
BEGIN:VEVENT
DTSTART;TZID=UTC:20270214T113000
DTEND;TZID=UTC:20270214T123000
DTSTAMP:20260420T193815
CREATED:20221031T111539Z
LAST-MODIFIED:20241217T123050Z
UID:10003120-1802604600-1802608200@trinityboardmills.org
SUMMARY:Morning Worship
DESCRIPTION:
URL:https://trinityboardmills.org/event/morning-service/2027-02-14/
LOCATION:Church Building\, BT27 6UP\, United Kingdom
CATEGORIES:Sunday
ATTACH;FMTTYPE=image/jpeg:https://trinityboardmills.org/wp-content/uploads/2022/11/SundayEV.jpg
GEO:54.466933365694;-5.9199475846608
END:VEVENT
BEGIN:VEVENT
DTSTART;TZID=UTC:20270214T114500
DTEND;TZID=UTC:20270214T123000
DTSTAMP:20260420T193815
CREATED:20221031T111350Z
LAST-MODIFIED:20241217T123139Z
UID:10007537-1802605500-1802608200@trinityboardmills.org
SUMMARY:Sunday CE & Creche
DESCRIPTION:
URL:https://trinityboardmills.org/event/sundayce/2027-02-14/
LOCATION:Kerr Room
CATEGORIES:Children
ATTACH;FMTTYPE=image/jpeg:https://trinityboardmills.org/wp-content/uploads/2022/11/SundayCEEV.jpg
END:VEVENT
BEGIN:VEVENT
DTSTART;TZID=UTC:20270214T183000
DTEND;TZID=UTC:20270214T191500
DTSTAMP:20260420T193815
CREATED:20240903T080905Z
LAST-MODIFIED:20260405T092003Z
UID:10011032-1802629800-1802632500@trinityboardmills.org
SUMMARY:Evening Service
DESCRIPTION:
URL:https://trinityboardmills.org/event/evening-service-2/2027-02-14/
LOCATION:Church Building\, BT27 6UP\, United Kingdom
CATEGORIES:Sunday
ATTACH;FMTTYPE=image/jpeg:https://trinityboardmills.org/wp-content/uploads/2022/11/EveningServiceEV.jpg
GEO:54.466933365694;-5.9199475846608
END:VEVENT
BEGIN:VEVENT
DTSTART;TZID=UTC:20270218T103000
DTEND;TZID=UTC:20270218T113000
DTSTAMP:20260420T193815
CREATED:20230911T123435Z
LAST-MODIFIED:20260326T081458Z
UID:10013815-1802946600-1802950200@trinityboardmills.org
SUMMARY:Ladies Bible Study
DESCRIPTION:
URL:https://trinityboardmills.org/event/ladies-bible-study-2/2027-02-18/
LOCATION:Killaney Hall
CATEGORIES:Adults,Ladies
ATTACH;FMTTYPE=image/jpeg:https://trinityboardmills.org/wp-content/uploads/2022/11/LadiesBibleStudyEV.jpg
GEO:54.4662977;-5.9128505
END:VEVENT
BEGIN:VEVENT
DTSTART;TZID=UTC:20270220T190000
DTEND;TZID=UTC:20270220T210000
DTSTAMP:20260420T193815
CREATED:20250820T095502Z
LAST-MODIFIED:20260414T120959Z
UID:10017148-1803150000-1803157200@trinityboardmills.org
SUMMARY:Pulse Senior
DESCRIPTION:
URL:https://trinityboardmills.org/event/pulse-senior-2-2-2/2027-02-20/
LOCATION:Killaney Hall
CATEGORIES:Pulse Featured,Youth & Children
ATTACH;FMTTYPE=image/jpeg:https://trinityboardmills.org/wp-content/uploads/2023/03/Pulse-web.jpg
GEO:54.4662977;-5.9128505
END:VEVENT
BEGIN:VEVENT
DTSTART;TZID=UTC:20270221T113000
DTEND;TZID=UTC:20270221T123000
DTSTAMP:20260420T193815
CREATED:20221031T111539Z
LAST-MODIFIED:20241217T123050Z
UID:10003121-1803209400-1803213000@trinityboardmills.org
SUMMARY:Morning Worship
DESCRIPTION:
URL:https://trinityboardmills.org/event/morning-service/2027-02-21/
LOCATION:Church Building\, BT27 6UP\, United Kingdom
CATEGORIES:Sunday
ATTACH;FMTTYPE=image/jpeg:https://trinityboardmills.org/wp-content/uploads/2022/11/SundayEV.jpg
GEO:54.466933365694;-5.9199475846608
END:VEVENT
BEGIN:VEVENT
DTSTART;TZID=UTC:20270221T114500
DTEND;TZID=UTC:20270221T123000
DTSTAMP:20260420T193815
CREATED:20221031T111350Z
LAST-MODIFIED:20241217T123139Z
UID:10007538-1803210300-1803213000@trinityboardmills.org
SUMMARY:Sunday CE & Creche
DESCRIPTION:
URL:https://trinityboardmills.org/event/sundayce/2027-02-21/
LOCATION:Kerr Room
CATEGORIES:Children
ATTACH;FMTTYPE=image/jpeg:https://trinityboardmills.org/wp-content/uploads/2022/11/SundayCEEV.jpg
END:VEVENT
BEGIN:VEVENT
DTSTART;TZID=UTC:20270221T183000
DTEND;TZID=UTC:20270221T191500
DTSTAMP:20260420T193815
CREATED:20240903T080905Z
LAST-MODIFIED:20260405T092003Z
UID:10011033-1803234600-1803237300@trinityboardmills.org
SUMMARY:Evening Service
DESCRIPTION:
URL:https://trinityboardmills.org/event/evening-service-2/2027-02-21/
LOCATION:Church Building\, BT27 6UP\, United Kingdom
CATEGORIES:Sunday
ATTACH;FMTTYPE=image/jpeg:https://trinityboardmills.org/wp-content/uploads/2022/11/EveningServiceEV.jpg
GEO:54.466933365694;-5.9199475846608
END:VEVENT
BEGIN:VEVENT
DTSTART;TZID=UTC:20270224T193000
DTEND;TZID=UTC:20270224T203000
DTSTAMP:20260420T193815
CREATED:20250407T073313Z
LAST-MODIFIED:20251201T181414Z
UID:10017465-1803497400-1803501000@trinityboardmills.org
SUMMARY:Prayer Meeting
DESCRIPTION:Join with us as we pray with the firm expectation that God will move in and through us by His Spirit.
URL:https://trinityboardmills.org/event/prayer-meeting-2/2027-02-24/
LOCATION:Church Building\, BT27 6UP\, United Kingdom
CATEGORIES:Adults
ATTACH;FMTTYPE=image/jpeg:https://trinityboardmills.org/wp-content/uploads/2024/06/Prayer-reduced.jpg
GEO:54.466933365694;-5.9199475846608
END:VEVENT
BEGIN:VEVENT
DTSTART;TZID=UTC:20270225T103000
DTEND;TZID=UTC:20270225T113000
DTSTAMP:20260420T193815
CREATED:20230911T123435Z
LAST-MODIFIED:20260326T081458Z
UID:10013816-1803551400-1803555000@trinityboardmills.org
SUMMARY:Ladies Bible Study
DESCRIPTION:
URL:https://trinityboardmills.org/event/ladies-bible-study-2/2027-02-25/
LOCATION:Killaney Hall
CATEGORIES:Adults,Ladies
ATTACH;FMTTYPE=image/jpeg:https://trinityboardmills.org/wp-content/uploads/2022/11/LadiesBibleStudyEV.jpg
GEO:54.4662977;-5.9128505
END:VEVENT
BEGIN:VEVENT
DTSTART;TZID=UTC:20270228T113000
DTEND;TZID=UTC:20270228T123000
DTSTAMP:20260420T193815
CREATED:20221031T111539Z
LAST-MODIFIED:20241217T123050Z
UID:10003122-1803814200-1803817800@trinityboardmills.org
SUMMARY:Morning Worship
DESCRIPTION:
URL:https://trinityboardmills.org/event/morning-service/2027-02-28/
LOCATION:Church Building\, BT27 6UP\, United Kingdom
CATEGORIES:Sunday
ATTACH;FMTTYPE=image/jpeg:https://trinityboardmills.org/wp-content/uploads/2022/11/SundayEV.jpg
GEO:54.466933365694;-5.9199475846608
END:VEVENT
BEGIN:VEVENT
DTSTART;TZID=UTC:20270228T114500
DTEND;TZID=UTC:20270228T123000
DTSTAMP:20260420T193815
CREATED:20221031T111350Z
LAST-MODIFIED:20241217T123139Z
UID:10007539-1803815100-1803817800@trinityboardmills.org
SUMMARY:Sunday CE & Creche
DESCRIPTION:
URL:https://trinityboardmills.org/event/sundayce/2027-02-28/
LOCATION:Kerr Room
CATEGORIES:Children
ATTACH;FMTTYPE=image/jpeg:https://trinityboardmills.org/wp-content/uploads/2022/11/SundayCEEV.jpg
END:VEVENT
END:VCALENDAR