BEGIN:VCALENDAR
VERSION:2.0
PRODID:-//Trinity Presbyterian - ECPv6.15.20//NONSGML v1.0//EN
CALSCALE:GREGORIAN
METHOD:PUBLISH
X-ORIGINAL-URL:https://trinityboardmills.org
X-WR-CALDESC:Events for Trinity Presbyterian
REFRESH-INTERVAL;VALUE=DURATION:PT1H
X-Robots-Tag:noindex
X-PUBLISHED-TTL:PT1H
BEGIN:VTIMEZONE
TZID:UTC
BEGIN:STANDARD
TZOFFSETFROM:+0000
TZOFFSETTO:+0000
TZNAME:UTC
DTSTART:20220101T000000
END:STANDARD
END:VTIMEZONE
BEGIN:VEVENT
DTSTART;TZID=UTC:20230118T193000
DTEND;TZID=UTC:20230118T210000
DTSTAMP:20260424T110648
CREATED:20230117T102812Z
LAST-MODIFIED:20230227T112730Z
UID:10005253-1674070200-1674075600@trinityboardmills.org
SUMMARY:Fellowship Groups (Wed)
DESCRIPTION:This session we will be studying Christianity Explored\, the first and third Wednesday of the month in Killaney Hall.
URL:https://trinityboardmills.org/event/fellowship-groups-wed-2/2023-01-18/
ATTACH;FMTTYPE=image/jpeg:https://trinityboardmills.org/wp-content/uploads/2022/11/FellowshipGroupEV.jpg
END:VEVENT
BEGIN:VEVENT
DTSTART;TZID=UTC:20230119T193000
DTEND;TZID=UTC:20230119T210000
DTSTAMP:20260424T110648
CREATED:20230117T103001Z
LAST-MODIFIED:20230314T091445Z
UID:10005803-1674156600-1674162000@trinityboardmills.org
SUMMARY:Fellowship Groups (Thu)
DESCRIPTION:This session we will be studying Christianity Explored\, the first and third Thursday of the month at Colin and Trish Foreman’s home. \n  \nThere is also an online ladies group.
URL:https://trinityboardmills.org/event/fellowship-groups-thu-2/2023-01-19/
ATTACH;FMTTYPE=image/jpeg:https://trinityboardmills.org/wp-content/uploads/2022/11/FellowshipGroupsEV.jpg
END:VEVENT
BEGIN:VEVENT
DTSTART;TZID=UTC:20230122T101500
DTEND;TZID=UTC:20230122T110000
DTSTAMP:20260424T110648
CREATED:20221031T111059Z
LAST-MODIFIED:20230606T131505Z
UID:10001335-1674382500-1674385200@trinityboardmills.org
SUMMARY:Breakfast in The Book
DESCRIPTION:
URL:https://trinityboardmills.org/event/breakfast-in-the-book/2023-01-22/
LOCATION:Killaney Hall
CATEGORIES:Youth & Children
ATTACH;FMTTYPE=image/jpeg:https://trinityboardmills.org/wp-content/uploads/2022/11/BreakfastITBEV.jpg
GEO:54.4662977;-5.9128505
END:VEVENT
BEGIN:VEVENT
DTSTART;TZID=UTC:20230122T113000
DTEND;TZID=UTC:20230122T123000
DTSTAMP:20260424T110648
CREATED:20221031T111539Z
LAST-MODIFIED:20241217T123050Z
UID:10002908-1674387000-1674390600@trinityboardmills.org
SUMMARY:Morning Worship
DESCRIPTION:
URL:https://trinityboardmills.org/event/morning-service/2023-01-22/
LOCATION:Church Building\, BT27 6UP\, United Kingdom
CATEGORIES:Sunday
ATTACH;FMTTYPE=image/jpeg:https://trinityboardmills.org/wp-content/uploads/2022/11/SundayEV.jpg
GEO:54.466933365694;-5.9199475846608
END:VEVENT
BEGIN:VEVENT
DTSTART;TZID=UTC:20230122T114500
DTEND;TZID=UTC:20230122T123000
DTSTAMP:20260424T110648
CREATED:20221031T111350Z
LAST-MODIFIED:20241217T123139Z
UID:10007325-1674387900-1674390600@trinityboardmills.org
SUMMARY:Sunday CE & Creche
DESCRIPTION:
URL:https://trinityboardmills.org/event/sundayce/2023-01-22/
LOCATION:Kerr Room
CATEGORIES:Children
ATTACH;FMTTYPE=image/jpeg:https://trinityboardmills.org/wp-content/uploads/2022/11/SundayCEEV.jpg
END:VEVENT
END:VCALENDAR