BEGIN:VCALENDAR
VERSION:2.0
PRODID:-//Trinity Presbyterian - ECPv6.15.20//NONSGML v1.0//EN
CALSCALE:GREGORIAN
METHOD:PUBLISH
X-WR-CALNAME:Trinity Presbyterian
X-ORIGINAL-URL:https://trinityboardmills.org
X-WR-CALDESC:Events for Trinity Presbyterian
REFRESH-INTERVAL;VALUE=DURATION:PT1H
X-Robots-Tag:noindex
X-PUBLISHED-TTL:PT1H
BEGIN:VTIMEZONE
TZID:UTC
BEGIN:STANDARD
TZOFFSETFROM:+0000
TZOFFSETTO:+0000
TZNAME:UTC
DTSTART:20220101T000000
END:STANDARD
END:VTIMEZONE
BEGIN:VEVENT
DTSTART;TZID=UTC:20231127T180000
DTEND;TZID=UTC:20231127T191500
DTSTAMP:20260420T220226
CREATED:20230905T135001Z
LAST-MODIFIED:20240319T105153Z
UID:10007629-1701108000-1701112500@trinityboardmills.org
SUMMARY:BB Anchor Boys
DESCRIPTION:
URL:https://trinityboardmills.org/event/bb-anchor-boys-2/2023-11-27/
LOCATION:Killaney Hall
CATEGORIES:BB Featured,Youth & Children
ATTACH;FMTTYPE=image/jpeg:https://trinityboardmills.org/wp-content/uploads/2022/11/BBExpEV.jpg
GEO:54.4662977;-5.9128505
END:VEVENT
BEGIN:VEVENT
DTSTART;TZID=UTC:20231127T180000
DTEND;TZID=UTC:20231127T191500
DTSTAMP:20260420T220226
CREATED:20230905T135315Z
LAST-MODIFIED:20240319T105601Z
UID:10008407-1701108000-1701112500@trinityboardmills.org
SUMMARY:GB Explorers
DESCRIPTION:
URL:https://trinityboardmills.org/event/gb-explorers-2/2023-11-27/
LOCATION:McKee Hall\, BT27 6UP\, United Kingdom
CATEGORIES:GB Featured,Youth & Children
ATTACH;FMTTYPE=image/jpeg:https://trinityboardmills.org/wp-content/uploads/2022/11/GBJuniorEV.jpg
GEO:54.466933365694;-5.9199475846608
END:VEVENT
BEGIN:VEVENT
DTSTART;TZID=UTC:20231127T190000
DTEND;TZID=UTC:20231127T203000
DTSTAMP:20260420T220226
CREATED:20230905T135123Z
LAST-MODIFIED:20240319T105243Z
UID:10008148-1701111600-1701117000@trinityboardmills.org
SUMMARY:BB Junior Section
DESCRIPTION:
URL:https://trinityboardmills.org/event/bb-junior-section-2/2023-11-27/
LOCATION:Killaney Hall
CATEGORIES:BB Featured,Youth & Children
ATTACH;FMTTYPE=image/jpeg:https://trinityboardmills.org/wp-content/uploads/2022/11/BBSQEV.jpg
GEO:54.4662977;-5.9128505
END:VEVENT
BEGIN:VEVENT
DTSTART;TZID=UTC:20231127T191500
DTEND;TZID=UTC:20231127T204500
DTSTAMP:20260420T220226
CREATED:20230905T142731Z
LAST-MODIFIED:20240319T105629Z
UID:10008923-1701112500-1701117900@trinityboardmills.org
SUMMARY:GB Juniors + Company Section
DESCRIPTION:
URL:https://trinityboardmills.org/event/gb-company-section-2/2023-11-27/
LOCATION:McKee Hall\, BT27 6UP\, United Kingdom
CATEGORIES:GB Featured,Youth & Children
ATTACH;FMTTYPE=image/jpeg:https://trinityboardmills.org/wp-content/uploads/2022/11/GBCompEV.jpg
GEO:54.466933365694;-5.9199475846608
END:VEVENT
BEGIN:VEVENT
DTSTART;TZID=UTC:20231127T191500
DTEND;TZID=UTC:20231127T210000
DTSTAMP:20260420T220226
CREATED:20230905T135426Z
LAST-MODIFIED:20240319T105454Z
UID:10007888-1701112500-1701118800@trinityboardmills.org
SUMMARY:BB Company Section
DESCRIPTION:
URL:https://trinityboardmills.org/event/bb-company-section-2/2023-11-27/
LOCATION:Killaney Hall
CATEGORIES:BB Featured,Youth & Children
ATTACH;FMTTYPE=image/jpeg:https://trinityboardmills.org/wp-content/uploads/2022/10/BBCompanyEV.jpg
GEO:54.4662977;-5.9128505
END:VEVENT
BEGIN:VEVENT
DTSTART;TZID=UTC:20231128T193000
DTEND;TZID=UTC:20231128T213000
DTSTAMP:20260420T220226
CREATED:20230905T143817Z
LAST-MODIFIED:20240410T181053Z
UID:10008664-1701199800-1701207000@trinityboardmills.org
SUMMARY:Bowling Club
DESCRIPTION:
URL:https://trinityboardmills.org/event/mixed-bowls-3/2023-11-28/
LOCATION:McKee Hall\, BT27 6UP\, United Kingdom
CATEGORIES:Adults
ATTACH;FMTTYPE=image/jpeg:https://trinityboardmills.org/wp-content/uploads/2022/11/MixedBowlsEV.jpg
GEO:54.466933365694;-5.9199475846608
END:VEVENT
BEGIN:VEVENT
DTSTART;TZID=UTC:20231129T193000
DTEND;TZID=UTC:20231129T203000
DTSTAMP:20260420T220226
CREATED:20230918T083025Z
LAST-MODIFIED:20230918T084200Z
UID:10005746-1701286200-1701289800@trinityboardmills.org
SUMMARY:Midweek
DESCRIPTION:
URL:https://trinityboardmills.org/event/midweek-3-2/2023-11-29/
CATEGORIES:Midweek Featured
ATTACH;FMTTYPE=image/jpeg:https://trinityboardmills.org/wp-content/uploads/2022/11/MidweekEV.jpg
END:VEVENT
BEGIN:VEVENT
DTSTART;TZID=UTC:20231202T183000
DTEND;TZID=UTC:20231202T200000
DTSTAMP:20260420T220226
CREATED:20230825T093938Z
LAST-MODIFIED:20240520T082649Z
UID:10007211-1701541800-1701547200@trinityboardmills.org
SUMMARY:Pulse Junior
DESCRIPTION:
URL:https://trinityboardmills.org/event/pulse-junior-2-2-2/2023-12-02/
LOCATION:Killaney Hall
CATEGORIES:Pulse Featured
ATTACH;FMTTYPE=image/jpeg:https://trinityboardmills.org/wp-content/uploads/2022/11/Pulse-web-2.jpg
GEO:54.4662977;-5.9128505
END:VEVENT
BEGIN:VEVENT
DTSTART;TZID=UTC:20231203T113000
DTEND;TZID=UTC:20231203T123000
DTSTAMP:20260420T220226
CREATED:20221031T111539Z
LAST-MODIFIED:20241217T123050Z
UID:10002953-1701603000-1701606600@trinityboardmills.org
SUMMARY:Morning Worship
DESCRIPTION:
URL:https://trinityboardmills.org/event/morning-service/2023-12-03/
LOCATION:Church Building\, BT27 6UP\, United Kingdom
CATEGORIES:Sunday
ATTACH;FMTTYPE=image/jpeg:https://trinityboardmills.org/wp-content/uploads/2022/11/SundayEV.jpg
GEO:54.466933365694;-5.9199475846608
END:VEVENT
BEGIN:VEVENT
DTSTART;TZID=UTC:20231203T114500
DTEND;TZID=UTC:20231203T123000
DTSTAMP:20260420T220226
CREATED:20221031T111350Z
LAST-MODIFIED:20241217T123139Z
UID:10007370-1701603900-1701606600@trinityboardmills.org
SUMMARY:Sunday CE & Creche
DESCRIPTION:
URL:https://trinityboardmills.org/event/sundayce/2023-12-03/
LOCATION:Kerr Room
CATEGORIES:Children
ATTACH;FMTTYPE=image/jpeg:https://trinityboardmills.org/wp-content/uploads/2022/11/SundayCEEV.jpg
END:VEVENT
BEGIN:VEVENT
DTSTART;TZID=UTC:20231203T183000
DTEND;TZID=UTC:20231203T191500
DTSTAMP:20260420T220226
CREATED:20221031T111652Z
LAST-MODIFIED:20240630T125727Z
UID:10009187-1701628200-1701630900@trinityboardmills.org
SUMMARY:Evening Service
DESCRIPTION:
URL:https://trinityboardmills.org/event/evening-service/2023-12-03/
LOCATION:Church Building\, BT27 6UP\, United Kingdom
CATEGORIES:Sunday
ATTACH;FMTTYPE=image/jpeg:https://trinityboardmills.org/wp-content/uploads/2022/11/EveningServiceEV.jpg
GEO:54.466933365694;-5.9199475846608
END:VEVENT
END:VCALENDAR