BEGIN:VCALENDAR
VERSION:2.0
PRODID:-//Trinity Presbyterian - ECPv6.15.20//NONSGML v1.0//EN
CALSCALE:GREGORIAN
METHOD:PUBLISH
X-WR-CALNAME:Trinity Presbyterian
X-ORIGINAL-URL:https://trinityboardmills.org
X-WR-CALDESC:Events for Trinity Presbyterian
REFRESH-INTERVAL;VALUE=DURATION:PT1H
X-Robots-Tag:noindex
X-PUBLISHED-TTL:PT1H
BEGIN:VTIMEZONE
TZID:UTC
BEGIN:STANDARD
TZOFFSETFROM:+0000
TZOFFSETTO:+0000
TZNAME:UTC
DTSTART:20230101T000000
END:STANDARD
END:VTIMEZONE
BEGIN:VEVENT
DTSTART;TZID=UTC:20240701T190000
DTEND;TZID=UTC:20240701T200000
DTSTAMP:20260420T171852
CREATED:20240630T132127Z
LAST-MODIFIED:20240630T132127Z
UID:10010885-1719860400-1719864000@trinityboardmills.org
SUMMARY:Summer Walking Group
DESCRIPTION:This is open to all and it will be happening on every Monday evening throughout July and should take around 50mins / an hour. Set your own pace of course – and do as much or as little as you wish. Come along\, enjoy the walk and the chat!
URL:https://trinityboardmills.org/event/summer-walking-group/2024-07-01/
LOCATION:McKee Hall\, BT27 6UP\, United Kingdom
GEO:54.466933365694;-5.9199475846608
END:VEVENT
BEGIN:VEVENT
DTSTART;TZID=UTC:20240707T113000
DTEND;TZID=UTC:20240707T123000
DTSTAMP:20260420T171852
CREATED:20221031T111539Z
LAST-MODIFIED:20241217T123050Z
UID:10002984-1720351800-1720355400@trinityboardmills.org
SUMMARY:Morning Worship
DESCRIPTION:
URL:https://trinityboardmills.org/event/morning-service/2024-07-07/
LOCATION:Church Building\, BT27 6UP\, United Kingdom
CATEGORIES:Sunday
ATTACH;FMTTYPE=image/jpeg:https://trinityboardmills.org/wp-content/uploads/2022/11/SundayEV.jpg
GEO:54.466933365694;-5.9199475846608
END:VEVENT
BEGIN:VEVENT
DTSTART;TZID=UTC:20240707T114500
DTEND;TZID=UTC:20240707T123000
DTSTAMP:20260420T171852
CREATED:20221031T111350Z
LAST-MODIFIED:20241217T123139Z
UID:10007401-1720352700-1720355400@trinityboardmills.org
SUMMARY:Sunday CE & Creche
DESCRIPTION:
URL:https://trinityboardmills.org/event/sundayce/2024-07-07/
LOCATION:Kerr Room
CATEGORIES:Children
ATTACH;FMTTYPE=image/jpeg:https://trinityboardmills.org/wp-content/uploads/2022/11/SundayCEEV.jpg
END:VEVENT
END:VCALENDAR