BEGIN:VCALENDAR
VERSION:2.0
PRODID:-//Trinity Presbyterian - ECPv6.15.20//NONSGML v1.0//EN
CALSCALE:GREGORIAN
METHOD:PUBLISH
X-ORIGINAL-URL:https://trinityboardmills.org
X-WR-CALDESC:Events for Trinity Presbyterian
REFRESH-INTERVAL;VALUE=DURATION:PT1H
X-Robots-Tag:noindex
X-PUBLISHED-TTL:PT1H
BEGIN:VTIMEZONE
TZID:UTC
BEGIN:STANDARD
TZOFFSETFROM:+0000
TZOFFSETTO:+0000
TZNAME:UTC
DTSTART:20240101T000000
END:STANDARD
END:VTIMEZONE
BEGIN:VEVENT
DTSTART;TZID=UTC:20250217T100000
DTEND;TZID=UTC:20250217T111500
DTSTAMP:20260421T044828
CREATED:20241211T083050Z
LAST-MODIFIED:20250820T094703Z
UID:10017037-1739786400-1739790900@trinityboardmills.org
SUMMARY:Trinity Tots
DESCRIPTION:
URL:https://trinityboardmills.org/event/trinity-tots-2-2-2/2025-02-17/
LOCATION:Killaney Hall
CATEGORIES:Trinity Tots Featured
ATTACH;FMTTYPE=image/jpeg:https://trinityboardmills.org/wp-content/uploads/2022/11/CrecheEV.jpg
GEO:54.4662977;-5.9128505
END:VEVENT
BEGIN:VEVENT
DTSTART;TZID=UTC:20250217T180000
DTEND;TZID=UTC:20250217T190000
DTSTAMP:20260421T044828
CREATED:20240903T132710Z
LAST-MODIFIED:20250217T125306Z
UID:10012510-1739815200-1739818800@trinityboardmills.org
SUMMARY:GB Explorers
DESCRIPTION:
URL:https://trinityboardmills.org/event/gb-explorers-2-2/2025-02-17/
LOCATION:McKee Hall\, BT27 6UP\, United Kingdom
CATEGORIES:GB Featured,Youth & Children
ATTACH;FMTTYPE=image/jpeg:https://trinityboardmills.org/wp-content/uploads/2022/11/GBJuniorEV.jpg
GEO:54.466933365694;-5.9199475846608
END:VEVENT
BEGIN:VEVENT
DTSTART;TZID=UTC:20250217T180000
DTEND;TZID=UTC:20250217T191500
DTSTAMP:20260421T044828
CREATED:20240903T131246Z
LAST-MODIFIED:20250217T125042Z
UID:10011187-1739815200-1739819700@trinityboardmills.org
SUMMARY:BB Anchor Boys
DESCRIPTION:
URL:https://trinityboardmills.org/event/bb-anchor-boys-2-2/2025-02-17/
LOCATION:Killaney Hall
CATEGORIES:BB Featured,Youth & Children
ATTACH;FMTTYPE=image/jpeg:https://trinityboardmills.org/wp-content/uploads/2022/11/BBExpEV.jpg
GEO:54.4662977;-5.9128505
END:VEVENT
BEGIN:VEVENT
DTSTART;TZID=UTC:20250217T190000
DTEND;TZID=UTC:20250217T203000
DTSTAMP:20260421T044828
CREATED:20240903T131641Z
LAST-MODIFIED:20250217T125134Z
UID:10011705-1739818800-1739824200@trinityboardmills.org
SUMMARY:BB Junior Section
DESCRIPTION:
URL:https://trinityboardmills.org/event/bb-junior-section-2-2/2025-02-17/
LOCATION:Killaney Hall
CATEGORIES:BB Featured,Youth & Children
ATTACH;FMTTYPE=image/jpeg:https://trinityboardmills.org/wp-content/uploads/2022/11/BBSQEV.jpg
GEO:54.4662977;-5.9128505
END:VEVENT
BEGIN:VEVENT
DTSTART;TZID=UTC:20250217T191500
DTEND;TZID=UTC:20250217T203000
DTSTAMP:20260421T044828
CREATED:20240903T132339Z
LAST-MODIFIED:20260208T221141Z
UID:10012251-1739819700-1739824200@trinityboardmills.org
SUMMARY:GB Junior Section
DESCRIPTION:
URL:https://trinityboardmills.org/event/gb-junior-section/2025-02-17/
LOCATION:McKee Hall\, BT27 6UP\, United Kingdom
CATEGORIES:GB Featured,Youth & Children
ATTACH;FMTTYPE=image/jpeg:https://trinityboardmills.org/wp-content/uploads/2022/11/GBCompEV.jpg
GEO:54.466933365694;-5.9199475846608
END:VEVENT
BEGIN:VEVENT
DTSTART;TZID=UTC:20250217T191500
DTEND;TZID=UTC:20250217T204500
DTSTAMP:20260421T044828
CREATED:20240903T132207Z
LAST-MODIFIED:20250217T125436Z
UID:10011991-1739819700-1739825100@trinityboardmills.org
SUMMARY:GB Company Section
DESCRIPTION:
URL:https://trinityboardmills.org/event/gb-company-section-2-2/2025-02-17/
LOCATION:McKee Hall\, BT27 6UP\, United Kingdom
CATEGORIES:GB Featured,Youth & Children
ATTACH;FMTTYPE=image/jpeg:https://trinityboardmills.org/wp-content/uploads/2022/11/GBCompEV.jpg
GEO:54.466933365694;-5.9199475846608
END:VEVENT
BEGIN:VEVENT
DTSTART;TZID=UTC:20250217T191500
DTEND;TZID=UTC:20250217T210000
DTSTAMP:20260421T044828
CREATED:20240903T131449Z
LAST-MODIFIED:20250217T125159Z
UID:10011446-1739819700-1739826000@trinityboardmills.org
SUMMARY:BB Company Section
DESCRIPTION:
URL:https://trinityboardmills.org/event/bb-company-section-2-2/2025-02-17/
LOCATION:Killaney Hall
CATEGORIES:BB Featured,Youth & Children
ATTACH;FMTTYPE=image/jpeg:https://trinityboardmills.org/wp-content/uploads/2022/10/BBCompanyEV.jpg
GEO:54.4662977;-5.9128505
END:VEVENT
BEGIN:VEVENT
DTSTART;TZID=UTC:20250218T193000
DTEND;TZID=UTC:20250218T213000
DTSTAMP:20260421T044828
CREATED:20240904T140649Z
LAST-MODIFIED:20250331T084646Z
UID:10013451-1739907000-1739914200@trinityboardmills.org
SUMMARY:Bowling Club
DESCRIPTION:
URL:https://trinityboardmills.org/event/mixed-bowls-3-2/2025-02-18/
LOCATION:McKee Hall\, BT27 6UP\, United Kingdom
CATEGORIES:Adults
ATTACH;FMTTYPE=image/jpeg:https://trinityboardmills.org/wp-content/uploads/2022/11/MixedBowlsEV.jpg
GEO:54.466933365694;-5.9199475846608
END:VEVENT
BEGIN:VEVENT
DTSTART;TZID=UTC:20250220T103000
DTEND;TZID=UTC:20250220T113000
DTSTAMP:20260421T044828
CREATED:20230911T123435Z
LAST-MODIFIED:20260326T081458Z
UID:10017886-1740047400-1740051000@trinityboardmills.org
SUMMARY:Ladies Bible Study
DESCRIPTION:
URL:https://trinityboardmills.org/event/ladies-bible-study-2/2025-02-20/
LOCATION:Killaney Hall
CATEGORIES:Adults,Ladies
ATTACH;FMTTYPE=image/jpeg:https://trinityboardmills.org/wp-content/uploads/2022/11/LadiesBibleStudyEV.jpg
GEO:54.4662977;-5.9128505
END:VEVENT
BEGIN:VEVENT
DTSTART;TZID=UTC:20250223T113000
DTEND;TZID=UTC:20250223T123000
DTSTAMP:20260421T044828
CREATED:20221031T111539Z
LAST-MODIFIED:20241217T123050Z
UID:10003017-1740310200-1740313800@trinityboardmills.org
SUMMARY:Morning Worship
DESCRIPTION:
URL:https://trinityboardmills.org/event/morning-service/2025-02-23/
LOCATION:Church Building\, BT27 6UP\, United Kingdom
CATEGORIES:Sunday
ATTACH;FMTTYPE=image/jpeg:https://trinityboardmills.org/wp-content/uploads/2022/11/SundayEV.jpg
GEO:54.466933365694;-5.9199475846608
END:VEVENT
BEGIN:VEVENT
DTSTART;TZID=UTC:20250223T114500
DTEND;TZID=UTC:20250223T123000
DTSTAMP:20260421T044828
CREATED:20221031T111350Z
LAST-MODIFIED:20241217T123139Z
UID:10007434-1740311100-1740313800@trinityboardmills.org
SUMMARY:Sunday CE & Creche
DESCRIPTION:
URL:https://trinityboardmills.org/event/sundayce/2025-02-23/
LOCATION:Kerr Room
CATEGORIES:Children
ATTACH;FMTTYPE=image/jpeg:https://trinityboardmills.org/wp-content/uploads/2022/11/SundayCEEV.jpg
END:VEVENT
BEGIN:VEVENT
DTSTART;TZID=UTC:20250223T183000
DTEND;TZID=UTC:20250223T191500
DTSTAMP:20260421T044828
CREATED:20240903T080905Z
LAST-MODIFIED:20260405T092003Z
UID:10018923-1740335400-1740338100@trinityboardmills.org
SUMMARY:Evening Service
DESCRIPTION:
URL:https://trinityboardmills.org/event/evening-service-2/2025-02-23/
LOCATION:Church Building\, BT27 6UP\, United Kingdom
CATEGORIES:Sunday
ATTACH;FMTTYPE=image/jpeg:https://trinityboardmills.org/wp-content/uploads/2022/11/EveningServiceEV.jpg
GEO:54.466933365694;-5.9199475846608
END:VEVENT
END:VCALENDAR