BEGIN:VCALENDAR
VERSION:2.0
PRODID:-//Trinity Presbyterian - ECPv6.15.20//NONSGML v1.0//EN
CALSCALE:GREGORIAN
METHOD:PUBLISH
X-ORIGINAL-URL:https://trinityboardmills.org
X-WR-CALDESC:Events for Trinity Presbyterian
REFRESH-INTERVAL;VALUE=DURATION:PT1H
X-Robots-Tag:noindex
X-PUBLISHED-TTL:PT1H
BEGIN:VTIMEZONE
TZID:UTC
BEGIN:STANDARD
TZOFFSETFROM:+0000
TZOFFSETTO:+0000
TZNAME:UTC
DTSTART:20240101T000000
END:STANDARD
END:VTIMEZONE
BEGIN:VEVENT
DTSTART;TZID=UTC:20251020T100000
DTEND;TZID=UTC:20251020T111500
DTSTAMP:20260420T035302
CREATED:20250820T095000Z
LAST-MODIFIED:20251201T113833Z
UID:10014659-1760954400-1760958900@trinityboardmills.org
SUMMARY:Trinity Tots
DESCRIPTION:
URL:https://trinityboardmills.org/event/trinity-tots-2-2-2-2/2025-10-20/
LOCATION:Killaney Hall
CATEGORIES:Trinity Tots Featured
ATTACH;FMTTYPE=image/jpeg:https://trinityboardmills.org/wp-content/uploads/2022/11/CrecheEV.jpg
GEO:54.4662977;-5.9128505
END:VEVENT
BEGIN:VEVENT
DTSTART;TZID=UTC:20251020T180000
DTEND;TZID=UTC:20251020T191500
DTSTAMP:20260420T035302
CREATED:20250820T083650Z
LAST-MODIFIED:20260316T184356Z
UID:10015418-1760983200-1760987700@trinityboardmills.org
SUMMARY:BB Anchor Boys
DESCRIPTION:
URL:https://trinityboardmills.org/event/bb-anchor-boys-2-2-2/2025-10-20/
LOCATION:Killaney Hall
CATEGORIES:BB Featured,Youth & Children
ATTACH;FMTTYPE=image/jpeg:https://trinityboardmills.org/wp-content/uploads/2022/11/BBExpEV.jpg
GEO:54.4662977;-5.9128505
END:VEVENT
BEGIN:VEVENT
DTSTART;TZID=UTC:20251020T180000
DTEND;TZID=UTC:20251020T191500
DTSTAMP:20260420T035302
CREATED:20250820T091546Z
LAST-MODIFIED:20260316T184207Z
UID:10016265-1760983200-1760987700@trinityboardmills.org
SUMMARY:GB Explorers
DESCRIPTION:
URL:https://trinityboardmills.org/event/gb-explorers-2-2-2/2025-10-20/
LOCATION:McKee Hall\, BT27 6UP\, United Kingdom
CATEGORIES:GB Featured,Youth & Children
ATTACH;FMTTYPE=image/jpeg:https://trinityboardmills.org/wp-content/uploads/2022/11/GBJuniorEV.jpg
GEO:54.466933365694;-5.9199475846608
END:VEVENT
BEGIN:VEVENT
DTSTART;TZID=UTC:20251020T190000
DTEND;TZID=UTC:20251020T203000
DTSTAMP:20260420T035302
CREATED:20250820T083746Z
LAST-MODIFIED:20260316T184325Z
UID:10015932-1760986800-1760992200@trinityboardmills.org
SUMMARY:BB Junior Section
DESCRIPTION:
URL:https://trinityboardmills.org/event/bb-junior-section-2-2-2/2025-10-20/
LOCATION:Killaney Hall
CATEGORIES:BB Featured,Youth & Children
ATTACH;FMTTYPE=image/jpeg:https://trinityboardmills.org/wp-content/uploads/2022/11/BBSQEV.jpg
GEO:54.4662977;-5.9128505
END:VEVENT
BEGIN:VEVENT
DTSTART;TZID=UTC:20251020T191500
DTEND;TZID=UTC:20251020T203000
DTSTAMP:20260420T035302
CREATED:20250820T092414Z
LAST-MODIFIED:20260316T184139Z
UID:10016522-1760987700-1760992200@trinityboardmills.org
SUMMARY:GB Junior Section
DESCRIPTION:
URL:https://trinityboardmills.org/event/gb-junior-section-2/2025-10-20/
LOCATION:McKee Hall\, BT27 6UP\, United Kingdom
CATEGORIES:GB Featured,Youth & Children
ATTACH;FMTTYPE=image/jpeg:https://trinityboardmills.org/wp-content/uploads/2022/11/GBCompEV.jpg
GEO:54.466933365694;-5.9199475846608
END:VEVENT
BEGIN:VEVENT
DTSTART;TZID=UTC:20251020T191500
DTEND;TZID=UTC:20251020T204500
DTSTAMP:20260420T035302
CREATED:20250820T092749Z
LAST-MODIFIED:20260316T184050Z
UID:10016779-1760987700-1760993100@trinityboardmills.org
SUMMARY:GB Company Section
DESCRIPTION:
URL:https://trinityboardmills.org/event/gb-company-section-2-2-2/2025-10-20/
LOCATION:McKee Hall\, BT27 6UP\, United Kingdom
CATEGORIES:GB Featured,Youth & Children
ATTACH;FMTTYPE=image/jpeg:https://trinityboardmills.org/wp-content/uploads/2022/11/GBCompEV.jpg
GEO:54.466933365694;-5.9199475846608
END:VEVENT
BEGIN:VEVENT
DTSTART;TZID=UTC:20251020T191500
DTEND;TZID=UTC:20251020T210000
DTSTAMP:20260420T035302
CREATED:20250820T083950Z
LAST-MODIFIED:20260316T184255Z
UID:10015675-1760987700-1760994000@trinityboardmills.org
SUMMARY:BB Company Section
DESCRIPTION:
URL:https://trinityboardmills.org/event/bb-company-section-2-2-2/2025-10-20/
LOCATION:Killaney Hall
CATEGORIES:BB Featured,Youth & Children
ATTACH;FMTTYPE=image/jpeg:https://trinityboardmills.org/wp-content/uploads/2022/10/BBCompanyEV.jpg
GEO:54.4662977;-5.9128505
END:VEVENT
BEGIN:VEVENT
DTSTART;TZID=UTC:20251021T193000
DTEND;TZID=UTC:20251021T213000
DTSTAMP:20260420T035302
CREATED:20250820T095711Z
LAST-MODIFIED:20260326T092906Z
UID:10017195-1761075000-1761082200@trinityboardmills.org
SUMMARY:Bowling Club
DESCRIPTION:
URL:https://trinityboardmills.org/event/mixed-bowls-3-2-2/2025-10-21/
LOCATION:McKee Hall\, BT27 6UP\, United Kingdom
CATEGORIES:Adults
ATTACH;FMTTYPE=image/jpeg:https://trinityboardmills.org/wp-content/uploads/2022/11/MixedBowlsEV.jpg
GEO:54.466933365694;-5.9199475846608
END:VEVENT
BEGIN:VEVENT
DTSTART;TZID=UTC:20251022T193000
DTEND;TZID=UTC:20251022T203000
DTSTAMP:20260420T035302
CREATED:20250407T073313Z
LAST-MODIFIED:20251201T181414Z
UID:10017449-1761161400-1761165000@trinityboardmills.org
SUMMARY:Prayer Meeting
DESCRIPTION:Join with us as we pray with the firm expectation that God will move in and through us by His Spirit.
URL:https://trinityboardmills.org/event/prayer-meeting-2/2025-10-22/
LOCATION:Church Building\, BT27 6UP\, United Kingdom
CATEGORIES:Adults
ATTACH;FMTTYPE=image/jpeg:https://trinityboardmills.org/wp-content/uploads/2024/06/Prayer-reduced.jpg
GEO:54.466933365694;-5.9199475846608
END:VEVENT
BEGIN:VEVENT
DTSTART;TZID=UTC:20251024T180000
DTEND;TZID=UTC:20251024T193000
DTSTAMP:20260420T035302
CREATED:20231009T100403Z
LAST-MODIFIED:20251009T111938Z
UID:10009730-1761328800-1761334200@trinityboardmills.org
SUMMARY:Light Party
DESCRIPTION:Our annual Light Party is back this year!! We would love for you and your family to join us on Friday 24th October from 6pm – 7.30pm at Killaney Hall and Football Pitch. This is sure to be a great night for all the family with indoor crafts and games for little ones as well as fireworks\, entertainment and food for all ages. \nFor catering purposes we ask that you complete the registration form below: \nCLICK HERE Light Party 2025 Registration Form \nWe would love to see you and your family at this special event and hope you can join us. \nIf you have any queries\, please feel free to get in touch.
URL:https://trinityboardmills.org/event/light-party/
LOCATION:Killaney Hall
CATEGORIES:Featured
ATTACH;FMTTYPE=image/jpeg:https://trinityboardmills.org/wp-content/uploads/2022/11/LightshowBanner.jpg
GEO:54.4662977;-5.9128505
END:VEVENT
BEGIN:VEVENT
DTSTART;TZID=UTC:20251026T113000
DTEND;TZID=UTC:20251026T123000
DTSTAMP:20260420T035302
CREATED:20221031T111539Z
LAST-MODIFIED:20241217T123050Z
UID:10003052-1761478200-1761481800@trinityboardmills.org
SUMMARY:Morning Worship
DESCRIPTION:
URL:https://trinityboardmills.org/event/morning-service/2025-10-26/
LOCATION:Church Building\, BT27 6UP\, United Kingdom
CATEGORIES:Sunday
ATTACH;FMTTYPE=image/jpeg:https://trinityboardmills.org/wp-content/uploads/2022/11/SundayEV.jpg
GEO:54.466933365694;-5.9199475846608
END:VEVENT
BEGIN:VEVENT
DTSTART;TZID=UTC:20251026T114500
DTEND;TZID=UTC:20251026T123000
DTSTAMP:20260420T035302
CREATED:20221031T111350Z
LAST-MODIFIED:20241217T123139Z
UID:10007469-1761479100-1761481800@trinityboardmills.org
SUMMARY:Sunday CE & Creche
DESCRIPTION:
URL:https://trinityboardmills.org/event/sundayce/2025-10-26/
LOCATION:Kerr Room
CATEGORIES:Children
ATTACH;FMTTYPE=image/jpeg:https://trinityboardmills.org/wp-content/uploads/2022/11/SundayCEEV.jpg
END:VEVENT
BEGIN:VEVENT
DTSTART;TZID=UTC:20251026T183000
DTEND;TZID=UTC:20251026T191500
DTSTAMP:20260420T035302
CREATED:20240903T080905Z
LAST-MODIFIED:20260405T092003Z
UID:10010964-1761503400-1761506100@trinityboardmills.org
SUMMARY:Evening Service
DESCRIPTION:
URL:https://trinityboardmills.org/event/evening-service-2/2025-10-26/
LOCATION:Church Building\, BT27 6UP\, United Kingdom
CATEGORIES:Sunday
ATTACH;FMTTYPE=image/jpeg:https://trinityboardmills.org/wp-content/uploads/2022/11/EveningServiceEV.jpg
GEO:54.466933365694;-5.9199475846608
END:VEVENT
BEGIN:VEVENT
DTSTART;TZID=UTC:20251026T193000
DTEND;TZID=UTC:20251026T210000
DTSTAMP:20260420T035302
CREATED:20250820T090923Z
LAST-MODIFIED:20250820T090954Z
UID:10016257-1761507000-1761512400@trinityboardmills.org
SUMMARY:Youth Fellowship
DESCRIPTION:
URL:https://trinityboardmills.org/event/youth-fellowship-5-2-2/2025-10-26/
LOCATION:McKee Hall\, BT27 6UP\, United Kingdom
CATEGORIES:YF Featured
ATTACH;FMTTYPE=image/jpeg:https://trinityboardmills.org/wp-content/uploads/2022/11/BreakfastITBEV.jpg
GEO:54.466933365694;-5.9199475846608
END:VEVENT
END:VCALENDAR